BEGIN:VCALENDAR
VERSION:2.0
PRODID:-//Central Christian College - ECPv6.15.20//NONSGML v1.0//EN
CALSCALE:GREGORIAN
METHOD:PUBLISH
X-ORIGINAL-URL:https://centralchristian.edu
X-WR-CALDESC:Events for Central Christian College
REFRESH-INTERVAL;VALUE=DURATION:PT1H
X-Robots-Tag:noindex
X-PUBLISHED-TTL:PT1H
BEGIN:VTIMEZONE
TZID:America/Chicago
BEGIN:DAYLIGHT
TZOFFSETFROM:-0600
TZOFFSETTO:-0500
TZNAME:CDT
DTSTART:20220313T080000
END:DAYLIGHT
BEGIN:STANDARD
TZOFFSETFROM:-0500
TZOFFSETTO:-0600
TZNAME:CST
DTSTART:20221106T070000
END:STANDARD
BEGIN:DAYLIGHT
TZOFFSETFROM:-0600
TZOFFSETTO:-0500
TZNAME:CDT
DTSTART:20230312T080000
END:DAYLIGHT
BEGIN:STANDARD
TZOFFSETFROM:-0500
TZOFFSETTO:-0600
TZNAME:CST
DTSTART:20231105T070000
END:STANDARD
BEGIN:DAYLIGHT
TZOFFSETFROM:-0600
TZOFFSETTO:-0500
TZNAME:CDT
DTSTART:20240310T080000
END:DAYLIGHT
BEGIN:STANDARD
TZOFFSETFROM:-0500
TZOFFSETTO:-0600
TZNAME:CST
DTSTART:20241103T070000
END:STANDARD
END:VTIMEZONE
BEGIN:VEVENT
DTSTART;TZID=America/Chicago:20230826T170000
DTEND;TZID=America/Chicago:20230826T200000
DTSTAMP:20260424T054349
CREATED:20230804T215329Z
LAST-MODIFIED:20230804T215329Z
UID:8764-1693069200-1693080000@centralchristian.edu
SUMMARY:Women's Volleyball at Manhattan Christian College
DESCRIPTION:Women’s Volleyball at Manhattan Christian College Manhattan\, Kan.
URL:https://centralchristian.edu/event/womens-volleyball-at-manhattan-christian-college/
CATEGORIES:Athletic
END:VEVENT
BEGIN:VEVENT
DTSTART;TZID=America/Chicago:20230826T170000
DTEND;TZID=America/Chicago:20230826T200000
DTSTAMP:20260424T054349
CREATED:20230804T215329Z
LAST-MODIFIED:20230804T215329Z
UID:10915-1693069200-1693080000@centralchristian.edu
SUMMARY:Women's Volleyball at Manhattan Christian College
DESCRIPTION:Women’s Volleyball at Manhattan Christian College Manhattan\, Kan.
URL:https://centralchristian.edu/event/womens-volleyball-at-manhattan-christian-college-3/
CATEGORIES:Athletic
END:VEVENT
BEGIN:VEVENT
DTSTART;VALUE=DATE:20230827
DTEND;VALUE=DATE:20230828
DTSTAMP:20260424T054349
CREATED:20220125T202544Z
LAST-MODIFIED:20220125T202544Z
UID:6248-1693094400-1693180799@centralchristian.edu
SUMMARY:Last Day To Add/Drop A Full Semester And Fall 2 Online Course For Credit
DESCRIPTION:August 27
URL:https://centralchristian.edu/event/last-day-to-add-drop-a-full-semester-and-fall-2-online-course-for-credit-2/
LOCATION:Employment Opportunities
END:VEVENT
BEGIN:VEVENT
DTSTART;VALUE=DATE:20230827
DTEND;VALUE=DATE:20230828
DTSTAMP:20260424T054349
CREATED:20220125T202544Z
LAST-MODIFIED:20220125T202544Z
UID:11171-1693094400-1693180799@centralchristian.edu
SUMMARY:Last Day To Add/Drop A Full Semester And Fall 2 Online Course For Credit
DESCRIPTION:August 27
URL:https://centralchristian.edu/event/last-day-to-add-drop-a-full-semester-and-fall-2-online-course-for-credit-2-2/
LOCATION:Employment Opportunities
END:VEVENT
BEGIN:VEVENT
DTSTART;TZID=America/Chicago:20230828T160000
DTEND;TZID=America/Chicago:20230828T190000
DTSTAMP:20260424T054349
CREATED:20230804T215329Z
LAST-MODIFIED:20230804T215329Z
UID:10916-1693238400-1693249200@centralchristian.edu
SUMMARY:Women's Soccer at Sterling College
DESCRIPTION:Women’s Soccer at Sterling College Sterling\, Kan.
URL:https://centralchristian.edu/event/womens-soccer-at-sterling-college-2/
CATEGORIES:Athletic
END:VEVENT
BEGIN:VEVENT
DTSTART;TZID=America/Chicago:20230828T160000
DTEND;TZID=America/Chicago:20230828T190000
DTSTAMP:20260424T054349
CREATED:20230804T215329Z
LAST-MODIFIED:20230804T215329Z
UID:8765-1693238400-1693249200@centralchristian.edu
SUMMARY:Women's Soccer at Sterling College
DESCRIPTION:Women’s Soccer at Sterling College Sterling\, Kan.
URL:https://centralchristian.edu/event/womens-soccer-at-sterling-college/
CATEGORIES:Athletic
END:VEVENT
BEGIN:VEVENT
DTSTART;TZID=America/Chicago:20230829T080000
DTEND;TZID=America/Chicago:20230829T110000
DTSTAMP:20260424T054349
CREATED:20230804T215329Z
LAST-MODIFIED:20230804T215329Z
UID:10917-1693296000-1693306800@centralchristian.edu
SUMMARY:Women's Golf at Hesston College
DESCRIPTION:Women’s Golf at Hesston College Hesston Golf Course
URL:https://centralchristian.edu/event/womens-golf-at-hesston-college-2/
CATEGORIES:Athletic
END:VEVENT
BEGIN:VEVENT
DTSTART;TZID=America/Chicago:20230829T080000
DTEND;TZID=America/Chicago:20230829T110000
DTSTAMP:20260424T054349
CREATED:20230804T215329Z
LAST-MODIFIED:20230804T215329Z
UID:8766-1693296000-1693306800@centralchristian.edu
SUMMARY:Women's Golf at Hesston College
DESCRIPTION:Women’s Golf at Hesston College Hesston Golf Course
URL:https://centralchristian.edu/event/womens-golf-at-hesston-college/
CATEGORIES:Athletic
END:VEVENT
BEGIN:VEVENT
DTSTART;TZID=America/Chicago:20230829T080000
DTEND;TZID=America/Chicago:20230829T110000
DTSTAMP:20260424T054349
CREATED:20230804T215330Z
LAST-MODIFIED:20230804T215330Z
UID:8767-1693296000-1693306800@centralchristian.edu
SUMMARY:Men's Golf at Hesston College
DESCRIPTION:Men’s Golf at Hesston College Hesston Golf Course
URL:https://centralchristian.edu/event/mens-golf-at-hesston-college/
CATEGORIES:Athletic
END:VEVENT
BEGIN:VEVENT
DTSTART;TZID=America/Chicago:20230829T080000
DTEND;TZID=America/Chicago:20230829T110000
DTSTAMP:20260424T054349
CREATED:20230804T215330Z
LAST-MODIFIED:20230804T215330Z
UID:10918-1693296000-1693306800@centralchristian.edu
SUMMARY:Men's Golf at Hesston College
DESCRIPTION:Men’s Golf at Hesston College Hesston Golf Course
URL:https://centralchristian.edu/event/mens-golf-at-hesston-college-2/
CATEGORIES:Athletic
END:VEVENT
BEGIN:VEVENT
DTSTART;TZID=America/Chicago:20230829T200000
DTEND;TZID=America/Chicago:20230829T230000
DTSTAMP:20260424T054349
CREATED:20230804T215330Z
LAST-MODIFIED:20230804T215330Z
UID:8768-1693339200-1693350000@centralchristian.edu
SUMMARY:Reserve Team - Men's Soccer at Kansas Wesleyan University
DESCRIPTION:Reserve Team – Men’s Soccer at Kansas Wesleyan University Salina\, KS
URL:https://centralchristian.edu/event/reserve-team-mens-soccer-at-kansas-wesleyan-university/
CATEGORIES:Athletic
END:VEVENT
BEGIN:VEVENT
DTSTART;TZID=America/Chicago:20230829T200000
DTEND;TZID=America/Chicago:20230829T230000
DTSTAMP:20260424T054349
CREATED:20230804T215330Z
LAST-MODIFIED:20230804T215330Z
UID:10919-1693339200-1693350000@centralchristian.edu
SUMMARY:Reserve Team - Men's Soccer at Kansas Wesleyan University
DESCRIPTION:Reserve Team – Men’s Soccer at Kansas Wesleyan University Salina\, KS
URL:https://centralchristian.edu/event/reserve-team-mens-soccer-at-kansas-wesleyan-university-2/
CATEGORIES:Athletic
END:VEVENT
BEGIN:VEVENT
DTSTART;TZID=America/Chicago:20230830T150000
DTEND;TZID=America/Chicago:20230830T180000
DTSTAMP:20260424T054349
CREATED:20230804T215528Z
LAST-MODIFIED:20230804T215528Z
UID:8769-1693407600-1693418400@centralchristian.edu
SUMMARY:Women's Volleyball vs BAKER UNIVERSITY
DESCRIPTION:Women’s Volleyball vs BAKER UNIVERSITY McPherson\, Kan.
URL:https://centralchristian.edu/event/womens-volleyball-vs-baker-university/
CATEGORIES:Athletic
END:VEVENT
BEGIN:VEVENT
DTSTART;TZID=America/Chicago:20230830T150000
DTEND;TZID=America/Chicago:20230830T180000
DTSTAMP:20260424T054349
CREATED:20230804T215528Z
LAST-MODIFIED:20230804T215528Z
UID:10920-1693407600-1693418400@centralchristian.edu
SUMMARY:Women's Volleyball vs BAKER UNIVERSITY
DESCRIPTION:Women’s Volleyball vs BAKER UNIVERSITY McPherson\, Kan.
URL:https://centralchristian.edu/event/womens-volleyball-vs-baker-university-2/
CATEGORIES:Athletic
END:VEVENT
BEGIN:VEVENT
DTSTART;TZID=America/Chicago:20230830T173000
DTEND;TZID=America/Chicago:20230830T203000
DTSTAMP:20260424T054349
CREATED:20230804T215529Z
LAST-MODIFIED:20230804T215529Z
UID:10921-1693416600-1693427400@centralchristian.edu
SUMMARY:Women's Soccer at Bethel College
DESCRIPTION:Women’s Soccer at Bethel College Newton\, Kan.
URL:https://centralchristian.edu/event/womens-soccer-at-bethel-college-2/
CATEGORIES:Athletic
END:VEVENT
BEGIN:VEVENT
DTSTART;TZID=America/Chicago:20230830T173000
DTEND;TZID=America/Chicago:20230830T203000
DTSTAMP:20260424T054349
CREATED:20230804T215529Z
LAST-MODIFIED:20230804T215529Z
UID:8770-1693416600-1693427400@centralchristian.edu
SUMMARY:Women's Soccer at Bethel College
DESCRIPTION:Women’s Soccer at Bethel College Newton\, Kan.
URL:https://centralchristian.edu/event/womens-soccer-at-bethel-college/
CATEGORIES:Athletic
END:VEVENT
BEGIN:VEVENT
DTSTART;TZID=America/Chicago:20230830T190000
DTEND;TZID=America/Chicago:20230830T220000
DTSTAMP:20260424T054349
CREATED:20230804T215529Z
LAST-MODIFIED:20230804T215529Z
UID:10922-1693422000-1693432800@centralchristian.edu
SUMMARY:Women's Volleyball vs BETHEL COLLEGE
DESCRIPTION:Women’s Volleyball vs BETHEL COLLEGE McPherson\, Kan.
URL:https://centralchristian.edu/event/womens-volleyball-vs-bethel-college-2-2/
CATEGORIES:Athletic
END:VEVENT
BEGIN:VEVENT
DTSTART;TZID=America/Chicago:20230830T190000
DTEND;TZID=America/Chicago:20230830T220000
DTSTAMP:20260424T054349
CREATED:20230804T215529Z
LAST-MODIFIED:20230804T215529Z
UID:8771-1693422000-1693432800@centralchristian.edu
SUMMARY:Women's Volleyball vs BETHEL COLLEGE
DESCRIPTION:Women’s Volleyball vs BETHEL COLLEGE McPherson\, Kan.
URL:https://centralchristian.edu/event/womens-volleyball-vs-bethel-college-2/
CATEGORIES:Athletic
END:VEVENT
BEGIN:VEVENT
DTSTART;TZID=America/Chicago:20230830T200000
DTEND;TZID=America/Chicago:20230830T230000
DTSTAMP:20260424T054349
CREATED:20230804T215530Z
LAST-MODIFIED:20230804T215530Z
UID:8772-1693425600-1693436400@centralchristian.edu
SUMMARY:Men's Soccer at Bethel College
DESCRIPTION:Men’s Soccer at Bethel College Newton\, KS
URL:https://centralchristian.edu/event/mens-soccer-at-bethel-college/
CATEGORIES:Athletic
END:VEVENT
BEGIN:VEVENT
DTSTART;TZID=America/Chicago:20230830T200000
DTEND;TZID=America/Chicago:20230830T230000
DTSTAMP:20260424T054349
CREATED:20230804T215530Z
LAST-MODIFIED:20230804T215530Z
UID:10923-1693425600-1693436400@centralchristian.edu
SUMMARY:Men's Soccer at Bethel College
DESCRIPTION:Men’s Soccer at Bethel College Newton\, KS
URL:https://centralchristian.edu/event/mens-soccer-at-bethel-college-2/
CATEGORIES:Athletic
END:VEVENT
BEGIN:VEVENT
DTSTART;TZID=America/Chicago:20230831T200000
DTEND;TZID=America/Chicago:20230831T230000
DTSTAMP:20260424T054349
CREATED:20230804T215530Z
LAST-MODIFIED:20230804T215530Z
UID:8773-1693512000-1693522800@centralchristian.edu
SUMMARY:Reserve Team - Men's Soccer vs Tabor College
DESCRIPTION:Reserve Team – Men’s Soccer vs Tabor College CCCK Soccer Field
URL:https://centralchristian.edu/event/reserve-team-mens-soccer-vs-tabor-college/
CATEGORIES:Athletic
END:VEVENT
BEGIN:VEVENT
DTSTART;TZID=America/Chicago:20230831T200000
DTEND;TZID=America/Chicago:20230831T230000
DTSTAMP:20260424T054349
CREATED:20230804T215530Z
LAST-MODIFIED:20230804T215530Z
UID:10924-1693512000-1693522800@centralchristian.edu
SUMMARY:Reserve Team - Men's Soccer vs Tabor College
DESCRIPTION:Reserve Team – Men’s Soccer vs Tabor College CCCK Soccer Field
URL:https://centralchristian.edu/event/reserve-team-mens-soccer-vs-tabor-college-2/
CATEGORIES:Athletic
END:VEVENT
BEGIN:VEVENT
DTSTART;TZID=America/Chicago:20230901T190000
DTEND;TZID=America/Chicago:20230901T220000
DTSTAMP:20260424T054349
CREATED:20230804T215629Z
LAST-MODIFIED:20230804T215629Z
UID:8774-1693594800-1693605600@centralchristian.edu
SUMMARY:Women's Volleyball at Southwest Assemblies of God University
DESCRIPTION:Women’s Volleyball at Southwest Assemblies of God University Waxahachie\, Texas
URL:https://centralchristian.edu/event/womens-volleyball-at-southwest-assemblies-of-god-university/
CATEGORIES:Athletic
END:VEVENT
BEGIN:VEVENT
DTSTART;TZID=America/Chicago:20230901T190000
DTEND;TZID=America/Chicago:20230901T220000
DTSTAMP:20260424T054349
CREATED:20230804T215629Z
LAST-MODIFIED:20230804T215629Z
UID:10925-1693594800-1693605600@centralchristian.edu
SUMMARY:Women's Volleyball at Southwest Assemblies of God University
DESCRIPTION:Women’s Volleyball at Southwest Assemblies of God University Waxahachie\, Texas
URL:https://centralchristian.edu/event/womens-volleyball-at-southwest-assemblies-of-god-university-2/
CATEGORIES:Athletic
END:VEVENT
BEGIN:VEVENT
DTSTART;TZID=America/Chicago:20230902T110000
DTEND;TZID=America/Chicago:20230902T140000
DTSTAMP:20260424T054349
CREATED:20230804T215630Z
LAST-MODIFIED:20230804T215630Z
UID:10926-1693652400-1693663200@centralchristian.edu
SUMMARY:Women's Soccer at Ecclesia College
DESCRIPTION:Women’s Soccer at Ecclesia College Springdale\, Ark.
URL:https://centralchristian.edu/event/womens-soccer-at-ecclesia-college-2/
CATEGORIES:Athletic
END:VEVENT
BEGIN:VEVENT
DTSTART;TZID=America/Chicago:20230902T110000
DTEND;TZID=America/Chicago:20230902T140000
DTSTAMP:20260424T054349
CREATED:20230804T215630Z
LAST-MODIFIED:20230804T215630Z
UID:8775-1693652400-1693663200@centralchristian.edu
SUMMARY:Women's Soccer at Ecclesia College
DESCRIPTION:Women’s Soccer at Ecclesia College Springdale\, Ark.
URL:https://centralchristian.edu/event/womens-soccer-at-ecclesia-college/
CATEGORIES:Athletic
END:VEVENT
BEGIN:VEVENT
DTSTART;TZID=America/Chicago:20230902T130000
DTEND;TZID=America/Chicago:20230902T160000
DTSTAMP:20260424T054349
CREATED:20230804T215630Z
LAST-MODIFIED:20230804T215630Z
UID:10927-1693659600-1693670400@centralchristian.edu
SUMMARY:Women's Volleyball at Texas Wesleyan University
DESCRIPTION:Women’s Volleyball at Texas Wesleyan University Fort Worth\, Texas
URL:https://centralchristian.edu/event/womens-volleyball-at-texas-wesleyan-university-2/
CATEGORIES:Athletic
END:VEVENT
BEGIN:VEVENT
DTSTART;TZID=America/Chicago:20230902T130000
DTEND;TZID=America/Chicago:20230902T160000
DTSTAMP:20260424T054349
CREATED:20230804T215630Z
LAST-MODIFIED:20230804T215630Z
UID:8776-1693659600-1693670400@centralchristian.edu
SUMMARY:Women's Volleyball at Texas Wesleyan University
DESCRIPTION:Women’s Volleyball at Texas Wesleyan University Fort Worth\, Texas
URL:https://centralchristian.edu/event/womens-volleyball-at-texas-wesleyan-university/
CATEGORIES:Athletic
END:VEVENT
BEGIN:VEVENT
DTSTART;TZID=America/Chicago:20230902T150000
DTEND;TZID=America/Chicago:20230902T180000
DTSTAMP:20260424T054349
CREATED:20230804T215631Z
LAST-MODIFIED:20230804T215631Z
UID:8777-1693666800-1693677600@centralchristian.edu
SUMMARY:Men's Soccer vs University of Jamestown
DESCRIPTION:Men’s Soccer vs University of Jamestown John Brown University\, Siloam Springs\, AR
URL:https://centralchristian.edu/event/mens-soccer-vs-university-of-jamestown/
CATEGORIES:Athletic
END:VEVENT
BEGIN:VEVENT
DTSTART;TZID=America/Chicago:20230902T150000
DTEND;TZID=America/Chicago:20230902T180000
DTSTAMP:20260424T054349
CREATED:20230804T215631Z
LAST-MODIFIED:20230804T215631Z
UID:10928-1693666800-1693677600@centralchristian.edu
SUMMARY:Men's Soccer vs University of Jamestown
DESCRIPTION:Men’s Soccer vs University of Jamestown John Brown University\, Siloam Springs\, AR
URL:https://centralchristian.edu/event/mens-soccer-vs-university-of-jamestown-2/
CATEGORIES:Athletic
END:VEVENT
END:VCALENDAR