BEGIN:VCALENDAR
VERSION:2.0
PRODID:-//Central Christian College - ECPv6.15.20//NONSGML v1.0//EN
CALSCALE:GREGORIAN
METHOD:PUBLISH
X-WR-CALNAME:Central Christian College
X-ORIGINAL-URL:https://centralchristian.edu
X-WR-CALDESC:Events for Central Christian College
REFRESH-INTERVAL;VALUE=DURATION:PT1H
X-Robots-Tag:noindex
X-PUBLISHED-TTL:PT1H
BEGIN:VTIMEZONE
TZID:America/Chicago
BEGIN:DAYLIGHT
TZOFFSETFROM:-0600
TZOFFSETTO:-0500
TZNAME:CDT
DTSTART:20240310T080000
END:DAYLIGHT
BEGIN:STANDARD
TZOFFSETFROM:-0500
TZOFFSETTO:-0600
TZNAME:CST
DTSTART:20241103T070000
END:STANDARD
BEGIN:DAYLIGHT
TZOFFSETFROM:-0600
TZOFFSETTO:-0500
TZNAME:CDT
DTSTART:20250309T080000
END:DAYLIGHT
BEGIN:STANDARD
TZOFFSETFROM:-0500
TZOFFSETTO:-0600
TZNAME:CST
DTSTART:20251102T070000
END:STANDARD
BEGIN:DAYLIGHT
TZOFFSETFROM:-0600
TZOFFSETTO:-0500
TZNAME:CDT
DTSTART:20260308T080000
END:DAYLIGHT
BEGIN:STANDARD
TZOFFSETFROM:-0500
TZOFFSETTO:-0600
TZNAME:CST
DTSTART:20261101T070000
END:STANDARD
END:VTIMEZONE
BEGIN:VEVENT
DTSTART;VALUE=DATE:20250806
DTEND;VALUE=DATE:20250807
DTSTAMP:20260424T162003
CREATED:20220125T194934Z
LAST-MODIFIED:20220125T194934Z
UID:6216-1754438400-1754524799@centralchristian.edu
SUMMARY:Faculty Arrive On Campus
DESCRIPTION:August 6th
URL:https://centralchristian.edu/event/faculty-arrive-on-campus-5/
LOCATION:Employment Opportunities
END:VEVENT
BEGIN:VEVENT
DTSTART;VALUE=DATE:20250806
DTEND;VALUE=DATE:20250807
DTSTAMP:20260424T162003
CREATED:20220125T194934Z
LAST-MODIFIED:20220125T194934Z
UID:11154-1754438400-1754524799@centralchristian.edu
SUMMARY:Faculty Arrive On Campus
DESCRIPTION:August 6th
URL:https://centralchristian.edu/event/faculty-arrive-on-campus-5-2/
LOCATION:Employment Opportunities
END:VEVENT
BEGIN:VEVENT
DTSTART;VALUE=DATE:20250804
DTEND;VALUE=DATE:20250805
DTSTAMP:20260424T162003
CREATED:20250730T170746Z
LAST-MODIFIED:20250730T170746Z
UID:10418-1754265600-1754351999@centralchristian.edu
SUMMARY:Resident Life Student Staff Move-in
DESCRIPTION:August 4
URL:https://centralchristian.edu/event/resident-life-student-staff-move-in/
END:VEVENT
BEGIN:VEVENT
DTSTART;VALUE=DATE:20250804
DTEND;VALUE=DATE:20250805
DTSTAMP:20260424T162003
CREATED:20250730T170746Z
LAST-MODIFIED:20250730T170746Z
UID:11419-1754265600-1754351999@centralchristian.edu
SUMMARY:Resident Life Student Staff Move-in
DESCRIPTION:August 4
URL:https://centralchristian.edu/event/resident-life-student-staff-move-in-2/
END:VEVENT
BEGIN:VEVENT
DTSTART;VALUE=DATE:20250727
DTEND;VALUE=DATE:20250728
DTSTAMP:20260424T162003
CREATED:20220210T195134Z
LAST-MODIFIED:20220210T195134Z
UID:6650-1753574400-1753660799@centralchristian.edu
SUMMARY:Last Day To Drop A Summer 2 Online Course With A W
DESCRIPTION:July 27
URL:https://centralchristian.edu/event/last-day-to-drop-a-summer-2-online-course-with-a-w-6/
LOCATION:Employment Opportunities
END:VEVENT
BEGIN:VEVENT
DTSTART;VALUE=DATE:20250727
DTEND;VALUE=DATE:20250728
DTSTAMP:20260424T162003
CREATED:20220210T195134Z
LAST-MODIFIED:20220210T195134Z
UID:11370-1753574400-1753660799@centralchristian.edu
SUMMARY:Last Day To Drop A Summer 2 Online Course With A W
DESCRIPTION:July 27
URL:https://centralchristian.edu/event/last-day-to-drop-a-summer-2-online-course-with-a-w-6-2/
LOCATION:Employment Opportunities
END:VEVENT
BEGIN:VEVENT
DTSTART;VALUE=DATE:20250711
DTEND;VALUE=DATE:20250712
DTSTAMP:20260424T162003
CREATED:20220210T193432Z
LAST-MODIFIED:20220210T193432Z
UID:6645-1752192000-1752278399@centralchristian.edu
SUMMARY:Last Day To Drop A Full Term Course With A W
DESCRIPTION:July 11
URL:https://centralchristian.edu/event/last-day-to-drop-a-full-term-course-with-a-w-21/
LOCATION:Employment Opportunities
END:VEVENT
BEGIN:VEVENT
DTSTART;VALUE=DATE:20250711
DTEND;VALUE=DATE:20250712
DTSTAMP:20260424T162003
CREATED:20220210T193432Z
LAST-MODIFIED:20220210T193432Z
UID:11367-1752192000-1752278399@centralchristian.edu
SUMMARY:Last Day To Drop A Full Term Course With A W
DESCRIPTION:July 11
URL:https://centralchristian.edu/event/last-day-to-drop-a-full-term-course-with-a-w-21-2/
LOCATION:Employment Opportunities
END:VEVENT
BEGIN:VEVENT
DTSTART;VALUE=DATE:20250707
DTEND;VALUE=DATE:20250708
DTSTAMP:20260424T162003
CREATED:20220210T192518Z
LAST-MODIFIED:20220210T192518Z
UID:6639-1751846400-1751932799@centralchristian.edu
SUMMARY:Summer 2 Online Course Begins
DESCRIPTION:July 7
URL:https://centralchristian.edu/event/summer-2-online-course-begins-6/
LOCATION:Employment Opportunities
END:VEVENT
BEGIN:VEVENT
DTSTART;VALUE=DATE:20250707
DTEND;VALUE=DATE:20250708
DTSTAMP:20260424T162003
CREATED:20220210T192518Z
LAST-MODIFIED:20220210T192518Z
UID:11364-1751846400-1751932799@centralchristian.edu
SUMMARY:Summer 2 Online Course Begins
DESCRIPTION:July 7
URL:https://centralchristian.edu/event/summer-2-online-course-begins-6-2/
LOCATION:Employment Opportunities
END:VEVENT
BEGIN:VEVENT
DTSTART;VALUE=DATE:20250704
DTEND;VALUE=DATE:20250705
DTSTAMP:20260424T162003
CREATED:20220203T225704Z
LAST-MODIFIED:20220203T225704Z
UID:11361-1751587200-1751673599@centralchristian.edu
SUMMARY:Independence Day Observed (No Classes)
DESCRIPTION:July 4
URL:https://centralchristian.edu/event/independence-day-observed-no-classes-6-2/
LOCATION:Employment Opportunities
END:VEVENT
BEGIN:VEVENT
DTSTART;VALUE=DATE:20250704
DTEND;VALUE=DATE:20250705
DTSTAMP:20260424T162003
CREATED:20220203T225704Z
LAST-MODIFIED:20220203T225704Z
UID:6620-1751587200-1751673599@centralchristian.edu
SUMMARY:Independence Day Observed (No Classes)
DESCRIPTION:July 4
URL:https://centralchristian.edu/event/independence-day-observed-no-classes-6/
LOCATION:Employment Opportunities
END:VEVENT
BEGIN:VEVENT
DTSTART;VALUE=DATE:20250627
DTEND;VALUE=DATE:20250628
DTSTAMP:20260424T162003
CREATED:20220203T224554Z
LAST-MODIFIED:20220203T224554Z
UID:6610-1750982400-1751068799@centralchristian.edu
SUMMARY:Mid-Term
DESCRIPTION:June 27
URL:https://centralchristian.edu/event/mid-term-5/
LOCATION:Employment Opportunities
END:VEVENT
BEGIN:VEVENT
DTSTART;VALUE=DATE:20250627
DTEND;VALUE=DATE:20250628
DTSTAMP:20260424T162003
CREATED:20220203T224554Z
LAST-MODIFIED:20220203T224554Z
UID:11355-1750982400-1751068799@centralchristian.edu
SUMMARY:Mid-Term
DESCRIPTION:June 27
URL:https://centralchristian.edu/event/mid-term-5-2/
LOCATION:Employment Opportunities
END:VEVENT
BEGIN:VEVENT
DTSTART;VALUE=DATE:20250622
DTEND;VALUE=DATE:20250623
DTSTAMP:20260424T162003
CREATED:20220203T225332Z
LAST-MODIFIED:20220203T225332Z
UID:6615-1750550400-1750636799@centralchristian.edu
SUMMARY:Summer 1 Online Course Ends
DESCRIPTION:June 22
URL:https://centralchristian.edu/event/summer-1-online-course-ends-6/
LOCATION:Employment Opportunities
END:VEVENT
BEGIN:VEVENT
DTSTART;VALUE=DATE:20250622
DTEND;VALUE=DATE:20250623
DTSTAMP:20260424T162003
CREATED:20220203T225332Z
LAST-MODIFIED:20220203T225332Z
UID:11358-1750550400-1750636799@centralchristian.edu
SUMMARY:Summer 1 Online Course Ends
DESCRIPTION:June 22
URL:https://centralchristian.edu/event/summer-1-online-course-ends-6-2/
LOCATION:Employment Opportunities
END:VEVENT
BEGIN:VEVENT
DTSTART;VALUE=DATE:20250601
DTEND;VALUE=DATE:20250602
DTSTAMP:20260424T162003
CREATED:20220203T224002Z
LAST-MODIFIED:20220203T224002Z
UID:6605-1748736000-1748822399@centralchristian.edu
SUMMARY:Last Day To Drop A Summer 1 Online Course With A W
DESCRIPTION:June 1
URL:https://centralchristian.edu/event/last-day-to-drop-a-summer-1-online-course-with-a-w-6/
LOCATION:Employment Opportunities
END:VEVENT
BEGIN:VEVENT
DTSTART;VALUE=DATE:20250601
DTEND;VALUE=DATE:20250602
DTSTAMP:20260424T162003
CREATED:20220203T224002Z
LAST-MODIFIED:20220203T224002Z
UID:11352-1748736000-1748822399@centralchristian.edu
SUMMARY:Last Day To Drop A Summer 1 Online Course With A W
DESCRIPTION:June 1
URL:https://centralchristian.edu/event/last-day-to-drop-a-summer-1-online-course-with-a-w-6-2/
LOCATION:Employment Opportunities
END:VEVENT
BEGIN:VEVENT
DTSTART;VALUE=DATE:20250526
DTEND;VALUE=DATE:20250527
DTSTAMP:20260424T162003
CREATED:20220203T223541Z
LAST-MODIFIED:20220203T223541Z
UID:6600-1748217600-1748303999@centralchristian.edu
SUMMARY:Memorial Day (No Classes)
DESCRIPTION:May 26
URL:https://centralchristian.edu/event/memorial-day-no-classes-6/
LOCATION:Employment Opportunities
END:VEVENT
BEGIN:VEVENT
DTSTART;VALUE=DATE:20250526
DTEND;VALUE=DATE:20250527
DTSTAMP:20260424T162003
CREATED:20220203T223541Z
LAST-MODIFIED:20220203T223541Z
UID:11349-1748217600-1748303999@centralchristian.edu
SUMMARY:Memorial Day (No Classes)
DESCRIPTION:May 26
URL:https://centralchristian.edu/event/memorial-day-no-classes-6-2/
LOCATION:Employment Opportunities
END:VEVENT
BEGIN:VEVENT
DTSTART;VALUE=DATE:20250523
DTEND;VALUE=DATE:20250524
DTSTAMP:20260424T162003
CREATED:20220203T223048Z
LAST-MODIFIED:20220203T223048Z
UID:6595-1747958400-1748044799@centralchristian.edu
SUMMARY:End Of May Term
DESCRIPTION:May 23
URL:https://centralchristian.edu/event/end-of-may-term-6/
LOCATION:Employment Opportunities
END:VEVENT
BEGIN:VEVENT
DTSTART;VALUE=DATE:20250523
DTEND;VALUE=DATE:20250524
DTSTAMP:20260424T162003
CREATED:20220203T223048Z
LAST-MODIFIED:20220203T223048Z
UID:11346-1747958400-1748044799@centralchristian.edu
SUMMARY:End Of May Term
DESCRIPTION:May 23
URL:https://centralchristian.edu/event/end-of-may-term-6-2/
LOCATION:Employment Opportunities
END:VEVENT
BEGIN:VEVENT
DTSTART;VALUE=DATE:20250517
DTEND;VALUE=DATE:20250518
DTSTAMP:20260424T162003
CREATED:20220203T222230Z
LAST-MODIFIED:20220203T222230Z
UID:6584-1747440000-1747526399@centralchristian.edu
SUMMARY:Hall Of Fame
DESCRIPTION:May 17
URL:https://centralchristian.edu/event/hall-of-fame-3/
LOCATION:Employment Opportunities
END:VEVENT
BEGIN:VEVENT
DTSTART;VALUE=DATE:20250517
DTEND;VALUE=DATE:20250518
DTSTAMP:20260424T162003
CREATED:20220203T222230Z
LAST-MODIFIED:20220203T222230Z
UID:11340-1747440000-1747526399@centralchristian.edu
SUMMARY:Hall Of Fame
DESCRIPTION:May 17
URL:https://centralchristian.edu/event/hall-of-fame-3-2/
LOCATION:Employment Opportunities
END:VEVENT
BEGIN:VEVENT
DTSTART;VALUE=DATE:20250515
DTEND;VALUE=DATE:20250516
DTSTAMP:20260424T162003
CREATED:20220203T221840Z
LAST-MODIFIED:20220203T221840Z
UID:6577-1747267200-1747353599@centralchristian.edu
SUMMARY:Faculty Leave For Summer Break
DESCRIPTION:May 15
URL:https://centralchristian.edu/event/faculty-leave-for-summer-break-3/
LOCATION:Employment Opportunities
END:VEVENT
BEGIN:VEVENT
DTSTART;VALUE=DATE:20250515
DTEND;VALUE=DATE:20250516
DTSTAMP:20260424T162003
CREATED:20220203T221840Z
LAST-MODIFIED:20220203T221840Z
UID:11338-1747267200-1747353599@centralchristian.edu
SUMMARY:Faculty Leave For Summer Break
DESCRIPTION:May 15
URL:https://centralchristian.edu/event/faculty-leave-for-summer-break-3-2/
LOCATION:Employment Opportunities
END:VEVENT
BEGIN:VEVENT
DTSTART;VALUE=DATE:20250512
DTEND;VALUE=DATE:20250513
DTSTAMP:20260424T162003
CREATED:20220203T222705Z
LAST-MODIFIED:20220203T222705Z
UID:6589-1747008000-1747094399@centralchristian.edu
SUMMARY:Summer 1 Online Course Begins
DESCRIPTION:May 12
URL:https://centralchristian.edu/event/summer-1-online-course-begins-6/
LOCATION:Employment Opportunities
END:VEVENT
BEGIN:VEVENT
DTSTART;VALUE=DATE:20250512
DTEND;VALUE=DATE:20250513
DTSTAMP:20260424T162003
CREATED:20220203T222705Z
LAST-MODIFIED:20220203T222705Z
UID:11343-1747008000-1747094399@centralchristian.edu
SUMMARY:Summer 1 Online Course Begins
DESCRIPTION:May 12
URL:https://centralchristian.edu/event/summer-1-online-course-begins-6-2/
LOCATION:Employment Opportunities
END:VEVENT
BEGIN:VEVENT
DTSTART;VALUE=DATE:20250511
DTEND;VALUE=DATE:20250512
DTSTAMP:20260424T162003
CREATED:20220203T221417Z
LAST-MODIFIED:20220203T221417Z
UID:6572-1746921600-1747007999@centralchristian.edu
SUMMARY:Last Day To Add Summer Course For Credit
DESCRIPTION:May 11
URL:https://centralchristian.edu/event/last-day-to-add-summer-course-for-credit-3/
LOCATION:Employment Opportunities
END:VEVENT
BEGIN:VEVENT
DTSTART;VALUE=DATE:20250511
DTEND;VALUE=DATE:20250512
DTSTAMP:20260424T162003
CREATED:20220203T221417Z
LAST-MODIFIED:20220203T221417Z
UID:11335-1746921600-1747007999@centralchristian.edu
SUMMARY:Last Day To Add Summer Course For Credit
DESCRIPTION:May 11
URL:https://centralchristian.edu/event/last-day-to-add-summer-course-for-credit-3-2/
LOCATION:Employment Opportunities
END:VEVENT
END:VCALENDAR