BEGIN:VCALENDAR
VERSION:2.0
PRODID:-//Central Christian College - ECPv6.15.20//NONSGML v1.0//EN
CALSCALE:GREGORIAN
METHOD:PUBLISH
X-ORIGINAL-URL:https://centralchristian.edu
X-WR-CALDESC:Events for Central Christian College
REFRESH-INTERVAL;VALUE=DURATION:PT1H
X-Robots-Tag:noindex
X-PUBLISHED-TTL:PT1H
BEGIN:VTIMEZONE
TZID:America/Chicago
BEGIN:DAYLIGHT
TZOFFSETFROM:-0600
TZOFFSETTO:-0500
TZNAME:CDT
DTSTART:20210314T080000
END:DAYLIGHT
BEGIN:STANDARD
TZOFFSETFROM:-0500
TZOFFSETTO:-0600
TZNAME:CST
DTSTART:20211107T070000
END:STANDARD
BEGIN:DAYLIGHT
TZOFFSETFROM:-0600
TZOFFSETTO:-0500
TZNAME:CDT
DTSTART:20220313T080000
END:DAYLIGHT
BEGIN:STANDARD
TZOFFSETFROM:-0500
TZOFFSETTO:-0600
TZNAME:CST
DTSTART:20221106T070000
END:STANDARD
BEGIN:DAYLIGHT
TZOFFSETFROM:-0600
TZOFFSETTO:-0500
TZNAME:CDT
DTSTART:20230312T080000
END:DAYLIGHT
BEGIN:STANDARD
TZOFFSETFROM:-0500
TZOFFSETTO:-0600
TZNAME:CST
DTSTART:20231105T070000
END:STANDARD
END:VTIMEZONE
BEGIN:VEVENT
DTSTART;TZID=America/Chicago:20221024T100000
DTEND;TZID=America/Chicago:20221024T110000
DTSTAMP:20260420T200641
CREATED:20221011T215325Z
LAST-MODIFIED:20221011T215325Z
UID:7370-1666605600-1666609200@centralchristian.edu
SUMMARY:Convocation
DESCRIPTION:Convocation
URL:https://centralchristian.edu/event/convocation-2022-10-24/
LOCATION:Employment Opportunities
END:VEVENT
BEGIN:VEVENT
DTSTART;TZID=America/Chicago:20221024T100000
DTEND;TZID=America/Chicago:20221024T110000
DTSTAMP:20260420T200641
CREATED:20221011T215325Z
LAST-MODIFIED:20221011T215325Z
UID:10887-1666605600-1666609200@centralchristian.edu
SUMMARY:Convocation
DESCRIPTION:Convocation
URL:https://centralchristian.edu/event/convocation-2022-10-24-2/
LOCATION:Employment Opportunities
END:VEVENT
BEGIN:VEVENT
DTSTART;TZID=America/Chicago:20221025T190000
DTEND;TZID=America/Chicago:20221025T203000
DTSTAMP:20260420T200641
CREATED:20221011T214854Z
LAST-MODIFIED:20221011T214854Z
UID:7347-1666724400-1666729800@centralchristian.edu
SUMMARY:Dr. Steven Woodworth a Lecture on General James B. McPherson
DESCRIPTION:In honor of the 150th Anniversary of McPherson\, Central Christian College of Kansas is excited to host Dr. Steve Woodworth. He will be on campus for a special lecture on General McPherson\, the cities namesake. Join us in Greer Auditorium October 25\, 2022 at 7 pm. \nDr. Steven E. Woodworth is the author\, coauthor\, or editor of twenty-eight books on the Civil War era. These include Jefferson Davis and His Generals: The Failure of Confederate Command in the West (1990)\, Davis and Lee at War (1995)\, Six Armies in Tennessee: The Chickamauga and Chattanooga Campaigns (1998)\, and While God Is Marching On: The Religious World of Civil War Soldiers (2001). Among his more recent books are a biography of William T. Sherman; Nothing but Victory: The Army of the Tennessee\, 1861-1865 (2005); and Manifest Destinies: Westward Expansion and the Civil War (2010)\, an examination of how territorial expansion during the 1840s contributed to the political crisis that led to the Civil War; and a short study of command in the Battle of Shiloh. \nHe is currently working on a longer work tracing the careers of two companies—Company E of the 44th New York and Company I of the 5th Texas—and their respective hometowns—Albany\, New York\, and Independence\, Texas—from the years leading to the Civil War until the two companies met each other on the battlefield of Gettysburg. Woodworth teaches history at Texas Christian University.
URL:https://centralchristian.edu/event/dr-steven-woodworth-a-lecture-on-general-james-b-mcpherson/
LOCATION:Student Access Portal
ATTACH;FMTTYPE=image/jpeg:https://centralchristian.edu/wp-content/uploads/2022/10/CCCK-General-McPherson-Poster-2x2inches-01.jpg
END:VEVENT
BEGIN:VEVENT
DTSTART;TZID=America/Chicago:20221025T190000
DTEND;TZID=America/Chicago:20221025T203000
DTSTAMP:20260420T200641
CREATED:20221011T214854Z
LAST-MODIFIED:20221011T214854Z
UID:10865-1666724400-1666729800@centralchristian.edu
SUMMARY:Dr. Steven Woodworth a Lecture on General James B. McPherson
DESCRIPTION:In honor of the 150th Anniversary of McPherson\, Central Christian College of Kansas is excited to host Dr. Steve Woodworth. He will be on campus for a special lecture on General McPherson\, the cities namesake. Join us in Greer Auditorium October 25\, 2022 at 7 pm. \nDr. Steven E. Woodworth is the author\, coauthor\, or editor of twenty-eight books on the Civil War era. These include Jefferson Davis and His Generals: The Failure of Confederate Command in the West (1990)\, Davis and Lee at War (1995)\, Six Armies in Tennessee: The Chickamauga and Chattanooga Campaigns (1998)\, and While God Is Marching On: The Religious World of Civil War Soldiers (2001). Among his more recent books are a biography of William T. Sherman; Nothing but Victory: The Army of the Tennessee\, 1861-1865 (2005); and Manifest Destinies: Westward Expansion and the Civil War (2010)\, an examination of how territorial expansion during the 1840s contributed to the political crisis that led to the Civil War; and a short study of command in the Battle of Shiloh. \nHe is currently working on a longer work tracing the careers of two companies—Company E of the 44th New York and Company I of the 5th Texas—and their respective hometowns—Albany\, New York\, and Independence\, Texas—from the years leading to the Civil War until the two companies met each other on the battlefield of Gettysburg. Woodworth teaches history at Texas Christian University.
URL:https://centralchristian.edu/event/dr-steven-woodworth-a-lecture-on-general-james-b-mcpherson-2/
LOCATION:Student Access Portal
ATTACH;FMTTYPE=image/jpeg:https://centralchristian.edu/wp-content/uploads/2022/10/CCCK-General-McPherson-Poster-2x2inches-01.jpg
END:VEVENT
BEGIN:VEVENT
DTSTART;VALUE=DATE:20221026
DTEND;VALUE=DATE:20221027
DTSTAMP:20260420T200641
CREATED:20220127T194815Z
LAST-MODIFIED:20220127T194815Z
UID:11213-1666742400-1666828799@centralchristian.edu
SUMMARY:Last Day To Drop A Full-Term Course With A W
DESCRIPTION:October 26
URL:https://centralchristian.edu/event/last-day-to-drop-a-full-term-course-with-a-w-9-2/
LOCATION:Employment Opportunities
END:VEVENT
BEGIN:VEVENT
DTSTART;VALUE=DATE:20221026
DTEND;VALUE=DATE:20221027
DTSTAMP:20260420T200641
CREATED:20220127T194815Z
LAST-MODIFIED:20220127T194815Z
UID:6318-1666742400-1666828799@centralchristian.edu
SUMMARY:Last Day To Drop A Full-Term Course With A W
DESCRIPTION:October 26
URL:https://centralchristian.edu/event/last-day-to-drop-a-full-term-course-with-a-w-9/
LOCATION:Employment Opportunities
END:VEVENT
BEGIN:VEVENT
DTSTART;TZID=America/Chicago:20221026T100000
DTEND;TZID=America/Chicago:20221026T110000
DTSTAMP:20260420T200641
CREATED:20221011T215101Z
LAST-MODIFIED:20221011T215101Z
UID:10869-1666778400-1666782000@centralchristian.edu
SUMMARY:Chapel
DESCRIPTION:Chapel
URL:https://centralchristian.edu/event/chapel-3-2022-10-26-2/
LOCATION:Student Access Portal
END:VEVENT
BEGIN:VEVENT
DTSTART;TZID=America/Chicago:20221026T100000
DTEND;TZID=America/Chicago:20221026T110000
DTSTAMP:20260420T200641
CREATED:20221011T215101Z
LAST-MODIFIED:20221011T215101Z
UID:7351-1666778400-1666782000@centralchristian.edu
SUMMARY:Chapel
DESCRIPTION:Chapel
URL:https://centralchristian.edu/event/chapel-3-2022-10-26/
LOCATION:Student Access Portal
END:VEVENT
BEGIN:VEVENT
DTSTART;TZID=America/Chicago:20221031T100000
DTEND;TZID=America/Chicago:20221031T110000
DTSTAMP:20260420T200641
CREATED:20221011T215325Z
LAST-MODIFIED:20221011T215325Z
UID:10888-1667210400-1667214000@centralchristian.edu
SUMMARY:Convocation
DESCRIPTION:Convocation
URL:https://centralchristian.edu/event/convocation-2022-10-31-2/
LOCATION:Employment Opportunities
END:VEVENT
BEGIN:VEVENT
DTSTART;TZID=America/Chicago:20221031T100000
DTEND;TZID=America/Chicago:20221031T110000
DTSTAMP:20260420T200641
CREATED:20221011T215325Z
LAST-MODIFIED:20221011T215325Z
UID:7371-1667210400-1667214000@centralchristian.edu
SUMMARY:Convocation
DESCRIPTION:Convocation
URL:https://centralchristian.edu/event/convocation-2022-10-31/
LOCATION:Employment Opportunities
END:VEVENT
BEGIN:VEVENT
DTSTART;TZID=America/Chicago:20221102T100000
DTEND;TZID=America/Chicago:20221102T110000
DTSTAMP:20260420T200641
CREATED:20221011T215101Z
LAST-MODIFIED:20221011T215101Z
UID:7352-1667383200-1667386800@centralchristian.edu
SUMMARY:Chapel
DESCRIPTION:Chapel
URL:https://centralchristian.edu/event/chapel-3-2022-11-02/
LOCATION:Student Access Portal
END:VEVENT
BEGIN:VEVENT
DTSTART;TZID=America/Chicago:20221102T100000
DTEND;TZID=America/Chicago:20221102T110000
DTSTAMP:20260420T200641
CREATED:20221011T215101Z
LAST-MODIFIED:20221011T215101Z
UID:10870-1667383200-1667386800@centralchristian.edu
SUMMARY:Chapel
DESCRIPTION:Chapel
URL:https://centralchristian.edu/event/chapel-3-2022-11-02-2/
LOCATION:Student Access Portal
END:VEVENT
BEGIN:VEVENT
DTSTART;TZID=America/Chicago:20221107T100000
DTEND;TZID=America/Chicago:20221107T110000
DTSTAMP:20260420T200641
CREATED:20221011T215325Z
LAST-MODIFIED:20221011T215325Z
UID:10889-1667815200-1667818800@centralchristian.edu
SUMMARY:Convocation
DESCRIPTION:Convocation
URL:https://centralchristian.edu/event/convocation-2022-11-07-2/
LOCATION:Employment Opportunities
END:VEVENT
BEGIN:VEVENT
DTSTART;TZID=America/Chicago:20221107T100000
DTEND;TZID=America/Chicago:20221107T110000
DTSTAMP:20260420T200641
CREATED:20221011T215325Z
LAST-MODIFIED:20221011T215325Z
UID:7372-1667815200-1667818800@centralchristian.edu
SUMMARY:Convocation
DESCRIPTION:Convocation
URL:https://centralchristian.edu/event/convocation-2022-11-07/
LOCATION:Employment Opportunities
END:VEVENT
BEGIN:VEVENT
DTSTART;TZID=America/Chicago:20221109T100000
DTEND;TZID=America/Chicago:20221109T110000
DTSTAMP:20260420T200641
CREATED:20221011T215101Z
LAST-MODIFIED:20221011T215101Z
UID:7353-1667988000-1667991600@centralchristian.edu
SUMMARY:Chapel
DESCRIPTION:Chapel
URL:https://centralchristian.edu/event/chapel-3-2022-11-09/
LOCATION:Student Access Portal
END:VEVENT
BEGIN:VEVENT
DTSTART;TZID=America/Chicago:20221109T100000
DTEND;TZID=America/Chicago:20221109T110000
DTSTAMP:20260420T200641
CREATED:20221011T215101Z
LAST-MODIFIED:20221011T215101Z
UID:10871-1667988000-1667991600@centralchristian.edu
SUMMARY:Chapel
DESCRIPTION:Chapel
URL:https://centralchristian.edu/event/chapel-3-2022-11-09-2/
LOCATION:Student Access Portal
END:VEVENT
BEGIN:VEVENT
DTSTART;VALUE=DATE:20221113
DTEND;VALUE=DATE:20221114
DTSTAMP:20260420T200641
CREATED:20220127T214821Z
LAST-MODIFIED:20220127T214821Z
UID:11223-1668297600-1668383999@centralchristian.edu
SUMMARY:Fall 2 Online Course Ends
DESCRIPTION:November 13
URL:https://centralchristian.edu/event/fall-2-online-course-ends-4-2/
LOCATION:Employment Opportunities
END:VEVENT
BEGIN:VEVENT
DTSTART;VALUE=DATE:20221113
DTEND;VALUE=DATE:20221114
DTSTAMP:20260420T200641
CREATED:20220127T214821Z
LAST-MODIFIED:20220127T214821Z
UID:6335-1668297600-1668383999@centralchristian.edu
SUMMARY:Fall 2 Online Course Ends
DESCRIPTION:November 13
URL:https://centralchristian.edu/event/fall-2-online-course-ends-4/
LOCATION:Employment Opportunities
END:VEVENT
BEGIN:VEVENT
DTSTART;VALUE=DATE:20221114
DTEND;VALUE=DATE:20221115
DTSTAMP:20260420T200641
CREATED:20220412T233712Z
LAST-MODIFIED:20220412T233712Z
UID:11375-1668384000-1668470399@centralchristian.edu
SUMMARY:Fall 4 Online Course Begins
DESCRIPTION:November 14th
URL:https://centralchristian.edu/event/fall-4-online-course-begins-2/
LOCATION:Employment Opportunities
END:VEVENT
BEGIN:VEVENT
DTSTART;VALUE=DATE:20221114
DTEND;VALUE=DATE:20221115
DTSTAMP:20260420T200641
CREATED:20220412T233712Z
LAST-MODIFIED:20220412T233712Z
UID:6831-1668384000-1668470399@centralchristian.edu
SUMMARY:Fall 4 Online Course Begins
DESCRIPTION:November 14th
URL:https://centralchristian.edu/event/fall-4-online-course-begins/
LOCATION:Employment Opportunities
END:VEVENT
BEGIN:VEVENT
DTSTART;TZID=America/Chicago:20221114T100000
DTEND;TZID=America/Chicago:20221114T110000
DTSTAMP:20260420T200641
CREATED:20221011T215325Z
LAST-MODIFIED:20221011T215325Z
UID:10890-1668420000-1668423600@centralchristian.edu
SUMMARY:Convocation
DESCRIPTION:Convocation
URL:https://centralchristian.edu/event/convocation-2022-11-14-2/
LOCATION:Employment Opportunities
END:VEVENT
BEGIN:VEVENT
DTSTART;TZID=America/Chicago:20221114T100000
DTEND;TZID=America/Chicago:20221114T110000
DTSTAMP:20260420T200641
CREATED:20221011T215325Z
LAST-MODIFIED:20221011T215325Z
UID:7373-1668420000-1668423600@centralchristian.edu
SUMMARY:Convocation
DESCRIPTION:Convocation
URL:https://centralchristian.edu/event/convocation-2022-11-14/
LOCATION:Employment Opportunities
END:VEVENT
BEGIN:VEVENT
DTSTART;VALUE=DATE:20221115
DTEND;VALUE=DATE:20221116
DTSTAMP:20260420T200641
CREATED:20220127T215242Z
LAST-MODIFIED:20220127T215242Z
UID:6340-1668470400-1668556799@centralchristian.edu
SUMMARY:Last Day To Drop A Term 2 Course Without A Grade
DESCRIPTION:November 15
URL:https://centralchristian.edu/event/last-day-to-drop-a-term-2-course-without-a-grade-3/
LOCATION:Employment Opportunities
END:VEVENT
BEGIN:VEVENT
DTSTART;VALUE=DATE:20221115
DTEND;VALUE=DATE:20221116
DTSTAMP:20260420T200641
CREATED:20220127T215242Z
LAST-MODIFIED:20220127T215242Z
UID:11226-1668470400-1668556799@centralchristian.edu
SUMMARY:Last Day To Drop A Term 2 Course Without A Grade
DESCRIPTION:November 15
URL:https://centralchristian.edu/event/last-day-to-drop-a-term-2-course-without-a-grade-3-2/
LOCATION:Employment Opportunities
END:VEVENT
BEGIN:VEVENT
DTSTART;TZID=America/Chicago:20221116T100000
DTEND;TZID=America/Chicago:20221116T110000
DTSTAMP:20260420T200641
CREATED:20221011T215101Z
LAST-MODIFIED:20221011T215101Z
UID:10872-1668592800-1668596400@centralchristian.edu
SUMMARY:Chapel
DESCRIPTION:Chapel
URL:https://centralchristian.edu/event/chapel-3-2022-11-16-2/
LOCATION:Student Access Portal
END:VEVENT
BEGIN:VEVENT
DTSTART;TZID=America/Chicago:20221116T100000
DTEND;TZID=America/Chicago:20221116T110000
DTSTAMP:20260420T200641
CREATED:20221011T215101Z
LAST-MODIFIED:20221011T215101Z
UID:7354-1668592800-1668596400@centralchristian.edu
SUMMARY:Chapel
DESCRIPTION:Chapel
URL:https://centralchristian.edu/event/chapel-3-2022-11-16/
LOCATION:Student Access Portal
END:VEVENT
BEGIN:VEVENT
DTSTART;VALUE=DATE:20221121
DTEND;VALUE=DATE:20221128
DTSTAMP:20260420T200641
CREATED:20220127T215804Z
LAST-MODIFIED:20220127T215804Z
UID:11229-1668988800-1669593599@centralchristian.edu
SUMMARY:Thanks Giving Break 
DESCRIPTION:November 21-27 2022
URL:https://centralchristian.edu/event/thanks-giving-break-3/
LOCATION:Employment Opportunities
END:VEVENT
BEGIN:VEVENT
DTSTART;VALUE=DATE:20221121
DTEND;VALUE=DATE:20221128
DTSTAMP:20260420T200641
CREATED:20220127T215804Z
LAST-MODIFIED:20220127T215804Z
UID:6345-1668988800-1669593599@centralchristian.edu
SUMMARY:Thanks Giving Break 
DESCRIPTION:November 21-27 2022
URL:https://centralchristian.edu/event/thanks-giving-break/
LOCATION:Employment Opportunities
END:VEVENT
BEGIN:VEVENT
DTSTART;TZID=America/Chicago:20221121T100000
DTEND;TZID=America/Chicago:20221121T110000
DTSTAMP:20260420T200641
CREATED:20221011T215325Z
LAST-MODIFIED:20221011T215325Z
UID:10891-1669024800-1669028400@centralchristian.edu
SUMMARY:Convocation
DESCRIPTION:Convocation
URL:https://centralchristian.edu/event/convocation-2022-11-21-2/
LOCATION:Employment Opportunities
END:VEVENT
BEGIN:VEVENT
DTSTART;TZID=America/Chicago:20221121T100000
DTEND;TZID=America/Chicago:20221121T110000
DTSTAMP:20260420T200641
CREATED:20221011T215325Z
LAST-MODIFIED:20221011T215325Z
UID:7374-1669024800-1669028400@centralchristian.edu
SUMMARY:Convocation
DESCRIPTION:Convocation
URL:https://centralchristian.edu/event/convocation-2022-11-21/
LOCATION:Employment Opportunities
END:VEVENT
END:VCALENDAR