BEGIN:VCALENDAR
VERSION:2.0
PRODID:-//Central Christian College - ECPv6.15.20//NONSGML v1.0//EN
CALSCALE:GREGORIAN
METHOD:PUBLISH
X-ORIGINAL-URL:https://centralchristian.edu
X-WR-CALDESC:Events for Central Christian College
REFRESH-INTERVAL;VALUE=DURATION:PT1H
X-Robots-Tag:noindex
X-PUBLISHED-TTL:PT1H
BEGIN:VTIMEZONE
TZID:America/Chicago
BEGIN:DAYLIGHT
TZOFFSETFROM:-0600
TZOFFSETTO:-0500
TZNAME:CDT
DTSTART:20220313T080000
END:DAYLIGHT
BEGIN:STANDARD
TZOFFSETFROM:-0500
TZOFFSETTO:-0600
TZNAME:CST
DTSTART:20221106T070000
END:STANDARD
BEGIN:DAYLIGHT
TZOFFSETFROM:-0600
TZOFFSETTO:-0500
TZNAME:CDT
DTSTART:20230312T080000
END:DAYLIGHT
BEGIN:STANDARD
TZOFFSETFROM:-0500
TZOFFSETTO:-0600
TZNAME:CST
DTSTART:20231105T070000
END:STANDARD
BEGIN:DAYLIGHT
TZOFFSETFROM:-0600
TZOFFSETTO:-0500
TZNAME:CDT
DTSTART:20240310T080000
END:DAYLIGHT
BEGIN:STANDARD
TZOFFSETFROM:-0500
TZOFFSETTO:-0600
TZNAME:CST
DTSTART:20241103T070000
END:STANDARD
END:VTIMEZONE
BEGIN:VEVENT
DTSTART;VALUE=DATE:20230403
DTEND;VALUE=DATE:20230404
DTSTAMP:20260420T082406
CREATED:20220412T234820Z
LAST-MODIFIED:20220412T234820Z
UID:11377-1680480000-1680566399@centralchristian.edu
SUMMARY:Spring 3 Online Course Starts
DESCRIPTION:April 3rd
URL:https://centralchristian.edu/event/spring-3-online-course-starts-2/
LOCATION:Employment Opportunities
END:VEVENT
BEGIN:VEVENT
DTSTART;VALUE=DATE:20230403
DTEND;VALUE=DATE:20230404
DTSTAMP:20260420T082406
CREATED:20220412T234820Z
LAST-MODIFIED:20220412T234820Z
UID:6833-1680480000-1680566399@centralchristian.edu
SUMMARY:Spring 3 Online Course Starts
DESCRIPTION:April 3rd
URL:https://centralchristian.edu/event/spring-3-online-course-starts/
LOCATION:Employment Opportunities
END:VEVENT
BEGIN:VEVENT
DTSTART;TZID=America/Chicago:20230403T202000
DTEND;TZID=America/Chicago:20230403T202000
DTSTAMP:20260420T082406
CREATED:20230331T190347Z
LAST-MODIFIED:20230331T190347Z
UID:11379-1680553200-1680553200@centralchristian.edu
SUMMARY:March Madness Watch Party
DESCRIPTION:April 3
URL:https://centralchristian.edu/event/march-madness-watch-party-2/
LOCATION:North Gym\, 1200 South Main Street\, McPherson\, KS\, 67460\, United States
END:VEVENT
BEGIN:VEVENT
DTSTART;TZID=America/Chicago:20230403T202000
DTEND;TZID=America/Chicago:20230403T202000
DTSTAMP:20260420T082406
CREATED:20230331T190347Z
LAST-MODIFIED:20230331T190347Z
UID:8326-1680553200-1680553200@centralchristian.edu
SUMMARY:March Madness Watch Party
DESCRIPTION:April 3
URL:https://centralchristian.edu/event/march-madness-watch-party/
LOCATION:North Gym\, 1200 South Main Street\, McPherson\, KS\, 67460\, United States
END:VEVENT
BEGIN:VEVENT
DTSTART;VALUE=DATE:20230407
DTEND;VALUE=DATE:20230408
DTSTAMP:20260420T082406
CREATED:20220203T201120Z
LAST-MODIFIED:20220203T201120Z
UID:11299-1680825600-1680911999@centralchristian.edu
SUMMARY:Good Friday (No Classes)
DESCRIPTION:April 7
URL:https://centralchristian.edu/event/good-friday-no-classes-4-2/
LOCATION:Employment Opportunities
END:VEVENT
BEGIN:VEVENT
DTSTART;VALUE=DATE:20230407
DTEND;VALUE=DATE:20230408
DTSTAMP:20260420T082406
CREATED:20220203T201120Z
LAST-MODIFIED:20220203T201120Z
UID:6503-1680825600-1680911999@centralchristian.edu
SUMMARY:Good Friday (No Classes)
DESCRIPTION:April 7
URL:https://centralchristian.edu/event/good-friday-no-classes-4/
LOCATION:Employment Opportunities
END:VEVENT
BEGIN:VEVENT
DTSTART;VALUE=DATE:20230410
DTEND;VALUE=DATE:20230411
DTSTAMP:20260420T082406
CREATED:20220203T202305Z
LAST-MODIFIED:20220203T202305Z
UID:11303-1681084800-1681171199@centralchristian.edu
SUMMARY:Easter Travel Day (No Classes\, Evening Classes In Session)
DESCRIPTION:April 10
URL:https://centralchristian.edu/event/easter-travel-day-no-classes-evening-classes-in-session-5/
LOCATION:Employment Opportunities
END:VEVENT
BEGIN:VEVENT
DTSTART;VALUE=DATE:20230410
DTEND;VALUE=DATE:20230411
DTSTAMP:20260420T082406
CREATED:20220203T202305Z
LAST-MODIFIED:20220203T202305Z
UID:6509-1681084800-1681171199@centralchristian.edu
SUMMARY:Easter Travel Day (No Classes\, Evening Classes In Session)
DESCRIPTION:April 10
URL:https://centralchristian.edu/event/easter-travel-day-no-classes-evening-classes-in-session/
LOCATION:Employment Opportunities
END:VEVENT
BEGIN:VEVENT
DTSTART;VALUE=DATE:20230413
DTEND;VALUE=DATE:20230414
DTSTAMP:20260420T082406
CREATED:20220203T200209Z
LAST-MODIFIED:20220203T200209Z
UID:11296-1681344000-1681430399@centralchristian.edu
SUMMARY:Last Day To Drop A Term 2 Course With A W
DESCRIPTION:April 13
URL:https://centralchristian.edu/event/last-day-to-drop-a-term-2-course-with-a-w-5-2/
LOCATION:Employment Opportunities
END:VEVENT
BEGIN:VEVENT
DTSTART;VALUE=DATE:20230413
DTEND;VALUE=DATE:20230414
DTSTAMP:20260420T082406
CREATED:20220203T200209Z
LAST-MODIFIED:20220203T200209Z
UID:6498-1681344000-1681430399@centralchristian.edu
SUMMARY:Last Day To Drop A Term 2 Course With A W
DESCRIPTION:April 13
URL:https://centralchristian.edu/event/last-day-to-drop-a-term-2-course-with-a-w-5/
LOCATION:Employment Opportunities
END:VEVENT
BEGIN:VEVENT
DTSTART;TZID=America/Chicago:20230416T180000
DTEND;TZID=America/Chicago:20230416T180000
DTSTAMP:20260420T082406
CREATED:20230331T192237Z
LAST-MODIFIED:20230331T192237Z
UID:11381-1681668000-1681668000@centralchristian.edu
SUMMARY:Intramural Sport
DESCRIPTION:April 16
URL:https://centralchristian.edu/event/intramural-sport-2/
END:VEVENT
BEGIN:VEVENT
DTSTART;TZID=America/Chicago:20230416T180000
DTEND;TZID=America/Chicago:20230416T180000
DTSTAMP:20260420T082406
CREATED:20230331T192237Z
LAST-MODIFIED:20230331T192237Z
UID:8329-1681668000-1681668000@centralchristian.edu
SUMMARY:Intramural Sport
DESCRIPTION:April 16
URL:https://centralchristian.edu/event/intramural-sport/
END:VEVENT
BEGIN:VEVENT
DTSTART;TZID=America/Chicago:20230417T210000
DTEND;TZID=America/Chicago:20230417T210000
DTSTAMP:20260420T082406
CREATED:20230331T192552Z
LAST-MODIFIED:20230331T192552Z
UID:11382-1681765200-1681765200@centralchristian.edu
SUMMARY:Monday @ 9 - Pajama Party Karaoke Night
DESCRIPTION:April 17
URL:https://centralchristian.edu/event/monday-9-pajama-party-karaoke-night-2/
LOCATION:Student Access Portal
END:VEVENT
BEGIN:VEVENT
DTSTART;TZID=America/Chicago:20230417T210000
DTEND;TZID=America/Chicago:20230417T210000
DTSTAMP:20260420T082406
CREATED:20230331T192552Z
LAST-MODIFIED:20230331T192552Z
UID:8330-1681765200-1681765200@centralchristian.edu
SUMMARY:Monday @ 9 - Pajama Party Karaoke Night
DESCRIPTION:April 17
URL:https://centralchristian.edu/event/monday-9-pajama-party-karaoke-night/
LOCATION:Student Access Portal
END:VEVENT
BEGIN:VEVENT
DTSTART;TZID=America/Chicago:20230424T210000
DTEND;TZID=America/Chicago:20230424T210000
DTSTAMP:20260420T082406
CREATED:20230331T192703Z
LAST-MODIFIED:20230331T192703Z
UID:11383-1682370000-1682370000@centralchristian.edu
SUMMARY:Monday @ 9 - Dorm Event
DESCRIPTION:April 24
URL:https://centralchristian.edu/event/monday-9-dorm-event-2/
END:VEVENT
BEGIN:VEVENT
DTSTART;TZID=America/Chicago:20230424T210000
DTEND;TZID=America/Chicago:20230424T210000
DTSTAMP:20260420T082406
CREATED:20230331T192703Z
LAST-MODIFIED:20230331T192703Z
UID:8331-1682370000-1682370000@centralchristian.edu
SUMMARY:Monday @ 9 - Dorm Event
DESCRIPTION:April 24
URL:https://centralchristian.edu/event/monday-9-dorm-event/
END:VEVENT
BEGIN:VEVENT
DTSTART;TZID=America/Chicago:20230425T190000
DTEND;TZID=America/Chicago:20230425T190000
DTSTAMP:20260420T082406
CREATED:20230331T192003Z
LAST-MODIFIED:20230331T192003Z
UID:8327-1682449200-1682449200@centralchristian.edu
SUMMARY:Smoothies and Jazz
DESCRIPTION:April 25
URL:https://centralchristian.edu/event/smoothies-and-jazz/
LOCATION:Heartbeat Coffee\, 1211 S Main St\, McPherson\, KS\, 67460\, United States
END:VEVENT
BEGIN:VEVENT
DTSTART;TZID=America/Chicago:20230425T190000
DTEND;TZID=America/Chicago:20230425T190000
DTSTAMP:20260420T082406
CREATED:20230331T192003Z
LAST-MODIFIED:20230331T192003Z
UID:11380-1682449200-1682449200@centralchristian.edu
SUMMARY:Smoothies and Jazz
DESCRIPTION:April 25
URL:https://centralchristian.edu/event/smoothies-and-jazz-2/
LOCATION:Heartbeat Coffee\, 1211 S Main St\, McPherson\, KS\, 67460\, United States
END:VEVENT
BEGIN:VEVENT
DTSTART;VALUE=DATE:20230501
DTEND;VALUE=DATE:20230505
DTSTAMP:20260420T082406
CREATED:20220203T202930Z
LAST-MODIFIED:20220203T202930Z
UID:6514-1682899200-1683244799@centralchristian.edu
SUMMARY:Assessment Finals Week
DESCRIPTION:May 1-4
URL:https://centralchristian.edu/event/assessment-finals-week-11/
LOCATION:Employment Opportunities
END:VEVENT
BEGIN:VEVENT
DTSTART;VALUE=DATE:20230501
DTEND;VALUE=DATE:20230505
DTSTAMP:20260420T082406
CREATED:20220203T202930Z
LAST-MODIFIED:20220203T202930Z
UID:11307-1682899200-1683244799@centralchristian.edu
SUMMARY:Assessment Finals Week
DESCRIPTION:May 1-4
URL:https://centralchristian.edu/event/assessment-finals-week-11-2/
LOCATION:Employment Opportunities
END:VEVENT
BEGIN:VEVENT
DTSTART;TZID=America/Chicago:20230501T210000
DTEND;TZID=America/Chicago:20230501T210000
DTSTAMP:20260420T082406
CREATED:20230331T192918Z
LAST-MODIFIED:20230331T192918Z
UID:11384-1682974800-1682974800@centralchristian.edu
SUMMARY:Exam Crams
DESCRIPTION:May 1
URL:https://centralchristian.edu/event/exam-crams-4/
LOCATION:Student Access Portal
END:VEVENT
BEGIN:VEVENT
DTSTART;TZID=America/Chicago:20230501T210000
DTEND;TZID=America/Chicago:20230501T210000
DTSTAMP:20260420T082406
CREATED:20230331T192918Z
LAST-MODIFIED:20230331T192918Z
UID:8332-1682974800-1682974800@centralchristian.edu
SUMMARY:Exam Crams
DESCRIPTION:May 1
URL:https://centralchristian.edu/event/exam-crams/
LOCATION:Student Access Portal
END:VEVENT
BEGIN:VEVENT
DTSTART;TZID=America/Chicago:20230502T210000
DTEND;TZID=America/Chicago:20230502T210000
DTSTAMP:20260420T082406
CREATED:20230331T192958Z
LAST-MODIFIED:20230331T192958Z
UID:8333-1683061200-1683061200@centralchristian.edu
SUMMARY:Exam Crams
DESCRIPTION:May 2
URL:https://centralchristian.edu/event/exam-crams-2/
LOCATION:Student Access Portal
END:VEVENT
BEGIN:VEVENT
DTSTART;TZID=America/Chicago:20230502T210000
DTEND;TZID=America/Chicago:20230502T210000
DTSTAMP:20260420T082406
CREATED:20230331T192958Z
LAST-MODIFIED:20230331T192958Z
UID:11385-1683061200-1683061200@centralchristian.edu
SUMMARY:Exam Crams
DESCRIPTION:May 2
URL:https://centralchristian.edu/event/exam-crams-2-2/
LOCATION:Student Access Portal
END:VEVENT
BEGIN:VEVENT
DTSTART;TZID=America/Chicago:20230503T210000
DTEND;TZID=America/Chicago:20230503T210000
DTSTAMP:20260420T082406
CREATED:20230331T193043Z
LAST-MODIFIED:20230331T193043Z
UID:11386-1683147600-1683147600@centralchristian.edu
SUMMARY:Exam Crams
DESCRIPTION:May 3
URL:https://centralchristian.edu/event/exam-crams-3-2/
LOCATION:Student Access Portal
END:VEVENT
BEGIN:VEVENT
DTSTART;TZID=America/Chicago:20230503T210000
DTEND;TZID=America/Chicago:20230503T210000
DTSTAMP:20260420T082406
CREATED:20230331T193043Z
LAST-MODIFIED:20230331T193043Z
UID:8334-1683147600-1683147600@centralchristian.edu
SUMMARY:Exam Crams
DESCRIPTION:May 3
URL:https://centralchristian.edu/event/exam-crams-3/
LOCATION:Student Access Portal
END:VEVENT
BEGIN:VEVENT
DTSTART;VALUE=DATE:20230505
DTEND;VALUE=DATE:20230506
DTSTAMP:20260420T082406
CREATED:20220203T203305Z
LAST-MODIFIED:20220203T203305Z
UID:11310-1683244800-1683331199@centralchristian.edu
SUMMARY:Spring Board Meeting
DESCRIPTION:May 5
URL:https://centralchristian.edu/event/spring-board-meeting-5/
LOCATION:Employment Opportunities
END:VEVENT
BEGIN:VEVENT
DTSTART;VALUE=DATE:20230505
DTEND;VALUE=DATE:20230506
DTSTAMP:20260420T082406
CREATED:20220203T203305Z
LAST-MODIFIED:20220203T203305Z
UID:6519-1683244800-1683331199@centralchristian.edu
SUMMARY:Spring Board Meeting
DESCRIPTION:May 5
URL:https://centralchristian.edu/event/spring-board-meeting/
LOCATION:Employment Opportunities
END:VEVENT
BEGIN:VEVENT
DTSTART;VALUE=DATE:20230505
DTEND;VALUE=DATE:20230507
DTSTAMP:20260420T082406
CREATED:20220203T203852Z
LAST-MODIFIED:20220203T203852Z
UID:6525-1683244800-1683417599@centralchristian.edu
SUMMARY:Baccalaureate - Commencement
DESCRIPTION:May 5-6
URL:https://centralchristian.edu/event/baccalaureate-commencement-4/
LOCATION:Employment Opportunities
END:VEVENT
BEGIN:VEVENT
DTSTART;VALUE=DATE:20230505
DTEND;VALUE=DATE:20230507
DTSTAMP:20260420T082406
CREATED:20220203T203852Z
LAST-MODIFIED:20220203T203852Z
UID:11314-1683244800-1683417599@centralchristian.edu
SUMMARY:Baccalaureate - Commencement
DESCRIPTION:May 5-6
URL:https://centralchristian.edu/event/baccalaureate-commencement-4-2/
LOCATION:Employment Opportunities
END:VEVENT
END:VCALENDAR