BEGIN:VCALENDAR
VERSION:2.0
PRODID:-//Central Christian College - ECPv6.15.20//NONSGML v1.0//EN
CALSCALE:GREGORIAN
METHOD:PUBLISH
X-WR-CALNAME:Central Christian College
X-ORIGINAL-URL:https://centralchristian.edu
X-WR-CALDESC:Events for Central Christian College
REFRESH-INTERVAL;VALUE=DURATION:PT1H
X-Robots-Tag:noindex
X-PUBLISHED-TTL:PT1H
BEGIN:VTIMEZONE
TZID:America/New_York
BEGIN:DAYLIGHT
TZOFFSETFROM:-0500
TZOFFSETTO:-0400
TZNAME:EDT
DTSTART:20200308T070000
END:DAYLIGHT
BEGIN:STANDARD
TZOFFSETFROM:-0400
TZOFFSETTO:-0500
TZNAME:EST
DTSTART:20201101T060000
END:STANDARD
BEGIN:DAYLIGHT
TZOFFSETFROM:-0500
TZOFFSETTO:-0400
TZNAME:EDT
DTSTART:20210314T070000
END:DAYLIGHT
BEGIN:STANDARD
TZOFFSETFROM:-0400
TZOFFSETTO:-0500
TZNAME:EST
DTSTART:20211107T060000
END:STANDARD
BEGIN:DAYLIGHT
TZOFFSETFROM:-0500
TZOFFSETTO:-0400
TZNAME:EDT
DTSTART:20220313T070000
END:DAYLIGHT
BEGIN:STANDARD
TZOFFSETFROM:-0400
TZOFFSETTO:-0500
TZNAME:EST
DTSTART:20221106T060000
END:STANDARD
BEGIN:DAYLIGHT
TZOFFSETFROM:-0500
TZOFFSETTO:-0400
TZNAME:EDT
DTSTART:20230312T070000
END:DAYLIGHT
BEGIN:STANDARD
TZOFFSETFROM:-0400
TZOFFSETTO:-0500
TZNAME:EST
DTSTART:20231105T060000
END:STANDARD
END:VTIMEZONE
BEGIN:VEVENT
DTSTART;VALUE=DATE:20210917
DTEND;VALUE=DATE:20210918
DTSTAMP:20260425T091704
CREATED:20210610T194044Z
LAST-MODIFIED:20210610T194044Z
UID:5063-1631836800-1631923199@centralchristian.edu
SUMMARY:Last Day to Add a Fall 2 Online Course with a Fee
DESCRIPTION:September 17\, 2021
URL:https://centralchristian.edu/event/last-day-to-add-a-fall-2-online-course-with-a-fee-2/
LOCATION:Employment Opportunities
END:VEVENT
BEGIN:VEVENT
DTSTART;VALUE=DATE:20210917
DTEND;VALUE=DATE:20210918
DTSTAMP:20260425T091704
CREATED:20210610T194044Z
LAST-MODIFIED:20210610T194044Z
UID:11091-1631836800-1631923199@centralchristian.edu
SUMMARY:Last Day to Add a Fall 2 Online Course with a Fee
DESCRIPTION:September 17\, 2021
URL:https://centralchristian.edu/event/last-day-to-add-a-fall-2-online-course-with-a-fee-2-2/
LOCATION:Employment Opportunities
END:VEVENT
BEGIN:VEVENT
DTSTART;VALUE=DATE:20210926
DTEND;VALUE=DATE:20210927
DTSTAMP:20260425T091704
CREATED:20210610T194134Z
LAST-MODIFIED:20210610T194134Z
UID:11092-1632614400-1632700799@centralchristian.edu
SUMMARY:Fall 1 Online Course Ends
DESCRIPTION:September 26\, 2021
URL:https://centralchristian.edu/event/fall-1-online-course-ends-2-2/
LOCATION:Employment Opportunities
END:VEVENT
BEGIN:VEVENT
DTSTART;VALUE=DATE:20210926
DTEND;VALUE=DATE:20210927
DTSTAMP:20260425T091704
CREATED:20210610T194134Z
LAST-MODIFIED:20210610T194134Z
UID:5064-1632614400-1632700799@centralchristian.edu
SUMMARY:Fall 1 Online Course Ends
DESCRIPTION:September 26\, 2021
URL:https://centralchristian.edu/event/fall-1-online-course-ends-2/
LOCATION:Employment Opportunities
END:VEVENT
BEGIN:VEVENT
DTSTART;VALUE=DATE:20210927
DTEND;VALUE=DATE:20210928
DTSTAMP:20260425T091704
CREATED:20210610T194217Z
LAST-MODIFIED:20210610T194217Z
UID:5065-1632700800-1632787199@centralchristian.edu
SUMMARY:Fall 2 Online Course Begins
DESCRIPTION:September 27\, 2021
URL:https://centralchristian.edu/event/fall-2-online-course-begins-2/
LOCATION:Employment Opportunities
END:VEVENT
BEGIN:VEVENT
DTSTART;VALUE=DATE:20210927
DTEND;VALUE=DATE:20210928
DTSTAMP:20260425T091704
CREATED:20210610T194217Z
LAST-MODIFIED:20210610T194217Z
UID:11093-1632700800-1632787199@centralchristian.edu
SUMMARY:Fall 2 Online Course Begins
DESCRIPTION:September 27\, 2021
URL:https://centralchristian.edu/event/fall-2-online-course-begins-2-2/
LOCATION:Employment Opportunities
END:VEVENT
BEGIN:VEVENT
DTSTART;VALUE=DATE:20211001
DTEND;VALUE=DATE:20211002
DTSTAMP:20260425T091704
CREATED:20210610T194405Z
LAST-MODIFIED:20210610T194405Z
UID:5067-1633046400-1633132799@centralchristian.edu
SUMMARY:Mid-Semester (End of Term 1)
DESCRIPTION:October 1\, 2021
URL:https://centralchristian.edu/event/mid-semester-end-of-term-1-4/
LOCATION:Employment Opportunities
END:VEVENT
BEGIN:VEVENT
DTSTART;VALUE=DATE:20211001
DTEND;VALUE=DATE:20211002
DTSTAMP:20260425T091704
CREATED:20210610T194405Z
LAST-MODIFIED:20210610T194405Z
UID:11095-1633046400-1633132799@centralchristian.edu
SUMMARY:Mid-Semester (End of Term 1)
DESCRIPTION:October 1\, 2021
URL:https://centralchristian.edu/event/mid-semester-end-of-term-1-4-2/
LOCATION:Employment Opportunities
END:VEVENT
BEGIN:VEVENT
DTSTART;VALUE=DATE:20211001
DTEND;VALUE=DATE:20211004
DTSTAMP:20260425T091704
CREATED:20210610T194308Z
LAST-MODIFIED:20210610T194308Z
UID:5066-1633046400-1633305599@centralchristian.edu
SUMMARY:Homecoming/Family Weekend
DESCRIPTION:October 1-3\, 2021
URL:https://centralchristian.edu/event/homecoming-family-weekend/
LOCATION:Employment Opportunities
END:VEVENT
BEGIN:VEVENT
DTSTART;VALUE=DATE:20211001
DTEND;VALUE=DATE:20211004
DTSTAMP:20260425T091704
CREATED:20210610T194308Z
LAST-MODIFIED:20210610T194308Z
UID:11094-1633046400-1633305599@centralchristian.edu
SUMMARY:Homecoming/Family Weekend
DESCRIPTION:October 1-3\, 2021
URL:https://centralchristian.edu/event/homecoming-family-weekend-5/
LOCATION:Employment Opportunities
END:VEVENT
BEGIN:VEVENT
DTSTART;VALUE=DATE:20211004
DTEND;VALUE=DATE:20211005
DTSTAMP:20260425T091704
CREATED:20210610T194514Z
LAST-MODIFIED:20210610T194514Z
UID:5068-1633305600-1633391999@centralchristian.edu
SUMMARY:Term 2 Courses Begin; Mid-Semester Grades Due by 12 p.m. (Noon)
DESCRIPTION:October 4\, 2021
URL:https://centralchristian.edu/event/term-2-courses-begin-mid-semester-grades-due-by-12-p-m-noon-3/
LOCATION:Employment Opportunities
END:VEVENT
BEGIN:VEVENT
DTSTART;VALUE=DATE:20211004
DTEND;VALUE=DATE:20211005
DTSTAMP:20260425T091704
CREATED:20210610T194514Z
LAST-MODIFIED:20210610T194514Z
UID:11096-1633305600-1633391999@centralchristian.edu
SUMMARY:Term 2 Courses Begin; Mid-Semester Grades Due by 12 p.m. (Noon)
DESCRIPTION:October 4\, 2021
URL:https://centralchristian.edu/event/term-2-courses-begin-mid-semester-grades-due-by-12-p-m-noon-3-2/
LOCATION:Employment Opportunities
END:VEVENT
BEGIN:VEVENT
DTSTART;VALUE=DATE:20211013
DTEND;VALUE=DATE:20211014
DTSTAMP:20260425T091704
CREATED:20210610T194622Z
LAST-MODIFIED:20210610T194622Z
UID:11097-1634083200-1634169599@centralchristian.edu
SUMMARY:Last Day to Drop a Full-Term Course With a W
DESCRIPTION:October 13\, 2021
URL:https://centralchristian.edu/event/last-day-to-drop-a-full-term-course-with-a-w-6-2/
LOCATION:Employment Opportunities
END:VEVENT
BEGIN:VEVENT
DTSTART;VALUE=DATE:20211013
DTEND;VALUE=DATE:20211014
DTSTAMP:20260425T091704
CREATED:20210610T194622Z
LAST-MODIFIED:20210610T194622Z
UID:5069-1634083200-1634169599@centralchristian.edu
SUMMARY:Last Day to Drop a Full-Term Course With a W
DESCRIPTION:October 13\, 2021
URL:https://centralchristian.edu/event/last-day-to-drop-a-full-term-course-with-a-w-6/
LOCATION:Employment Opportunities
END:VEVENT
BEGIN:VEVENT
DTSTART;VALUE=DATE:20211017
DTEND;VALUE=DATE:20211018
DTSTAMP:20260425T091704
CREATED:20210610T194810Z
LAST-MODIFIED:20210610T194810Z
UID:11098-1634428800-1634515199@centralchristian.edu
SUMMARY:Last Day to Drop a Fall 2 Online Course With a W
DESCRIPTION:October 17\, 2021
URL:https://centralchristian.edu/event/last-day-to-drop-a-fall-2-online-course-with-a-w-3-2/
LOCATION:Employment Opportunities
END:VEVENT
BEGIN:VEVENT
DTSTART;VALUE=DATE:20211017
DTEND;VALUE=DATE:20211018
DTSTAMP:20260425T091704
CREATED:20210610T194810Z
LAST-MODIFIED:20210610T194810Z
UID:5070-1634428800-1634515199@centralchristian.edu
SUMMARY:Last Day to Drop a Fall 2 Online Course With a W
DESCRIPTION:October 17\, 2021
URL:https://centralchristian.edu/event/last-day-to-drop-a-fall-2-online-course-with-a-w-3/
LOCATION:Employment Opportunities
END:VEVENT
BEGIN:VEVENT
DTSTART;VALUE=DATE:20211102
DTEND;VALUE=DATE:20211103
DTSTAMP:20260425T091704
CREATED:20210610T204856Z
LAST-MODIFIED:20210610T204856Z
UID:11136-1635811200-1635897599@centralchristian.edu
SUMMARY:Last Day to Drop a Term 2 Course With a W
DESCRIPTION:November 2\, 2021
URL:https://centralchristian.edu/event/last-day-to-drop-a-term-2-course-with-a-w-4-2/
LOCATION:Employment Opportunities
END:VEVENT
BEGIN:VEVENT
DTSTART;VALUE=DATE:20211102
DTEND;VALUE=DATE:20211103
DTSTAMP:20260425T091704
CREATED:20210610T204856Z
LAST-MODIFIED:20210610T204856Z
UID:5110-1635811200-1635897599@centralchristian.edu
SUMMARY:Last Day to Drop a Term 2 Course With a W
DESCRIPTION:November 2\, 2021
URL:https://centralchristian.edu/event/last-day-to-drop-a-term-2-course-with-a-w-4/
LOCATION:Employment Opportunities
END:VEVENT
BEGIN:VEVENT
DTSTART;VALUE=DATE:20211107
DTEND;VALUE=DATE:20211108
DTSTAMP:20260425T091704
CREATED:20210610T194850Z
LAST-MODIFIED:20210610T194850Z
UID:5071-1636243200-1636329599@centralchristian.edu
SUMMARY:Fall 2 Online Course Ends
DESCRIPTION:November 7\, 2021
URL:https://centralchristian.edu/event/fall-2-online-course-ends-3/
LOCATION:Employment Opportunities
END:VEVENT
BEGIN:VEVENT
DTSTART;VALUE=DATE:20211107
DTEND;VALUE=DATE:20211108
DTSTAMP:20260425T091704
CREATED:20210610T194850Z
LAST-MODIFIED:20210610T194850Z
UID:11099-1636243200-1636329599@centralchristian.edu
SUMMARY:Fall 2 Online Course Ends
DESCRIPTION:November 7\, 2021
URL:https://centralchristian.edu/event/fall-2-online-course-ends-3-2/
LOCATION:Employment Opportunities
END:VEVENT
BEGIN:VEVENT
DTSTART;TZID=America/New_York:20211116T080000
DTEND;TZID=America/New_York:20211116T133000
DTSTAMP:20260425T091704
CREATED:20211005T184132Z
LAST-MODIFIED:20211005T184132Z
UID:11395-1637049600-1637069400@centralchristian.edu
SUMMARY:Blood Drive
DESCRIPTION:November 16\, 2021
URL:https://centralchristian.edu/event/blood-drive-2/
LOCATION:Employment Opportunities
END:VEVENT
BEGIN:VEVENT
DTSTART;TZID=America/New_York:20211116T080000
DTEND;TZID=America/New_York:20211116T133000
DTSTAMP:20260425T091704
CREATED:20211005T184132Z
LAST-MODIFIED:20211005T184132Z
UID:5718-1637049600-1637069400@centralchristian.edu
SUMMARY:Blood Drive
DESCRIPTION:November 16\, 2021
URL:https://centralchristian.edu/event/blood-drive/
LOCATION:Employment Opportunities
END:VEVENT
BEGIN:VEVENT
DTSTART;VALUE=DATE:20211119
DTEND;VALUE=DATE:20211125
DTSTAMP:20260425T091704
CREATED:20210610T195550Z
LAST-MODIFIED:20210610T195550Z
UID:5072-1637280000-1637798399@centralchristian.edu
SUMMARY:Assessment/Finals Week
DESCRIPTION:November 19-24\, 2021
URL:https://centralchristian.edu/event/assessment-finals-week-4/
LOCATION:Employment Opportunities
END:VEVENT
BEGIN:VEVENT
DTSTART;VALUE=DATE:20211119
DTEND;VALUE=DATE:20211125
DTSTAMP:20260425T091704
CREATED:20210610T195550Z
LAST-MODIFIED:20210610T195550Z
UID:11100-1637280000-1637798399@centralchristian.edu
SUMMARY:Assessment/Finals Week
DESCRIPTION:November 19-24\, 2021
URL:https://centralchristian.edu/event/assessment-finals-week-4-2/
LOCATION:Employment Opportunities
END:VEVENT
BEGIN:VEVENT
DTSTART;VALUE=DATE:20211129
DTEND;VALUE=DATE:20211130
DTSTAMP:20260425T091704
CREATED:20210610T195747Z
LAST-MODIFIED:20210610T195747Z
UID:11102-1638144000-1638230399@centralchristian.edu
SUMMARY:Final Grades Due by 12 p.m. (Noon)
DESCRIPTION:November 29\, 2021
URL:https://centralchristian.edu/event/final-grades-due-by-12-p-m-noon-6-2/
LOCATION:Employment Opportunities
END:VEVENT
BEGIN:VEVENT
DTSTART;VALUE=DATE:20211129
DTEND;VALUE=DATE:20211130
DTSTAMP:20260425T091704
CREATED:20210610T195747Z
LAST-MODIFIED:20210610T195747Z
UID:5074-1638144000-1638230399@centralchristian.edu
SUMMARY:Final Grades Due by 12 p.m. (Noon)
DESCRIPTION:November 29\, 2021
URL:https://centralchristian.edu/event/final-grades-due-by-12-p-m-noon-6/
LOCATION:Employment Opportunities
END:VEVENT
BEGIN:VEVENT
DTSTART;VALUE=DATE:20211129
DTEND;VALUE=DATE:20211201
DTSTAMP:20260425T091704
CREATED:20210610T195659Z
LAST-MODIFIED:20210610T195659Z
UID:5073-1638144000-1638316799@centralchristian.edu
SUMMARY:Faculty Assessment Days
DESCRIPTION:November 29-30\, 2021
URL:https://centralchristian.edu/event/faculty-assessment-days-5/
LOCATION:Employment Opportunities
END:VEVENT
BEGIN:VEVENT
DTSTART;VALUE=DATE:20211129
DTEND;VALUE=DATE:20211201
DTSTAMP:20260425T091704
CREATED:20210610T195659Z
LAST-MODIFIED:20210610T195659Z
UID:11101-1638144000-1638316799@centralchristian.edu
SUMMARY:Faculty Assessment Days
DESCRIPTION:November 29-30\, 2021
URL:https://centralchristian.edu/event/faculty-assessment-days-5-2/
LOCATION:Employment Opportunities
END:VEVENT
BEGIN:VEVENT
DTSTART;VALUE=DATE:20220107
DTEND;VALUE=DATE:20220108
DTSTAMP:20260425T091704
CREATED:20210610T195849Z
LAST-MODIFIED:20210610T195849Z
UID:11103-1641513600-1641599999@centralchristian.edu
SUMMARY:Faculty Office Day
DESCRIPTION:January 7\, 2022
URL:https://centralchristian.edu/event/faculty-office-day-3-2/
LOCATION:Employment Opportunities
END:VEVENT
BEGIN:VEVENT
DTSTART;VALUE=DATE:20220107
DTEND;VALUE=DATE:20220108
DTSTAMP:20260425T091704
CREATED:20210610T195849Z
LAST-MODIFIED:20210610T195849Z
UID:5075-1641513600-1641599999@centralchristian.edu
SUMMARY:Faculty Office Day
DESCRIPTION:January 7\, 2022
URL:https://centralchristian.edu/event/faculty-office-day-3/
LOCATION:Employment Opportunities
END:VEVENT
END:VCALENDAR