BEGIN:VCALENDAR
VERSION:2.0
PRODID:-//Central Christian College - ECPv6.15.20//NONSGML v1.0//EN
CALSCALE:GREGORIAN
METHOD:PUBLISH
X-WR-CALNAME:Central Christian College
X-ORIGINAL-URL:https://centralchristian.edu
X-WR-CALDESC:Events for Central Christian College
REFRESH-INTERVAL;VALUE=DURATION:PT1H
X-Robots-Tag:noindex
X-PUBLISHED-TTL:PT1H
BEGIN:VTIMEZONE
TZID:America/Chicago
BEGIN:DAYLIGHT
TZOFFSETFROM:-0600
TZOFFSETTO:-0500
TZNAME:CDT
DTSTART:20240310T080000
END:DAYLIGHT
BEGIN:STANDARD
TZOFFSETFROM:-0500
TZOFFSETTO:-0600
TZNAME:CST
DTSTART:20241103T070000
END:STANDARD
BEGIN:DAYLIGHT
TZOFFSETFROM:-0600
TZOFFSETTO:-0500
TZNAME:CDT
DTSTART:20250309T080000
END:DAYLIGHT
BEGIN:STANDARD
TZOFFSETFROM:-0500
TZOFFSETTO:-0600
TZNAME:CST
DTSTART:20251102T070000
END:STANDARD
BEGIN:DAYLIGHT
TZOFFSETFROM:-0600
TZOFFSETTO:-0500
TZNAME:CDT
DTSTART:20260308T080000
END:DAYLIGHT
BEGIN:STANDARD
TZOFFSETFROM:-0500
TZOFFSETTO:-0600
TZNAME:CST
DTSTART:20261101T070000
END:STANDARD
END:VTIMEZONE
BEGIN:VEVENT
DTSTART;VALUE=DATE:20250826
DTEND;VALUE=DATE:20250827
DTSTAMP:20260424T111521
CREATED:20220125T202241Z
LAST-MODIFIED:20220125T202241Z
UID:6245-1756166400-1756252799@centralchristian.edu
SUMMARY:Fall Day Classes Begin
DESCRIPTION:August 26
URL:https://centralchristian.edu/event/fall-day-classes-begin-6/
END:VEVENT
BEGIN:VEVENT
DTSTART;VALUE=DATE:20250826
DTEND;VALUE=DATE:20250827
DTSTAMP:20260424T111521
CREATED:20220125T202241Z
LAST-MODIFIED:20220125T202241Z
UID:11169-1756166400-1756252799@centralchristian.edu
SUMMARY:Fall Day Classes Begin
DESCRIPTION:August 26
URL:https://centralchristian.edu/event/fall-day-classes-begin-6-2/
END:VEVENT
BEGIN:VEVENT
DTSTART;VALUE=DATE:20250825
DTEND;VALUE=DATE:20250826
DTSTAMP:20260424T111521
CREATED:20220125T201823Z
LAST-MODIFIED:20220125T201823Z
UID:11166-1756080000-1756166399@centralchristian.edu
SUMMARY:Registration Day - Fall Evening Classes Begin
DESCRIPTION:August 25
URL:https://centralchristian.edu/event/registration-day-fall-evening-classes-begin-4-2/
END:VEVENT
BEGIN:VEVENT
DTSTART;VALUE=DATE:20250825
DTEND;VALUE=DATE:20250826
DTSTAMP:20260424T111521
CREATED:20220125T201823Z
LAST-MODIFIED:20220125T201823Z
UID:6240-1756080000-1756166399@centralchristian.edu
SUMMARY:Registration Day - Fall Evening Classes Begin
DESCRIPTION:August 25
URL:https://centralchristian.edu/event/registration-day-fall-evening-classes-begin-4/
END:VEVENT
BEGIN:VEVENT
DTSTART;TZID=America/Chicago:20250824T130000
DTEND;TZID=America/Chicago:20250824T180000
DTSTAMP:20260424T111521
CREATED:20250730T170051Z
LAST-MODIFIED:20250730T170051Z
UID:11416-1756040400-1756058400@centralchristian.edu
SUMMARY:Returning Students Fall Move-in
DESCRIPTION:August 24
URL:https://centralchristian.edu/event/returning-students-fall-move-in-2/
END:VEVENT
BEGIN:VEVENT
DTSTART;TZID=America/Chicago:20250824T130000
DTEND;TZID=America/Chicago:20250824T180000
DTSTAMP:20260424T111521
CREATED:20250730T170051Z
LAST-MODIFIED:20250730T170051Z
UID:10409-1756040400-1756058400@centralchristian.edu
SUMMARY:Returning Students Fall Move-in
DESCRIPTION:August 24
URL:https://centralchristian.edu/event/returning-students-fall-move-in/
END:VEVENT
BEGIN:VEVENT
DTSTART;VALUE=DATE:20250824
DTEND;VALUE=DATE:20250825
DTSTAMP:20260424T111521
CREATED:20220125T202736Z
LAST-MODIFIED:20220125T202736Z
UID:6250-1755993600-1756079999@centralchristian.edu
SUMMARY:Last Day To Add/Drop A Full Semester And Fall 2 Online Course For Credit
DESCRIPTION:August 24
URL:https://centralchristian.edu/event/last-day-to-add-drop-a-full-semester-and-fall-2-online-course-for-credit-4/
LOCATION:Employment Opportunities
END:VEVENT
BEGIN:VEVENT
DTSTART;VALUE=DATE:20250824
DTEND;VALUE=DATE:20250825
DTSTAMP:20260424T111521
CREATED:20220125T202736Z
LAST-MODIFIED:20220125T202736Z
UID:11173-1755993600-1756079999@centralchristian.edu
SUMMARY:Last Day To Add/Drop A Full Semester And Fall 2 Online Course For Credit
DESCRIPTION:August 24
URL:https://centralchristian.edu/event/last-day-to-add-drop-a-full-semester-and-fall-2-online-course-for-credit-4-2/
LOCATION:Employment Opportunities
END:VEVENT
BEGIN:VEVENT
DTSTART;TZID=America/Chicago:20250821T090000
DTEND;TZID=America/Chicago:20250821T170000
DTSTAMP:20260424T111521
CREATED:20250730T170506Z
LAST-MODIFIED:20250730T170506Z
UID:10412-1755766800-1755795600@centralchristian.edu
SUMMARY:New Student Move-in
DESCRIPTION:August 21
URL:https://centralchristian.edu/event/new-student-move-in/
CATEGORIES:Student Life
END:VEVENT
BEGIN:VEVENT
DTSTART;TZID=America/Chicago:20250821T090000
DTEND;TZID=America/Chicago:20250821T170000
DTSTAMP:20260424T111521
CREATED:20250730T170506Z
LAST-MODIFIED:20250730T170506Z
UID:11417-1755766800-1755795600@centralchristian.edu
SUMMARY:New Student Move-in
DESCRIPTION:August 21
URL:https://centralchristian.edu/event/new-student-move-in-2/
CATEGORIES:Student Life
END:VEVENT
BEGIN:VEVENT
DTSTART;VALUE=DATE:20250818
DTEND;VALUE=DATE:20250819
DTSTAMP:20260424T111521
CREATED:20220125T201327Z
LAST-MODIFIED:20220125T201327Z
UID:6235-1755475200-1755561599@centralchristian.edu
SUMMARY:Registration Day - New Students/Fall 1 Online Courses Begin
DESCRIPTION:August 18
URL:https://centralchristian.edu/event/registration-day-new-students-fall-1-online-courses-begin-4/
LOCATION:Employment Opportunities
END:VEVENT
BEGIN:VEVENT
DTSTART;VALUE=DATE:20250818
DTEND;VALUE=DATE:20250819
DTSTAMP:20260424T111521
CREATED:20220125T201327Z
LAST-MODIFIED:20220125T201327Z
UID:11163-1755475200-1755561599@centralchristian.edu
SUMMARY:Registration Day - New Students/Fall 1 Online Courses Begin
DESCRIPTION:August 18
URL:https://centralchristian.edu/event/registration-day-new-students-fall-1-online-courses-begin-4-2/
LOCATION:Employment Opportunities
END:VEVENT
BEGIN:VEVENT
DTSTART;VALUE=DATE:20250817
DTEND;VALUE=DATE:20250818
DTSTAMP:20260424T111521
CREATED:20220210T195717Z
LAST-MODIFIED:20220210T195717Z
UID:11373-1755388800-1755475199@centralchristian.edu
SUMMARY:Last Day Of Summer 2 Online Course/ Summer Term
DESCRIPTION:August 17
URL:https://centralchristian.edu/event/last-day-of-summer-2-online-course-summer-term-6-2/
LOCATION:Employment Opportunities
END:VEVENT
BEGIN:VEVENT
DTSTART;VALUE=DATE:20250817
DTEND;VALUE=DATE:20250818
DTSTAMP:20260424T111521
CREATED:20220210T195717Z
LAST-MODIFIED:20220210T195717Z
UID:6655-1755388800-1755475199@centralchristian.edu
SUMMARY:Last Day Of Summer 2 Online Course/ Summer Term
DESCRIPTION:August 17
URL:https://centralchristian.edu/event/last-day-of-summer-2-online-course-summer-term-6/
LOCATION:Employment Opportunities
END:VEVENT
BEGIN:VEVENT
DTSTART;VALUE=DATE:20250811
DTEND;VALUE=DATE:20250814
DTSTAMP:20260424T111521
CREATED:20220125T200802Z
LAST-MODIFIED:20220125T200802Z
UID:11160-1754870400-1755129599@centralchristian.edu
SUMMARY:All Staff Workshop
DESCRIPTION:August 11-13 2025
URL:https://centralchristian.edu/event/all-staff-workshop-4-2/
LOCATION:Employment Opportunities
END:VEVENT
BEGIN:VEVENT
DTSTART;VALUE=DATE:20250811
DTEND;VALUE=DATE:20250814
DTSTAMP:20260424T111521
CREATED:20220125T200802Z
LAST-MODIFIED:20220125T200802Z
UID:6230-1754870400-1755129599@centralchristian.edu
SUMMARY:All Staff Workshop
DESCRIPTION:August 11-13 2025
URL:https://centralchristian.edu/event/all-staff-workshop-4/
LOCATION:Employment Opportunities
END:VEVENT
BEGIN:VEVENT
DTSTART;VALUE=DATE:20250809
DTEND;VALUE=DATE:20250810
DTSTAMP:20260424T111521
CREATED:20250730T170632Z
LAST-MODIFIED:20250730T170632Z
UID:10415-1754697600-1754783999@centralchristian.edu
SUMMARY:Fall Athlete Move-in
DESCRIPTION:August 9
URL:https://centralchristian.edu/event/fall-athlete-move-in/
END:VEVENT
BEGIN:VEVENT
DTSTART;VALUE=DATE:20250809
DTEND;VALUE=DATE:20250810
DTSTAMP:20260424T111521
CREATED:20250730T170632Z
LAST-MODIFIED:20250730T170632Z
UID:11418-1754697600-1754783999@centralchristian.edu
SUMMARY:Fall Athlete Move-in
DESCRIPTION:August 9
URL:https://centralchristian.edu/event/fall-athlete-move-in-2/
END:VEVENT
BEGIN:VEVENT
DTSTART;VALUE=DATE:20250808
DTEND;VALUE=DATE:20250809
DTSTAMP:20260424T111521
CREATED:20220125T195753Z
LAST-MODIFIED:20220125T195753Z
UID:6222-1754611200-1754697599@centralchristian.edu
SUMMARY:Last Day To Add Fall 1 Online Course
DESCRIPTION:August 8
URL:https://centralchristian.edu/event/last-day-to-add-fall-1-online-course-4/
LOCATION:Employment Opportunities
END:VEVENT
BEGIN:VEVENT
DTSTART;VALUE=DATE:20250808
DTEND;VALUE=DATE:20250809
DTSTAMP:20260424T111521
CREATED:20220125T195753Z
LAST-MODIFIED:20220125T195753Z
UID:11157-1754611200-1754697599@centralchristian.edu
SUMMARY:Last Day To Add Fall 1 Online Course
DESCRIPTION:August 8
URL:https://centralchristian.edu/event/last-day-to-add-fall-1-online-course-4-2/
LOCATION:Employment Opportunities
END:VEVENT
BEGIN:VEVENT
DTSTART;VALUE=DATE:20250806
DTEND;VALUE=DATE:20250807
DTSTAMP:20260424T111521
CREATED:20220125T194934Z
LAST-MODIFIED:20220125T194934Z
UID:11154-1754438400-1754524799@centralchristian.edu
SUMMARY:Faculty Arrive On Campus
DESCRIPTION:August 6th
URL:https://centralchristian.edu/event/faculty-arrive-on-campus-5-2/
LOCATION:Employment Opportunities
END:VEVENT
BEGIN:VEVENT
DTSTART;VALUE=DATE:20250806
DTEND;VALUE=DATE:20250807
DTSTAMP:20260424T111521
CREATED:20220125T194934Z
LAST-MODIFIED:20220125T194934Z
UID:6216-1754438400-1754524799@centralchristian.edu
SUMMARY:Faculty Arrive On Campus
DESCRIPTION:August 6th
URL:https://centralchristian.edu/event/faculty-arrive-on-campus-5/
LOCATION:Employment Opportunities
END:VEVENT
BEGIN:VEVENT
DTSTART;VALUE=DATE:20250804
DTEND;VALUE=DATE:20250805
DTSTAMP:20260424T111521
CREATED:20250730T170746Z
LAST-MODIFIED:20250730T170746Z
UID:10418-1754265600-1754351999@centralchristian.edu
SUMMARY:Resident Life Student Staff Move-in
DESCRIPTION:August 4
URL:https://centralchristian.edu/event/resident-life-student-staff-move-in/
END:VEVENT
BEGIN:VEVENT
DTSTART;VALUE=DATE:20250804
DTEND;VALUE=DATE:20250805
DTSTAMP:20260424T111521
CREATED:20250730T170746Z
LAST-MODIFIED:20250730T170746Z
UID:11419-1754265600-1754351999@centralchristian.edu
SUMMARY:Resident Life Student Staff Move-in
DESCRIPTION:August 4
URL:https://centralchristian.edu/event/resident-life-student-staff-move-in-2/
END:VEVENT
BEGIN:VEVENT
DTSTART;VALUE=DATE:20250727
DTEND;VALUE=DATE:20250728
DTSTAMP:20260424T111521
CREATED:20220210T195134Z
LAST-MODIFIED:20220210T195134Z
UID:6650-1753574400-1753660799@centralchristian.edu
SUMMARY:Last Day To Drop A Summer 2 Online Course With A W
DESCRIPTION:July 27
URL:https://centralchristian.edu/event/last-day-to-drop-a-summer-2-online-course-with-a-w-6/
LOCATION:Employment Opportunities
END:VEVENT
BEGIN:VEVENT
DTSTART;VALUE=DATE:20250727
DTEND;VALUE=DATE:20250728
DTSTAMP:20260424T111521
CREATED:20220210T195134Z
LAST-MODIFIED:20220210T195134Z
UID:11370-1753574400-1753660799@centralchristian.edu
SUMMARY:Last Day To Drop A Summer 2 Online Course With A W
DESCRIPTION:July 27
URL:https://centralchristian.edu/event/last-day-to-drop-a-summer-2-online-course-with-a-w-6-2/
LOCATION:Employment Opportunities
END:VEVENT
BEGIN:VEVENT
DTSTART;VALUE=DATE:20250711
DTEND;VALUE=DATE:20250712
DTSTAMP:20260424T111521
CREATED:20220210T193432Z
LAST-MODIFIED:20220210T193432Z
UID:11367-1752192000-1752278399@centralchristian.edu
SUMMARY:Last Day To Drop A Full Term Course With A W
DESCRIPTION:July 11
URL:https://centralchristian.edu/event/last-day-to-drop-a-full-term-course-with-a-w-21-2/
LOCATION:Employment Opportunities
END:VEVENT
BEGIN:VEVENT
DTSTART;VALUE=DATE:20250711
DTEND;VALUE=DATE:20250712
DTSTAMP:20260424T111521
CREATED:20220210T193432Z
LAST-MODIFIED:20220210T193432Z
UID:6645-1752192000-1752278399@centralchristian.edu
SUMMARY:Last Day To Drop A Full Term Course With A W
DESCRIPTION:July 11
URL:https://centralchristian.edu/event/last-day-to-drop-a-full-term-course-with-a-w-21/
LOCATION:Employment Opportunities
END:VEVENT
BEGIN:VEVENT
DTSTART;VALUE=DATE:20250707
DTEND;VALUE=DATE:20250708
DTSTAMP:20260424T111521
CREATED:20220210T192518Z
LAST-MODIFIED:20220210T192518Z
UID:6639-1751846400-1751932799@centralchristian.edu
SUMMARY:Summer 2 Online Course Begins
DESCRIPTION:July 7
URL:https://centralchristian.edu/event/summer-2-online-course-begins-6/
LOCATION:Employment Opportunities
END:VEVENT
BEGIN:VEVENT
DTSTART;VALUE=DATE:20250707
DTEND;VALUE=DATE:20250708
DTSTAMP:20260424T111521
CREATED:20220210T192518Z
LAST-MODIFIED:20220210T192518Z
UID:11364-1751846400-1751932799@centralchristian.edu
SUMMARY:Summer 2 Online Course Begins
DESCRIPTION:July 7
URL:https://centralchristian.edu/event/summer-2-online-course-begins-6-2/
LOCATION:Employment Opportunities
END:VEVENT
END:VCALENDAR