BEGIN:VCALENDAR
VERSION:2.0
PRODID:-//Central Christian College - ECPv6.15.20//NONSGML v1.0//EN
CALSCALE:GREGORIAN
METHOD:PUBLISH
X-WR-CALNAME:Central Christian College
X-ORIGINAL-URL:https://centralchristian.edu
X-WR-CALDESC:Events for Central Christian College
REFRESH-INTERVAL;VALUE=DURATION:PT1H
X-Robots-Tag:noindex
X-PUBLISHED-TTL:PT1H
BEGIN:VTIMEZONE
TZID:America/Chicago
BEGIN:DAYLIGHT
TZOFFSETFROM:-0600
TZOFFSETTO:-0500
TZNAME:CDT
DTSTART:20210314T080000
END:DAYLIGHT
BEGIN:STANDARD
TZOFFSETFROM:-0500
TZOFFSETTO:-0600
TZNAME:CST
DTSTART:20211107T070000
END:STANDARD
BEGIN:DAYLIGHT
TZOFFSETFROM:-0600
TZOFFSETTO:-0500
TZNAME:CDT
DTSTART:20220313T080000
END:DAYLIGHT
BEGIN:STANDARD
TZOFFSETFROM:-0500
TZOFFSETTO:-0600
TZNAME:CST
DTSTART:20221106T070000
END:STANDARD
BEGIN:DAYLIGHT
TZOFFSETFROM:-0600
TZOFFSETTO:-0500
TZNAME:CDT
DTSTART:20230312T080000
END:DAYLIGHT
BEGIN:STANDARD
TZOFFSETFROM:-0500
TZOFFSETTO:-0600
TZNAME:CST
DTSTART:20231105T070000
END:STANDARD
END:VTIMEZONE
BEGIN:VEVENT
DTSTART;TZID=America/Chicago:20221017T100000
DTEND;TZID=America/Chicago:20221017T110000
DTSTAMP:20260422T035527
CREATED:20221011T215325Z
LAST-MODIFIED:20221011T215325Z
UID:10886-1666000800-1666004400@centralchristian.edu
SUMMARY:Convocation
DESCRIPTION:Convocation
URL:https://centralchristian.edu/event/convocation-2022-10-17-2/
LOCATION:Employment Opportunities
END:VEVENT
BEGIN:VEVENT
DTSTART;TZID=America/Chicago:20221017T100000
DTEND;TZID=America/Chicago:20221017T110000
DTSTAMP:20260422T035527
CREATED:20221011T215325Z
LAST-MODIFIED:20221011T215325Z
UID:7369-1666000800-1666004400@centralchristian.edu
SUMMARY:Convocation
DESCRIPTION:Convocation
URL:https://centralchristian.edu/event/convocation-2022-10-17/
LOCATION:Employment Opportunities
END:VEVENT
BEGIN:VEVENT
DTSTART;VALUE=DATE:20221017
DTEND;VALUE=DATE:20221018
DTSTAMP:20260422T035527
CREATED:20220127T194220Z
LAST-MODIFIED:20220127T194220Z
UID:11210-1665964800-1666051199@centralchristian.edu
SUMMARY:Term 2 Courses Begin; Mid-Semester Grades Due By 12 p.m. (Noon)
DESCRIPTION:October 17
URL:https://centralchristian.edu/event/term-2-courses-begin-mid-semester-grades-due-by-12-p-m-noon-4-2/
LOCATION:Employment Opportunities
END:VEVENT
BEGIN:VEVENT
DTSTART;VALUE=DATE:20221017
DTEND;VALUE=DATE:20221018
DTSTAMP:20260422T035527
CREATED:20220127T194220Z
LAST-MODIFIED:20220127T194220Z
UID:6313-1665964800-1666051199@centralchristian.edu
SUMMARY:Term 2 Courses Begin; Mid-Semester Grades Due By 12 p.m. (Noon)
DESCRIPTION:October 17
URL:https://centralchristian.edu/event/term-2-courses-begin-mid-semester-grades-due-by-12-p-m-noon-4/
LOCATION:Employment Opportunities
END:VEVENT
BEGIN:VEVENT
DTSTART;VALUE=DATE:20221014
DTEND;VALUE=DATE:20221015
DTSTAMP:20260422T035527
CREATED:20220127T193003Z
LAST-MODIFIED:20220127T193003Z
UID:11203-1665705600-1665791999@centralchristian.edu
SUMMARY:Mid-Semester (End of Term 1)
DESCRIPTION:October 14
URL:https://centralchristian.edu/event/mid-semester-end-of-term-1-6-2/
LOCATION:Employment Opportunities
END:VEVENT
BEGIN:VEVENT
DTSTART;VALUE=DATE:20221014
DTEND;VALUE=DATE:20221015
DTSTAMP:20260422T035527
CREATED:20220127T193003Z
LAST-MODIFIED:20220127T193003Z
UID:6300-1665705600-1665791999@centralchristian.edu
SUMMARY:Mid-Semester (End of Term 1)
DESCRIPTION:October 14
URL:https://centralchristian.edu/event/mid-semester-end-of-term-1-6/
LOCATION:Employment Opportunities
END:VEVENT
BEGIN:VEVENT
DTSTART;VALUE=DATE:20221013
DTEND;VALUE=DATE:20221015
DTSTAMP:20260422T035527
CREATED:20220127T193539Z
LAST-MODIFIED:20220127T193539Z
UID:11206-1665619200-1665791999@centralchristian.edu
SUMMARY:Fall Break (No Classes) (Faculty Work Days)
DESCRIPTION:October 13 – 14 2022
URL:https://centralchristian.edu/event/fall-break-no-classes-faculty-work-days-4/
LOCATION:Employment Opportunities
END:VEVENT
BEGIN:VEVENT
DTSTART;VALUE=DATE:20221013
DTEND;VALUE=DATE:20221015
DTSTAMP:20260422T035527
CREATED:20220127T193539Z
LAST-MODIFIED:20220127T193539Z
UID:6306-1665619200-1665791999@centralchristian.edu
SUMMARY:Fall Break (No Classes) (Faculty Work Days)
DESCRIPTION:October 13 – 14 2022
URL:https://centralchristian.edu/event/fall-break-no-classes-faculty-work-days/
LOCATION:Employment Opportunities
END:VEVENT
BEGIN:VEVENT
DTSTART;TZID=America/Chicago:20221012T100000
DTEND;TZID=America/Chicago:20221012T110000
DTSTAMP:20260422T035527
CREATED:20221011T215101Z
LAST-MODIFIED:20221011T215101Z
UID:10867-1665568800-1665572400@centralchristian.edu
SUMMARY:Chapel
DESCRIPTION:Chapel
URL:https://centralchristian.edu/event/chapel-3-2022-10-12-2/
LOCATION:Student Access Portal
END:VEVENT
BEGIN:VEVENT
DTSTART;TZID=America/Chicago:20221012T100000
DTEND;TZID=America/Chicago:20221012T110000
DTSTAMP:20260422T035527
CREATED:20221011T215101Z
LAST-MODIFIED:20221011T215101Z
UID:7349-1665568800-1665572400@centralchristian.edu
SUMMARY:Chapel
DESCRIPTION:Chapel
URL:https://centralchristian.edu/event/chapel-3-2022-10-12/
LOCATION:Student Access Portal
END:VEVENT
BEGIN:VEVENT
DTSTART;TZID=America/Chicago:20221010T100000
DTEND;TZID=America/Chicago:20221010T110000
DTSTAMP:20260422T035527
CREATED:20221011T215325Z
LAST-MODIFIED:20221011T215325Z
UID:10885-1665396000-1665399600@centralchristian.edu
SUMMARY:Convocation
DESCRIPTION:Convocation
URL:https://centralchristian.edu/event/convocation-2022-10-10-2/
LOCATION:Employment Opportunities
END:VEVENT
BEGIN:VEVENT
DTSTART;TZID=America/Chicago:20221010T100000
DTEND;TZID=America/Chicago:20221010T110000
DTSTAMP:20260422T035527
CREATED:20221011T215325Z
LAST-MODIFIED:20221011T215325Z
UID:7368-1665396000-1665399600@centralchristian.edu
SUMMARY:Convocation
DESCRIPTION:Convocation
URL:https://centralchristian.edu/event/convocation-2022-10-10/
LOCATION:Employment Opportunities
END:VEVENT
BEGIN:VEVENT
DTSTART;VALUE=DATE:20221007
DTEND;VALUE=DATE:20221010
DTSTAMP:20260422T035527
CREATED:20220127T192104Z
LAST-MODIFIED:20220127T192104Z
UID:11200-1665100800-1665359999@centralchristian.edu
SUMMARY:Homecoming/Family Weekend
DESCRIPTION:October 7 – 9 2022
URL:https://centralchristian.edu/event/homecoming-family-weekend-2-2/
LOCATION:Employment Opportunities
END:VEVENT
BEGIN:VEVENT
DTSTART;VALUE=DATE:20221007
DTEND;VALUE=DATE:20221010
DTSTAMP:20260422T035527
CREATED:20220127T192104Z
LAST-MODIFIED:20220127T192104Z
UID:6295-1665100800-1665359999@centralchristian.edu
SUMMARY:Homecoming/Family Weekend
DESCRIPTION:October 7 – 9 2022
URL:https://centralchristian.edu/event/homecoming-family-weekend-2/
LOCATION:Employment Opportunities
END:VEVENT
BEGIN:VEVENT
DTSTART;VALUE=DATE:20221007
DTEND;VALUE=DATE:20221008
DTSTAMP:20260422T035527
CREATED:20220125T205612Z
LAST-MODIFIED:20220125T205612Z
UID:11196-1665100800-1665187199@centralchristian.edu
SUMMARY:Fall Board Meeting
DESCRIPTION:0ctober 7
URL:https://centralchristian.edu/event/fall-board-meeting-5/
LOCATION:Employment Opportunities
END:VEVENT
BEGIN:VEVENT
DTSTART;VALUE=DATE:20221007
DTEND;VALUE=DATE:20221008
DTSTAMP:20260422T035527
CREATED:20220125T205612Z
LAST-MODIFIED:20220125T205612Z
UID:6283-1665100800-1665187199@centralchristian.edu
SUMMARY:Fall Board Meeting
DESCRIPTION:0ctober 7
URL:https://centralchristian.edu/event/fall-board-meeting/
LOCATION:Employment Opportunities
END:VEVENT
BEGIN:VEVENT
DTSTART;TZID=America/Chicago:20221005T100000
DTEND;TZID=America/Chicago:20221005T110000
DTSTAMP:20260422T035527
CREATED:20221011T215101Z
LAST-MODIFIED:20221011T215101Z
UID:10880-1664964000-1664967600@centralchristian.edu
SUMMARY:Chapel
DESCRIPTION:Chapel
URL:https://centralchristian.edu/event/chapel-3-2022-10-05-2/
LOCATION:Student Access Portal
END:VEVENT
BEGIN:VEVENT
DTSTART;TZID=America/Chicago:20221005T100000
DTEND;TZID=America/Chicago:20221005T110000
DTSTAMP:20260422T035527
CREATED:20221011T215101Z
LAST-MODIFIED:20221011T215101Z
UID:7363-1664964000-1664967600@centralchristian.edu
SUMMARY:Chapel
DESCRIPTION:Chapel
URL:https://centralchristian.edu/event/chapel-3-2022-10-05/
LOCATION:Student Access Portal
END:VEVENT
BEGIN:VEVENT
DTSTART;TZID=America/Chicago:20221003T100000
DTEND;TZID=America/Chicago:20221003T110000
DTSTAMP:20260422T035527
CREATED:20221011T215325Z
LAST-MODIFIED:20221011T215325Z
UID:10884-1664791200-1664794800@centralchristian.edu
SUMMARY:Convocation
DESCRIPTION:Convocation
URL:https://centralchristian.edu/event/convocation-2022-10-03-2/
LOCATION:Employment Opportunities
END:VEVENT
BEGIN:VEVENT
DTSTART;TZID=America/Chicago:20221003T100000
DTEND;TZID=America/Chicago:20221003T110000
DTSTAMP:20260422T035527
CREATED:20221011T215325Z
LAST-MODIFIED:20221011T215325Z
UID:7367-1664791200-1664794800@centralchristian.edu
SUMMARY:Convocation
DESCRIPTION:Convocation
URL:https://centralchristian.edu/event/convocation-2022-10-03/
LOCATION:Employment Opportunities
END:VEVENT
BEGIN:VEVENT
DTSTART;VALUE=DATE:20221003
DTEND;VALUE=DATE:20221004
DTSTAMP:20260422T035527
CREATED:20220412T233628Z
LAST-MODIFIED:20220412T233628Z
UID:11374-1664755200-1664841599@centralchristian.edu
SUMMARY:Fall 3 Online Course Begins
DESCRIPTION:October 3rd
URL:https://centralchristian.edu/event/fall-3-online-course-begins-2-2/
LOCATION:Employment Opportunities
END:VEVENT
BEGIN:VEVENT
DTSTART;VALUE=DATE:20221003
DTEND;VALUE=DATE:20221004
DTSTAMP:20260422T035527
CREATED:20220412T233628Z
LAST-MODIFIED:20220412T233628Z
UID:6828-1664755200-1664841599@centralchristian.edu
SUMMARY:Fall 3 Online Course Begins
DESCRIPTION:October 3rd
URL:https://centralchristian.edu/event/fall-3-online-course-begins-2/
LOCATION:Employment Opportunities
END:VEVENT
BEGIN:VEVENT
DTSTART;VALUE=DATE:20221002
DTEND;VALUE=DATE:20221003
DTSTAMP:20260422T035527
CREATED:20220125T204721Z
LAST-MODIFIED:20220125T204721Z
UID:11190-1664668800-1664755199@centralchristian.edu
SUMMARY:Fall 1 Online Course Ends
DESCRIPTION:October 2
URL:https://centralchristian.edu/event/fall-1-online-course-ends-3-2/
LOCATION:Employment Opportunities
END:VEVENT
BEGIN:VEVENT
DTSTART;VALUE=DATE:20221002
DTEND;VALUE=DATE:20221003
DTSTAMP:20260422T035527
CREATED:20220125T204721Z
LAST-MODIFIED:20220125T204721Z
UID:6273-1664668800-1664755199@centralchristian.edu
SUMMARY:Fall 1 Online Course Ends
DESCRIPTION:October 2
URL:https://centralchristian.edu/event/fall-1-online-course-ends-3/
LOCATION:Employment Opportunities
END:VEVENT
BEGIN:VEVENT
DTSTART;TZID=America/Chicago:20220928T100000
DTEND;TZID=America/Chicago:20220928T110000
DTSTAMP:20260422T035527
CREATED:20221011T215101Z
LAST-MODIFIED:20221011T215101Z
UID:10879-1664359200-1664362800@centralchristian.edu
SUMMARY:Chapel
DESCRIPTION:Chapel
URL:https://centralchristian.edu/event/chapel-3-2022-09-28-2/
LOCATION:Student Access Portal
END:VEVENT
BEGIN:VEVENT
DTSTART;TZID=America/Chicago:20220928T100000
DTEND;TZID=America/Chicago:20220928T110000
DTSTAMP:20260422T035527
CREATED:20221011T215101Z
LAST-MODIFIED:20221011T215101Z
UID:7362-1664359200-1664362800@centralchristian.edu
SUMMARY:Chapel
DESCRIPTION:Chapel
URL:https://centralchristian.edu/event/chapel-3-2022-09-28/
LOCATION:Student Access Portal
END:VEVENT
BEGIN:VEVENT
DTSTART;TZID=America/Chicago:20220926T100000
DTEND;TZID=America/Chicago:20220926T110000
DTSTAMP:20260422T035527
CREATED:20221011T215325Z
LAST-MODIFIED:20221011T215325Z
UID:10883-1664186400-1664190000@centralchristian.edu
SUMMARY:Convocation
DESCRIPTION:Convocation
URL:https://centralchristian.edu/event/convocation-2022-09-26-2/
LOCATION:Employment Opportunities
END:VEVENT
BEGIN:VEVENT
DTSTART;TZID=America/Chicago:20220926T100000
DTEND;TZID=America/Chicago:20220926T110000
DTSTAMP:20260422T035527
CREATED:20221011T215325Z
LAST-MODIFIED:20221011T215325Z
UID:7366-1664186400-1664190000@centralchristian.edu
SUMMARY:Convocation
DESCRIPTION:Convocation
URL:https://centralchristian.edu/event/convocation-2022-09-26/
LOCATION:Employment Opportunities
END:VEVENT
BEGIN:VEVENT
DTSTART;TZID=America/Chicago:20220921T100000
DTEND;TZID=America/Chicago:20220921T110000
DTSTAMP:20260422T035527
CREATED:20221011T215101Z
LAST-MODIFIED:20221011T215101Z
UID:10878-1663754400-1663758000@centralchristian.edu
SUMMARY:Chapel
DESCRIPTION:Chapel
URL:https://centralchristian.edu/event/chapel-3-2022-09-21-2/
LOCATION:Student Access Portal
END:VEVENT
BEGIN:VEVENT
DTSTART;TZID=America/Chicago:20220921T100000
DTEND;TZID=America/Chicago:20220921T110000
DTSTAMP:20260422T035527
CREATED:20221011T215101Z
LAST-MODIFIED:20221011T215101Z
UID:7361-1663754400-1663758000@centralchristian.edu
SUMMARY:Chapel
DESCRIPTION:Chapel
URL:https://centralchristian.edu/event/chapel-3-2022-09-21/
LOCATION:Student Access Portal
END:VEVENT
END:VCALENDAR