BEGIN:VCALENDAR
VERSION:2.0
PRODID:-//Central Christian College - ECPv6.15.20//NONSGML v1.0//EN
CALSCALE:GREGORIAN
METHOD:PUBLISH
X-WR-CALNAME:Central Christian College
X-ORIGINAL-URL:https://centralchristian.edu
X-WR-CALDESC:Events for Central Christian College
REFRESH-INTERVAL;VALUE=DURATION:PT1H
X-Robots-Tag:noindex
X-PUBLISHED-TTL:PT1H
BEGIN:VTIMEZONE
TZID:America/Chicago
BEGIN:DAYLIGHT
TZOFFSETFROM:-0600
TZOFFSETTO:-0500
TZNAME:CDT
DTSTART:20210314T080000
END:DAYLIGHT
BEGIN:STANDARD
TZOFFSETFROM:-0500
TZOFFSETTO:-0600
TZNAME:CST
DTSTART:20211107T070000
END:STANDARD
BEGIN:DAYLIGHT
TZOFFSETFROM:-0600
TZOFFSETTO:-0500
TZNAME:CDT
DTSTART:20220313T080000
END:DAYLIGHT
BEGIN:STANDARD
TZOFFSETFROM:-0500
TZOFFSETTO:-0600
TZNAME:CST
DTSTART:20221106T070000
END:STANDARD
BEGIN:DAYLIGHT
TZOFFSETFROM:-0600
TZOFFSETTO:-0500
TZNAME:CDT
DTSTART:20230312T080000
END:DAYLIGHT
BEGIN:STANDARD
TZOFFSETFROM:-0500
TZOFFSETTO:-0600
TZNAME:CST
DTSTART:20231105T070000
END:STANDARD
END:VTIMEZONE
BEGIN:VEVENT
DTSTART;VALUE=DATE:20220824
DTEND;VALUE=DATE:20220825
DTSTAMP:20260420T161338
CREATED:20220125T202014Z
LAST-MODIFIED:20220125T202014Z
UID:6242-1661299200-1661385599@centralchristian.edu
SUMMARY:Fall Day Classes Begin
DESCRIPTION:August 24
URL:https://centralchristian.edu/event/fall-day-classes-begin-3/
LOCATION:Employment Opportunities
END:VEVENT
BEGIN:VEVENT
DTSTART;VALUE=DATE:20220824
DTEND;VALUE=DATE:20220825
DTSTAMP:20260420T161338
CREATED:20220125T202014Z
LAST-MODIFIED:20220125T202014Z
UID:11167-1661299200-1661385599@centralchristian.edu
SUMMARY:Fall Day Classes Begin
DESCRIPTION:August 24
URL:https://centralchristian.edu/event/fall-day-classes-begin-3-2/
LOCATION:Employment Opportunities
END:VEVENT
BEGIN:VEVENT
DTSTART;VALUE=DATE:20220828
DTEND;VALUE=DATE:20220829
DTSTAMP:20260420T161338
CREATED:20220125T202504Z
LAST-MODIFIED:20220125T202504Z
UID:11170-1661644800-1661731199@centralchristian.edu
SUMMARY:Last Day To Add/Drop A Full Semester And Fall 2 Online Course For Credit
DESCRIPTION:August 28
URL:https://centralchristian.edu/event/last-day-to-add-drop-a-full-semester-and-fall-2-online-course-for-credit-5/
LOCATION:Employment Opportunities
END:VEVENT
BEGIN:VEVENT
DTSTART;VALUE=DATE:20220828
DTEND;VALUE=DATE:20220829
DTSTAMP:20260420T161338
CREATED:20220125T202504Z
LAST-MODIFIED:20220125T202504Z
UID:6247-1661644800-1661731199@centralchristian.edu
SUMMARY:Last Day To Add/Drop A Full Semester And Fall 2 Online Course For Credit
DESCRIPTION:August 28
URL:https://centralchristian.edu/event/last-day-to-add-drop-a-full-semester-and-fall-2-online-course-for-credit/
LOCATION:Employment Opportunities
END:VEVENT
BEGIN:VEVENT
DTSTART;TZID=America/Chicago:20220831T100000
DTEND;TZID=America/Chicago:20220831T110000
DTSTAMP:20260420T161338
CREATED:20221011T215101Z
LAST-MODIFIED:20221011T215101Z
UID:10866-1661940000-1661943600@centralchristian.edu
SUMMARY:Chapel
DESCRIPTION:Chapel
URL:https://centralchristian.edu/event/chapel-3-2/
LOCATION:Student Access Portal
END:VEVENT
BEGIN:VEVENT
DTSTART;TZID=America/Chicago:20220831T100000
DTEND;TZID=America/Chicago:20220831T110000
DTSTAMP:20260420T161338
CREATED:20221011T215101Z
LAST-MODIFIED:20221011T215101Z
UID:7348-1661940000-1661943600@centralchristian.edu
SUMMARY:Chapel
DESCRIPTION:Chapel
URL:https://centralchristian.edu/event/chapel-3/
LOCATION:Student Access Portal
END:VEVENT
BEGIN:VEVENT
DTSTART;VALUE=DATE:20220905
DTEND;VALUE=DATE:20220906
DTSTAMP:20260420T161338
CREATED:20220125T203008Z
LAST-MODIFIED:20220125T203008Z
UID:11174-1662336000-1662422399@centralchristian.edu
SUMMARY:Labor Day (No Classes)
DESCRIPTION:September 5
URL:https://centralchristian.edu/event/labor-day-no-classes-3-2/
LOCATION:Employment Opportunities
END:VEVENT
BEGIN:VEVENT
DTSTART;VALUE=DATE:20220905
DTEND;VALUE=DATE:20220906
DTSTAMP:20260420T161338
CREATED:20220125T203008Z
LAST-MODIFIED:20220125T203008Z
UID:6252-1662336000-1662422399@centralchristian.edu
SUMMARY:Labor Day (No Classes)
DESCRIPTION:September 5
URL:https://centralchristian.edu/event/labor-day-no-classes-3/
LOCATION:Employment Opportunities
END:VEVENT
BEGIN:VEVENT
DTSTART;TZID=America/Chicago:20220907T100000
DTEND;TZID=America/Chicago:20220907T110000
DTSTAMP:20260420T161338
CREATED:20221011T215101Z
LAST-MODIFIED:20221011T215101Z
UID:10876-1662544800-1662548400@centralchristian.edu
SUMMARY:Chapel
DESCRIPTION:Chapel
URL:https://centralchristian.edu/event/chapel-3-2022-09-07-2/
LOCATION:Student Access Portal
END:VEVENT
BEGIN:VEVENT
DTSTART;TZID=America/Chicago:20220907T100000
DTEND;TZID=America/Chicago:20220907T110000
DTSTAMP:20260420T161338
CREATED:20221011T215101Z
LAST-MODIFIED:20221011T215101Z
UID:7359-1662544800-1662548400@centralchristian.edu
SUMMARY:Chapel
DESCRIPTION:Chapel
URL:https://centralchristian.edu/event/chapel-3-2022-09-07/
LOCATION:Student Access Portal
END:VEVENT
BEGIN:VEVENT
DTSTART;TZID=America/Chicago:20220912T100000
DTEND;TZID=America/Chicago:20220912T110000
DTSTAMP:20260420T161338
CREATED:20221011T215325Z
LAST-MODIFIED:20221011T215325Z
UID:10881-1662976800-1662980400@centralchristian.edu
SUMMARY:Convocation
DESCRIPTION:Convocation
URL:https://centralchristian.edu/event/convocation-2/
LOCATION:Employment Opportunities
END:VEVENT
BEGIN:VEVENT
DTSTART;TZID=America/Chicago:20220912T100000
DTEND;TZID=America/Chicago:20220912T110000
DTSTAMP:20260420T161338
CREATED:20221011T215325Z
LAST-MODIFIED:20221011T215325Z
UID:7364-1662976800-1662980400@centralchristian.edu
SUMMARY:Convocation
DESCRIPTION:Convocation
URL:https://centralchristian.edu/event/convocation/
LOCATION:Employment Opportunities
END:VEVENT
BEGIN:VEVENT
DTSTART;TZID=America/Chicago:20220914T100000
DTEND;TZID=America/Chicago:20220914T110000
DTSTAMP:20260420T161338
CREATED:20221011T215101Z
LAST-MODIFIED:20221011T215101Z
UID:10877-1663149600-1663153200@centralchristian.edu
SUMMARY:Chapel
DESCRIPTION:Chapel
URL:https://centralchristian.edu/event/chapel-3-2022-09-14-2/
LOCATION:Student Access Portal
END:VEVENT
BEGIN:VEVENT
DTSTART;TZID=America/Chicago:20220914T100000
DTEND;TZID=America/Chicago:20220914T110000
DTSTAMP:20260420T161338
CREATED:20221011T215101Z
LAST-MODIFIED:20221011T215101Z
UID:7360-1663149600-1663153200@centralchristian.edu
SUMMARY:Chapel
DESCRIPTION:Chapel
URL:https://centralchristian.edu/event/chapel-3-2022-09-14/
LOCATION:Student Access Portal
END:VEVENT
BEGIN:VEVENT
DTSTART;TZID=America/Chicago:20220919T100000
DTEND;TZID=America/Chicago:20220919T110000
DTSTAMP:20260420T161338
CREATED:20221011T215325Z
LAST-MODIFIED:20221011T215325Z
UID:10882-1663581600-1663585200@centralchristian.edu
SUMMARY:Convocation
DESCRIPTION:Convocation
URL:https://centralchristian.edu/event/convocation-2022-09-19-2/
LOCATION:Employment Opportunities
END:VEVENT
BEGIN:VEVENT
DTSTART;TZID=America/Chicago:20220919T100000
DTEND;TZID=America/Chicago:20220919T110000
DTSTAMP:20260420T161338
CREATED:20221011T215325Z
LAST-MODIFIED:20221011T215325Z
UID:7365-1663581600-1663585200@centralchristian.edu
SUMMARY:Convocation
DESCRIPTION:Convocation
URL:https://centralchristian.edu/event/convocation-2022-09-19/
LOCATION:Employment Opportunities
END:VEVENT
BEGIN:VEVENT
DTSTART;VALUE=DATE:20220920
DTEND;VALUE=DATE:20220922
DTSTAMP:20260420T161338
CREATED:20220125T203325Z
LAST-MODIFIED:20220125T203325Z
UID:6257-1663632000-1663804799@centralchristian.edu
SUMMARY:Engage Day Session (10AM)
DESCRIPTION:September 20-21
URL:https://centralchristian.edu/event/engage-day-session-10am/
LOCATION:Employment Opportunities
END:VEVENT
BEGIN:VEVENT
DTSTART;VALUE=DATE:20220920
DTEND;VALUE=DATE:20220922
DTSTAMP:20260420T161338
CREATED:20220125T203325Z
LAST-MODIFIED:20220125T203325Z
UID:11178-1663632000-1663804799@centralchristian.edu
SUMMARY:Engage Day Session (10AM)
DESCRIPTION:September 20-21
URL:https://centralchristian.edu/event/engage-day-session-10am-2/
LOCATION:Employment Opportunities
END:VEVENT
BEGIN:VEVENT
DTSTART;VALUE=DATE:20220921
DTEND;VALUE=DATE:20220922
DTSTAMP:20260420T161339
CREATED:20220125T203837Z
LAST-MODIFIED:20220125T203837Z
UID:6263-1663718400-1663804799@centralchristian.edu
SUMMARY:All Campus Picnic (No Classes- Required For Students)
DESCRIPTION:September 21
URL:https://centralchristian.edu/event/all-campus-picnic-no-classes-required-for-students/
LOCATION:Employment Opportunities
END:VEVENT
BEGIN:VEVENT
DTSTART;VALUE=DATE:20220921
DTEND;VALUE=DATE:20220922
DTSTAMP:20260420T161339
CREATED:20220125T203837Z
LAST-MODIFIED:20220125T203837Z
UID:11183-1663718400-1663804799@centralchristian.edu
SUMMARY:All Campus Picnic (No Classes- Required For Students)
DESCRIPTION:September 21
URL:https://centralchristian.edu/event/all-campus-picnic-no-classes-required-for-students-5/
LOCATION:Employment Opportunities
END:VEVENT
BEGIN:VEVENT
DTSTART;VALUE=DATE:20220921
DTEND;VALUE=DATE:20220922
DTSTAMP:20260420T161339
CREATED:20220125T204308Z
LAST-MODIFIED:20220125T204308Z
UID:6268-1663718400-1663804799@centralchristian.edu
SUMMARY:Enrollment Reporting (Census) Day
DESCRIPTION:September 20
URL:https://centralchristian.edu/event/enrollment-reporting-census-day-3/
LOCATION:Employment Opportunities
END:VEVENT
BEGIN:VEVENT
DTSTART;VALUE=DATE:20220921
DTEND;VALUE=DATE:20220922
DTSTAMP:20260420T161339
CREATED:20220125T204308Z
LAST-MODIFIED:20220125T204308Z
UID:11187-1663718400-1663804799@centralchristian.edu
SUMMARY:Enrollment Reporting (Census) Day
DESCRIPTION:September 20
URL:https://centralchristian.edu/event/enrollment-reporting-census-day-3-2/
LOCATION:Employment Opportunities
END:VEVENT
BEGIN:VEVENT
DTSTART;TZID=America/Chicago:20220921T100000
DTEND;TZID=America/Chicago:20220921T110000
DTSTAMP:20260420T161339
CREATED:20221011T215101Z
LAST-MODIFIED:20221011T215101Z
UID:7361-1663754400-1663758000@centralchristian.edu
SUMMARY:Chapel
DESCRIPTION:Chapel
URL:https://centralchristian.edu/event/chapel-3-2022-09-21/
LOCATION:Student Access Portal
END:VEVENT
BEGIN:VEVENT
DTSTART;TZID=America/Chicago:20220921T100000
DTEND;TZID=America/Chicago:20220921T110000
DTSTAMP:20260420T161339
CREATED:20221011T215101Z
LAST-MODIFIED:20221011T215101Z
UID:10878-1663754400-1663758000@centralchristian.edu
SUMMARY:Chapel
DESCRIPTION:Chapel
URL:https://centralchristian.edu/event/chapel-3-2022-09-21-2/
LOCATION:Student Access Portal
END:VEVENT
BEGIN:VEVENT
DTSTART;TZID=America/Chicago:20220926T100000
DTEND;TZID=America/Chicago:20220926T110000
DTSTAMP:20260420T161339
CREATED:20221011T215325Z
LAST-MODIFIED:20221011T215325Z
UID:10883-1664186400-1664190000@centralchristian.edu
SUMMARY:Convocation
DESCRIPTION:Convocation
URL:https://centralchristian.edu/event/convocation-2022-09-26-2/
LOCATION:Employment Opportunities
END:VEVENT
BEGIN:VEVENT
DTSTART;TZID=America/Chicago:20220926T100000
DTEND;TZID=America/Chicago:20220926T110000
DTSTAMP:20260420T161339
CREATED:20221011T215325Z
LAST-MODIFIED:20221011T215325Z
UID:7366-1664186400-1664190000@centralchristian.edu
SUMMARY:Convocation
DESCRIPTION:Convocation
URL:https://centralchristian.edu/event/convocation-2022-09-26/
LOCATION:Employment Opportunities
END:VEVENT
BEGIN:VEVENT
DTSTART;TZID=America/Chicago:20220928T100000
DTEND;TZID=America/Chicago:20220928T110000
DTSTAMP:20260420T161339
CREATED:20221011T215101Z
LAST-MODIFIED:20221011T215101Z
UID:7362-1664359200-1664362800@centralchristian.edu
SUMMARY:Chapel
DESCRIPTION:Chapel
URL:https://centralchristian.edu/event/chapel-3-2022-09-28/
LOCATION:Student Access Portal
END:VEVENT
BEGIN:VEVENT
DTSTART;TZID=America/Chicago:20220928T100000
DTEND;TZID=America/Chicago:20220928T110000
DTSTAMP:20260420T161339
CREATED:20221011T215101Z
LAST-MODIFIED:20221011T215101Z
UID:10879-1664359200-1664362800@centralchristian.edu
SUMMARY:Chapel
DESCRIPTION:Chapel
URL:https://centralchristian.edu/event/chapel-3-2022-09-28-2/
LOCATION:Student Access Portal
END:VEVENT
BEGIN:VEVENT
DTSTART;VALUE=DATE:20221002
DTEND;VALUE=DATE:20221003
DTSTAMP:20260420T161339
CREATED:20220125T204721Z
LAST-MODIFIED:20220125T204721Z
UID:11190-1664668800-1664755199@centralchristian.edu
SUMMARY:Fall 1 Online Course Ends
DESCRIPTION:October 2
URL:https://centralchristian.edu/event/fall-1-online-course-ends-3-2/
LOCATION:Employment Opportunities
END:VEVENT
BEGIN:VEVENT
DTSTART;VALUE=DATE:20221002
DTEND;VALUE=DATE:20221003
DTSTAMP:20260420T161339
CREATED:20220125T204721Z
LAST-MODIFIED:20220125T204721Z
UID:6273-1664668800-1664755199@centralchristian.edu
SUMMARY:Fall 1 Online Course Ends
DESCRIPTION:October 2
URL:https://centralchristian.edu/event/fall-1-online-course-ends-3/
LOCATION:Employment Opportunities
END:VEVENT
END:VCALENDAR