BEGIN:VCALENDAR
VERSION:2.0
PRODID:-//Central Christian College - ECPv6.15.20//NONSGML v1.0//EN
CALSCALE:GREGORIAN
METHOD:PUBLISH
X-WR-CALNAME:Central Christian College
X-ORIGINAL-URL:https://centralchristian.edu
X-WR-CALDESC:Events for Central Christian College
REFRESH-INTERVAL;VALUE=DURATION:PT1H
X-Robots-Tag:noindex
X-PUBLISHED-TTL:PT1H
BEGIN:VTIMEZONE
TZID:America/Chicago
BEGIN:DAYLIGHT
TZOFFSETFROM:-0600
TZOFFSETTO:-0500
TZNAME:CDT
DTSTART:20240310T080000
END:DAYLIGHT
BEGIN:STANDARD
TZOFFSETFROM:-0500
TZOFFSETTO:-0600
TZNAME:CST
DTSTART:20241103T070000
END:STANDARD
BEGIN:DAYLIGHT
TZOFFSETFROM:-0600
TZOFFSETTO:-0500
TZNAME:CDT
DTSTART:20250309T080000
END:DAYLIGHT
BEGIN:STANDARD
TZOFFSETFROM:-0500
TZOFFSETTO:-0600
TZNAME:CST
DTSTART:20251102T070000
END:STANDARD
BEGIN:DAYLIGHT
TZOFFSETFROM:-0600
TZOFFSETTO:-0500
TZNAME:CDT
DTSTART:20260308T080000
END:DAYLIGHT
BEGIN:STANDARD
TZOFFSETFROM:-0500
TZOFFSETTO:-0600
TZNAME:CST
DTSTART:20261101T070000
END:STANDARD
BEGIN:DAYLIGHT
TZOFFSETFROM:-0600
TZOFFSETTO:-0500
TZNAME:CDT
DTSTART:20270314T080000
END:DAYLIGHT
BEGIN:STANDARD
TZOFFSETFROM:-0500
TZOFFSETTO:-0600
TZNAME:CST
DTSTART:20271107T070000
END:STANDARD
END:VTIMEZONE
BEGIN:VEVENT
DTSTART;VALUE=DATE:20260119
DTEND;VALUE=DATE:20260120
DTSTAMP:20260420T065210
CREATED:20220127T225743Z
LAST-MODIFIED:20220127T225743Z
UID:11259-1768780800-1768867199@centralchristian.edu
SUMMARY:Martin Luther King Jr. Day (No Classes) 
DESCRIPTION:January 19
URL:https://centralchristian.edu/event/martin-luther-king-jr-day-no-classes-7-2/
LOCATION:Employment Opportunities
END:VEVENT
BEGIN:VEVENT
DTSTART;VALUE=DATE:20260119
DTEND;VALUE=DATE:20260120
DTSTAMP:20260420T065210
CREATED:20220127T225743Z
LAST-MODIFIED:20220127T225743Z
UID:6399-1768780800-1768867199@centralchristian.edu
SUMMARY:Martin Luther King Jr. Day (No Classes) 
DESCRIPTION:January 19
URL:https://centralchristian.edu/event/martin-luther-king-jr-day-no-classes-7/
LOCATION:Employment Opportunities
END:VEVENT
BEGIN:VEVENT
DTSTART;VALUE=DATE:20260118
DTEND;VALUE=DATE:20260119
DTSTAMP:20260420T065210
CREATED:20251106T180635Z
LAST-MODIFIED:20251106T180635Z
UID:10748-1768694400-1768780799@centralchristian.edu
SUMMARY:Spring Online 1 Drop Day
DESCRIPTION:Last day to drop a Spring 1 Online course with a W
URL:https://centralchristian.edu/event/spring-online-1-drop-day/
CATEGORIES:Academic
END:VEVENT
BEGIN:VEVENT
DTSTART;VALUE=DATE:20260118
DTEND;VALUE=DATE:20260119
DTSTAMP:20260420T065210
CREATED:20251106T180635Z
LAST-MODIFIED:20251106T180635Z
UID:11434-1768694400-1768780799@centralchristian.edu
SUMMARY:Spring Online 1 Drop Day
DESCRIPTION:Last day to drop a Spring 1 Online course with a W
URL:https://centralchristian.edu/event/spring-online-1-drop-day-2/
CATEGORIES:Academic
END:VEVENT
BEGIN:VEVENT
DTSTART;VALUE=DATE:20260113
DTEND;VALUE=DATE:20260114
DTSTAMP:20260420T065210
CREATED:20251106T180506Z
LAST-MODIFIED:20251106T180506Z
UID:10746-1768262400-1768348799@centralchristian.edu
SUMMARY:Add/Drop Day
DESCRIPTION:Last day to add/drop a full semester for credit
URL:https://centralchristian.edu/event/add-drop-day-2/
END:VEVENT
BEGIN:VEVENT
DTSTART;VALUE=DATE:20260113
DTEND;VALUE=DATE:20260114
DTSTAMP:20260420T065210
CREATED:20251106T180506Z
LAST-MODIFIED:20251106T180506Z
UID:10747-1768262400-1768348799@centralchristian.edu
SUMMARY:Add/Drop Day
DESCRIPTION:Last day to add/drop a full semester for credit
URL:https://centralchristian.edu/event/add-drop-day/
END:VEVENT
BEGIN:VEVENT
DTSTART;TZID=America/Chicago:20260107T080000
DTEND;TZID=America/Chicago:20260107T170000
DTSTAMP:20260420T065210
CREATED:20251106T180151Z
LAST-MODIFIED:20251106T180151Z
UID:10745-1767772800-1767805200@centralchristian.edu
SUMMARY:Spring Term Daytime Classes Begin
DESCRIPTION:
URL:https://centralchristian.edu/event/spring-term-daytime-classes-begin/
CATEGORIES:Academic
END:VEVENT
BEGIN:VEVENT
DTSTART;TZID=America/Chicago:20260107T080000
DTEND;TZID=America/Chicago:20260107T170000
DTSTAMP:20260420T065210
CREATED:20251106T180151Z
LAST-MODIFIED:20251106T180151Z
UID:11432-1767772800-1767805200@centralchristian.edu
SUMMARY:Spring Term Daytime Classes Begin
DESCRIPTION:
URL:https://centralchristian.edu/event/spring-term-daytime-classes-begin-2/
CATEGORIES:Academic
END:VEVENT
BEGIN:VEVENT
DTSTART;TZID=America/Chicago:20260106T170000
DTEND;TZID=America/Chicago:20260106T220000
DTSTAMP:20260420T065210
CREATED:20251106T180010Z
LAST-MODIFIED:20251106T180010Z
UID:10742-1767718800-1767736800@centralchristian.edu
SUMMARY:Spring Evening Classes Begin
DESCRIPTION:
URL:https://centralchristian.edu/event/spring-evening-classes-begin/
CATEGORIES:Academic
END:VEVENT
BEGIN:VEVENT
DTSTART;TZID=America/Chicago:20260106T170000
DTEND;TZID=America/Chicago:20260106T220000
DTSTAMP:20260420T065210
CREATED:20251106T180010Z
LAST-MODIFIED:20251106T180010Z
UID:11431-1767718800-1767736800@centralchristian.edu
SUMMARY:Spring Evening Classes Begin
DESCRIPTION:
URL:https://centralchristian.edu/event/spring-evening-classes-begin-2/
CATEGORIES:Academic
END:VEVENT
BEGIN:VEVENT
DTSTART;TZID=America/Chicago:20260106T080000
DTEND;TZID=America/Chicago:20260106T170000
DTSTAMP:20260420T065210
CREATED:20251106T175759Z
LAST-MODIFIED:20251106T175759Z
UID:10737-1767686400-1767718800@centralchristian.edu
SUMMARY:New Student Orientation
DESCRIPTION:
URL:https://centralchristian.edu/event/new-student-orientation-3/
CATEGORIES:Academic
END:VEVENT
BEGIN:VEVENT
DTSTART;TZID=America/Chicago:20260106T080000
DTEND;TZID=America/Chicago:20260106T170000
DTSTAMP:20260420T065210
CREATED:20251106T175759Z
LAST-MODIFIED:20251106T175759Z
UID:11430-1767686400-1767718800@centralchristian.edu
SUMMARY:New Student Orientation
DESCRIPTION:
URL:https://centralchristian.edu/event/new-student-orientation-3-2/
CATEGORIES:Academic
END:VEVENT
BEGIN:VEVENT
DTSTART;VALUE=DATE:20260105
DTEND;VALUE=DATE:20260106
DTSTAMP:20260420T065210
CREATED:20251106T175144Z
LAST-MODIFIED:20251106T175144Z
UID:10733-1767571200-1767657599@centralchristian.edu
SUMMARY:Campus Housing Opens
DESCRIPTION:
URL:https://centralchristian.edu/event/campus-housing-opens-3/
CATEGORIES:Student Life
END:VEVENT
BEGIN:VEVENT
DTSTART;VALUE=DATE:20260105
DTEND;VALUE=DATE:20260106
DTSTAMP:20260420T065210
CREATED:20251106T175144Z
LAST-MODIFIED:20251106T175144Z
UID:11429-1767571200-1767657599@centralchristian.edu
SUMMARY:Campus Housing Opens
DESCRIPTION:
URL:https://centralchristian.edu/event/campus-housing-opens-3-2/
CATEGORIES:Student Life
END:VEVENT
BEGIN:VEVENT
DTSTART;VALUE=DATE:20260105
DTEND;VALUE=DATE:20260106
DTSTAMP:20260420T065210
CREATED:20251106T175045Z
LAST-MODIFIED:20251106T175045Z
UID:10732-1767571200-1767657599@centralchristian.edu
SUMMARY:Last Day to Add Spring 1 Online Course
DESCRIPTION:
URL:https://centralchristian.edu/event/last-day-to-add-spring-1-online-course/
CATEGORIES:Academic
END:VEVENT
BEGIN:VEVENT
DTSTART;VALUE=DATE:20260105
DTEND;VALUE=DATE:20260106
DTSTAMP:20260420T065210
CREATED:20251106T175045Z
LAST-MODIFIED:20251106T175045Z
UID:11428-1767571200-1767657599@centralchristian.edu
SUMMARY:Last Day to Add Spring 1 Online Course
DESCRIPTION:
URL:https://centralchristian.edu/event/last-day-to-add-spring-1-online-course-2/
CATEGORIES:Academic
END:VEVENT
BEGIN:VEVENT
DTSTART;VALUE=DATE:20260105
DTEND;VALUE=DATE:20260106
DTSTAMP:20260420T065210
CREATED:20251106T174929Z
LAST-MODIFIED:20251106T174929Z
UID:10731-1767571200-1767657599@centralchristian.edu
SUMMARY:Registration Day for New Students
DESCRIPTION:
URL:https://centralchristian.edu/event/registration-day-for-new-students-3/
CATEGORIES:Academic
END:VEVENT
BEGIN:VEVENT
DTSTART;VALUE=DATE:20260105
DTEND;VALUE=DATE:20260106
DTSTAMP:20260420T065210
CREATED:20251106T174929Z
LAST-MODIFIED:20251106T174929Z
UID:11427-1767571200-1767657599@centralchristian.edu
SUMMARY:Registration Day for New Students
DESCRIPTION:
URL:https://centralchristian.edu/event/registration-day-for-new-students-3-2/
CATEGORIES:Academic
END:VEVENT
BEGIN:VEVENT
DTSTART;VALUE=DATE:20260105
DTEND;VALUE=DATE:20260106
DTSTAMP:20260420T065210
CREATED:20220127T223456Z
LAST-MODIFIED:20220127T223456Z
UID:11243-1767571200-1767657599@centralchristian.edu
SUMMARY:Online Courses Begin
DESCRIPTION:
URL:https://centralchristian.edu/event/registration-day-for-new-students-last-day-to-add-a-spring-1-online-course-4-2/
CATEGORIES:Academic
END:VEVENT
BEGIN:VEVENT
DTSTART;VALUE=DATE:20260105
DTEND;VALUE=DATE:20260106
DTSTAMP:20260420T065210
CREATED:20220127T223456Z
LAST-MODIFIED:20220127T223456Z
UID:6374-1767571200-1767657599@centralchristian.edu
SUMMARY:Online Courses Begin
DESCRIPTION:
URL:https://centralchristian.edu/event/registration-day-for-new-students-last-day-to-add-a-spring-1-online-course-4/
CATEGORIES:Academic
END:VEVENT
BEGIN:VEVENT
DTSTART;VALUE=DATE:20251221
DTEND;VALUE=DATE:20251222
DTSTAMP:20260420T065210
CREATED:20251106T174256Z
LAST-MODIFIED:20251106T174256Z
UID:10728-1766275200-1766361599@centralchristian.edu
SUMMARY:Fall 3 Online Courses End
DESCRIPTION:
URL:https://centralchristian.edu/event/fall-3-online-courses-end/
CATEGORIES:Academic
END:VEVENT
BEGIN:VEVENT
DTSTART;VALUE=DATE:20251221
DTEND;VALUE=DATE:20251222
DTSTAMP:20260420T065210
CREATED:20251106T174256Z
LAST-MODIFIED:20251106T174256Z
UID:11426-1766275200-1766361599@centralchristian.edu
SUMMARY:Fall 3 Online Courses End
DESCRIPTION:
URL:https://centralchristian.edu/event/fall-3-online-courses-end-2/
CATEGORIES:Academic
END:VEVENT
BEGIN:VEVENT
DTSTART;VALUE=DATE:20251212
DTEND;VALUE=DATE:20260105
DTSTAMP:20260420T065210
CREATED:20251001T223424Z
LAST-MODIFIED:20251001T223424Z
UID:11011-1765497600-1767571199@centralchristian.edu
SUMMARY:Christmas Break
DESCRIPTION:December 12 – January 4 (Campus Housing Closes)
URL:https://centralchristian.edu/event/christmas-break-2-2/
CATEGORIES:Student Life
END:VEVENT
BEGIN:VEVENT
DTSTART;VALUE=DATE:20251212
DTEND;VALUE=DATE:20260105
DTSTAMP:20260420T065210
CREATED:20251001T223424Z
LAST-MODIFIED:20251001T223424Z
UID:10668-1765497600-1767571199@centralchristian.edu
SUMMARY:Christmas Break
DESCRIPTION:December 12 – January 4 (Campus Housing Closes)
URL:https://centralchristian.edu/event/christmas-break-2/
CATEGORIES:Student Life
END:VEVENT
BEGIN:VEVENT
DTSTART;VALUE=DATE:20251208
DTEND;VALUE=DATE:20251212
DTSTAMP:20260420T065210
CREATED:20251008T164839Z
LAST-MODIFIED:20251008T164839Z
UID:10687-1765152000-1765497599@centralchristian.edu
SUMMARY:Assessment/Final Exams
DESCRIPTION:December 8 – December 11
URL:https://centralchristian.edu/event/assessment-final-exams/
CATEGORIES:Academic
END:VEVENT
BEGIN:VEVENT
DTSTART;VALUE=DATE:20251208
DTEND;VALUE=DATE:20251212
DTSTAMP:20260420T065210
CREATED:20251008T164839Z
LAST-MODIFIED:20251008T164839Z
UID:11421-1765152000-1765497599@centralchristian.edu
SUMMARY:Assessment/Final Exams
DESCRIPTION:December 8 – December 11
URL:https://centralchristian.edu/event/assessment-final-exams-3/
CATEGORIES:Academic
END:VEVENT
BEGIN:VEVENT
DTSTART;VALUE=DATE:20251202
DTEND;VALUE=DATE:20251203
DTSTAMP:20260420T065210
CREATED:20220127T214223Z
LAST-MODIFIED:20220127T214223Z
UID:6333-1764633600-1764719999@centralchristian.edu
SUMMARY:Giving Tuesday
DESCRIPTION:December 2
URL:https://centralchristian.edu/event/giving-tuesday-4/
END:VEVENT
BEGIN:VEVENT
DTSTART;VALUE=DATE:20251202
DTEND;VALUE=DATE:20251203
DTSTAMP:20260420T065210
CREATED:20220127T214223Z
LAST-MODIFIED:20220127T214223Z
UID:11222-1764633600-1764719999@centralchristian.edu
SUMMARY:Giving Tuesday
DESCRIPTION:December 2
URL:https://centralchristian.edu/event/giving-tuesday-4-2/
END:VEVENT
BEGIN:VEVENT
DTSTART;VALUE=DATE:20251126
DTEND;VALUE=DATE:20251201
DTSTAMP:20260420T065210
CREATED:20251001T214136Z
LAST-MODIFIED:20251001T214136Z
UID:10664-1764115200-1764547199@centralchristian.edu
SUMMARY:Thanksgiving Break 
DESCRIPTION:November 26-30
URL:https://centralchristian.edu/event/thanks-giving-break-4-2/
END:VEVENT
BEGIN:VEVENT
DTSTART;VALUE=DATE:20251126
DTEND;VALUE=DATE:20251201
DTSTAMP:20260420T065210
CREATED:20251001T214136Z
LAST-MODIFIED:20251001T214136Z
UID:11412-1764115200-1764547199@centralchristian.edu
SUMMARY:Thanksgiving Break 
DESCRIPTION:November 26-30
URL:https://centralchristian.edu/event/thanks-giving-break-4-2-2/
END:VEVENT
END:VCALENDAR