BEGIN:VCALENDAR
VERSION:2.0
PRODID:-//Central Christian College - ECPv6.15.20//NONSGML v1.0//EN
CALSCALE:GREGORIAN
METHOD:PUBLISH
X-ORIGINAL-URL:https://centralchristian.edu
X-WR-CALDESC:Events for Central Christian College
REFRESH-INTERVAL;VALUE=DURATION:PT1H
X-Robots-Tag:noindex
X-PUBLISHED-TTL:PT1H
BEGIN:VTIMEZONE
TZID:America/New_York
BEGIN:DAYLIGHT
TZOFFSETFROM:-0500
TZOFFSETTO:-0400
TZNAME:EDT
DTSTART:20200308T070000
END:DAYLIGHT
BEGIN:STANDARD
TZOFFSETFROM:-0400
TZOFFSETTO:-0500
TZNAME:EST
DTSTART:20201101T060000
END:STANDARD
BEGIN:DAYLIGHT
TZOFFSETFROM:-0500
TZOFFSETTO:-0400
TZNAME:EDT
DTSTART:20210314T070000
END:DAYLIGHT
BEGIN:STANDARD
TZOFFSETFROM:-0400
TZOFFSETTO:-0500
TZNAME:EST
DTSTART:20211107T060000
END:STANDARD
BEGIN:DAYLIGHT
TZOFFSETFROM:-0500
TZOFFSETTO:-0400
TZNAME:EDT
DTSTART:20220313T070000
END:DAYLIGHT
BEGIN:STANDARD
TZOFFSETFROM:-0400
TZOFFSETTO:-0500
TZNAME:EST
DTSTART:20221106T060000
END:STANDARD
END:VTIMEZONE
BEGIN:VEVENT
DTSTART;VALUE=DATE:20210521
DTEND;VALUE=DATE:20210522
DTSTAMP:20260420T223450
CREATED:20200626T205720Z
LAST-MODIFIED:20200626T205720Z
UID:3500-1621555200-1621641599@centralchristian.edu
SUMMARY:End of May Term
DESCRIPTION:
URL:https://centralchristian.edu/event/end-of-may-term-2/
CATEGORIES:Academic
ATTACH;FMTTYPE=image/png:https://centralchristian.edu/wp-content/uploads/2020/01/Profile-Pics-01.png
END:VEVENT
BEGIN:VEVENT
DTSTART;VALUE=DATE:20210521
DTEND;VALUE=DATE:20210522
DTSTAMP:20260420T223450
CREATED:20200626T205720Z
LAST-MODIFIED:20200626T205720Z
UID:11069-1621555200-1621641599@centralchristian.edu
SUMMARY:End of May Term
DESCRIPTION:
URL:https://centralchristian.edu/event/end-of-may-term-2-2/
CATEGORIES:Academic
ATTACH;FMTTYPE=image/png:https://centralchristian.edu/wp-content/uploads/2020/01/Profile-Pics-01.png
END:VEVENT
BEGIN:VEVENT
DTSTART;VALUE=DATE:20210530
DTEND;VALUE=DATE:20210531
DTSTAMP:20260420T223450
CREATED:20200626T205851Z
LAST-MODIFIED:20200626T205851Z
UID:11071-1622332800-1622419199@centralchristian.edu
SUMMARY:Last Day to Drop a Summer 1 Online Course With a W
DESCRIPTION:
URL:https://centralchristian.edu/event/last-day-to-drop-a-summer-1-online-course-with-a-w-2-2/
CATEGORIES:Academic
ATTACH;FMTTYPE=image/png:https://centralchristian.edu/wp-content/uploads/2020/01/Profile-Pics-01.png
END:VEVENT
BEGIN:VEVENT
DTSTART;VALUE=DATE:20210530
DTEND;VALUE=DATE:20210531
DTSTAMP:20260420T223450
CREATED:20200626T205851Z
LAST-MODIFIED:20200626T205851Z
UID:3504-1622332800-1622419199@centralchristian.edu
SUMMARY:Last Day to Drop a Summer 1 Online Course With a W
DESCRIPTION:
URL:https://centralchristian.edu/event/last-day-to-drop-a-summer-1-online-course-with-a-w-2/
CATEGORIES:Academic
ATTACH;FMTTYPE=image/png:https://centralchristian.edu/wp-content/uploads/2020/01/Profile-Pics-01.png
END:VEVENT
BEGIN:VEVENT
DTSTART;VALUE=DATE:20210531
DTEND;VALUE=DATE:20210601
DTSTAMP:20260420T223450
CREATED:20200626T205809Z
LAST-MODIFIED:20200626T205809Z
UID:3502-1622419200-1622505599@centralchristian.edu
SUMMARY:Memorial Day (No Classes)
DESCRIPTION:
URL:https://centralchristian.edu/event/memorial-day-no-classes-2/
CATEGORIES:Academic
ATTACH;FMTTYPE=image/png:https://centralchristian.edu/wp-content/uploads/2020/01/Profile-Pics-01.png
END:VEVENT
BEGIN:VEVENT
DTSTART;VALUE=DATE:20210531
DTEND;VALUE=DATE:20210601
DTSTAMP:20260420T223450
CREATED:20200626T205809Z
LAST-MODIFIED:20200626T205809Z
UID:11070-1622419200-1622505599@centralchristian.edu
SUMMARY:Memorial Day (No Classes)
DESCRIPTION:
URL:https://centralchristian.edu/event/memorial-day-no-classes-2-2/
CATEGORIES:Academic
ATTACH;FMTTYPE=image/png:https://centralchristian.edu/wp-content/uploads/2020/01/Profile-Pics-01.png
END:VEVENT
BEGIN:VEVENT
DTSTART;VALUE=DATE:20210620
DTEND;VALUE=DATE:20210621
DTSTAMP:20260420T223450
CREATED:20200626T210100Z
LAST-MODIFIED:20200626T210100Z
UID:11073-1624147200-1624233599@centralchristian.edu
SUMMARY:Summer 1 Online Course Ends
DESCRIPTION:
URL:https://centralchristian.edu/event/summer-1-online-course-ends-2-2/
LOCATION:Employment Opportunities
CATEGORIES:Academic
END:VEVENT
BEGIN:VEVENT
DTSTART;VALUE=DATE:20210620
DTEND;VALUE=DATE:20210621
DTSTAMP:20260420T223450
CREATED:20200626T210100Z
LAST-MODIFIED:20200626T210100Z
UID:3508-1624147200-1624233599@centralchristian.edu
SUMMARY:Summer 1 Online Course Ends
DESCRIPTION:
URL:https://centralchristian.edu/event/summer-1-online-course-ends-2/
LOCATION:Employment Opportunities
CATEGORIES:Academic
END:VEVENT
BEGIN:VEVENT
DTSTART;VALUE=DATE:20210625
DTEND;VALUE=DATE:20210626
DTSTAMP:20260420T223450
CREATED:20200626T210026Z
LAST-MODIFIED:20200626T210026Z
UID:11072-1624579200-1624665599@centralchristian.edu
SUMMARY:Summer Mid Term
DESCRIPTION:
URL:https://centralchristian.edu/event/summer-mid-term-2/
LOCATION:Employment Opportunities
CATEGORIES:Academic
END:VEVENT
BEGIN:VEVENT
DTSTART;VALUE=DATE:20210625
DTEND;VALUE=DATE:20210626
DTSTAMP:20260420T223450
CREATED:20200626T210026Z
LAST-MODIFIED:20200626T210026Z
UID:3506-1624579200-1624665599@centralchristian.edu
SUMMARY:Summer Mid Term
DESCRIPTION:
URL:https://centralchristian.edu/event/summer-mid-term/
LOCATION:Employment Opportunities
CATEGORIES:Academic
END:VEVENT
BEGIN:VEVENT
DTSTART;VALUE=DATE:20210625
DTEND;VALUE=DATE:20210626
DTSTAMP:20260420T223450
CREATED:20200626T210142Z
LAST-MODIFIED:20200626T210142Z
UID:3510-1624579200-1624665599@centralchristian.edu
SUMMARY:Last Day to Add a Summer 2 Online Course
DESCRIPTION:
URL:https://centralchristian.edu/event/last-day-to-add-a-summer-2-online-course/
LOCATION:Employment Opportunities
CATEGORIES:Academic
END:VEVENT
BEGIN:VEVENT
DTSTART;VALUE=DATE:20210625
DTEND;VALUE=DATE:20210626
DTSTAMP:20260420T223450
CREATED:20200626T210142Z
LAST-MODIFIED:20200626T210142Z
UID:11074-1624579200-1624665599@centralchristian.edu
SUMMARY:Last Day to Add a Summer 2 Online Course
DESCRIPTION:
URL:https://centralchristian.edu/event/last-day-to-add-a-summer-2-online-course-2/
LOCATION:Employment Opportunities
CATEGORIES:Academic
END:VEVENT
BEGIN:VEVENT
DTSTART;VALUE=DATE:20210705
DTEND;VALUE=DATE:20210706
DTSTAMP:20260420T223450
CREATED:20200626T210215Z
LAST-MODIFIED:20200626T210215Z
UID:3512-1625443200-1625529599@centralchristian.edu
SUMMARY:Independence Day Observed (No Classes)
DESCRIPTION:
URL:https://centralchristian.edu/event/independence-day-observed-no-classes-2/
LOCATION:Employment Opportunities
CATEGORIES:Academic
END:VEVENT
BEGIN:VEVENT
DTSTART;VALUE=DATE:20210705
DTEND;VALUE=DATE:20210706
DTSTAMP:20260420T223450
CREATED:20200626T210215Z
LAST-MODIFIED:20200626T210215Z
UID:11075-1625443200-1625529599@centralchristian.edu
SUMMARY:Independence Day Observed (No Classes)
DESCRIPTION:
URL:https://centralchristian.edu/event/independence-day-observed-no-classes-2-2/
LOCATION:Employment Opportunities
CATEGORIES:Academic
END:VEVENT
BEGIN:VEVENT
DTSTART;VALUE=DATE:20210705
DTEND;VALUE=DATE:20210706
DTSTAMP:20260420T223450
CREATED:20200626T210243Z
LAST-MODIFIED:20200626T210243Z
UID:11076-1625443200-1625529599@centralchristian.edu
SUMMARY:Summer 2 Online Course Begins
DESCRIPTION:
URL:https://centralchristian.edu/event/summer-2-online-course-begins-2-2/
LOCATION:Employment Opportunities
CATEGORIES:Academic
END:VEVENT
BEGIN:VEVENT
DTSTART;VALUE=DATE:20210705
DTEND;VALUE=DATE:20210706
DTSTAMP:20260420T223450
CREATED:20200626T210243Z
LAST-MODIFIED:20200626T210243Z
UID:3514-1625443200-1625529599@centralchristian.edu
SUMMARY:Summer 2 Online Course Begins
DESCRIPTION:
URL:https://centralchristian.edu/event/summer-2-online-course-begins-2/
LOCATION:Employment Opportunities
CATEGORIES:Academic
END:VEVENT
BEGIN:VEVENT
DTSTART;VALUE=DATE:20210709
DTEND;VALUE=DATE:20210710
DTSTAMP:20260420T223450
CREATED:20200626T210331Z
LAST-MODIFIED:20200626T210331Z
UID:11077-1625788800-1625875199@centralchristian.edu
SUMMARY:Last Day to Drop a Full-Term Course With a W
DESCRIPTION:July 9\,  2021
URL:https://centralchristian.edu/event/last-day-to-drop-a-full-term-course-with-a-w-5-2/
LOCATION:Employment Opportunities
CATEGORIES:Academic
END:VEVENT
BEGIN:VEVENT
DTSTART;VALUE=DATE:20210709
DTEND;VALUE=DATE:20210710
DTSTAMP:20260420T223450
CREATED:20200626T210331Z
LAST-MODIFIED:20200626T210331Z
UID:3516-1625788800-1625875199@centralchristian.edu
SUMMARY:Last Day to Drop a Full-Term Course With a W
DESCRIPTION:July 9\,  2021
URL:https://centralchristian.edu/event/last-day-to-drop-a-full-term-course-with-a-w-5/
LOCATION:Employment Opportunities
CATEGORIES:Academic
END:VEVENT
BEGIN:VEVENT
DTSTART;VALUE=DATE:20210725
DTEND;VALUE=DATE:20210726
DTSTAMP:20260420T223450
CREATED:20200626T210420Z
LAST-MODIFIED:20200626T210420Z
UID:11078-1627171200-1627257599@centralchristian.edu
SUMMARY:Last Day to Drop a Summer 2 Online Course With a W
DESCRIPTION:
URL:https://centralchristian.edu/event/last-day-to-drop-a-summer-2-online-course-with-a-w-2-2/
LOCATION:Employment Opportunities
CATEGORIES:Academic
END:VEVENT
BEGIN:VEVENT
DTSTART;VALUE=DATE:20210725
DTEND;VALUE=DATE:20210726
DTSTAMP:20260420T223450
CREATED:20200626T210420Z
LAST-MODIFIED:20200626T210420Z
UID:3518-1627171200-1627257599@centralchristian.edu
SUMMARY:Last Day to Drop a Summer 2 Online Course With a W
DESCRIPTION:
URL:https://centralchristian.edu/event/last-day-to-drop-a-summer-2-online-course-with-a-w-2/
LOCATION:Employment Opportunities
CATEGORIES:Academic
END:VEVENT
BEGIN:VEVENT
DTSTART;VALUE=DATE:20210806
DTEND;VALUE=DATE:20210807
DTSTAMP:20260420T223450
CREATED:20210610T191247Z
LAST-MODIFIED:20210610T191247Z
UID:5053-1628208000-1628294399@centralchristian.edu
SUMMARY:Last Day to Add Fall 1 Online Classes
DESCRIPTION:August 6\, 2021
URL:https://centralchristian.edu/event/last-day-to-add-fall-1-online-classes/
LOCATION:Employment Opportunities
ATTACH;FMTTYPE=image/png:https://centralchristian.edu/wp-content/uploads/2020/01/cropped-Profile-Pics-01.png
END:VEVENT
BEGIN:VEVENT
DTSTART;VALUE=DATE:20210806
DTEND;VALUE=DATE:20210807
DTSTAMP:20260420T223450
CREATED:20210610T191247Z
LAST-MODIFIED:20210610T191247Z
UID:11081-1628208000-1628294399@centralchristian.edu
SUMMARY:Last Day to Add Fall 1 Online Classes
DESCRIPTION:August 6\, 2021
URL:https://centralchristian.edu/event/last-day-to-add-fall-1-online-classes-2/
LOCATION:Employment Opportunities
ATTACH;FMTTYPE=image/png:https://centralchristian.edu/wp-content/uploads/2020/01/cropped-Profile-Pics-01.png
END:VEVENT
BEGIN:VEVENT
DTSTART;VALUE=DATE:20210809
DTEND;VALUE=DATE:20210810
DTSTAMP:20260420T223450
CREATED:20210610T183326Z
LAST-MODIFIED:20210610T183326Z
UID:5051-1628467200-1628553599@centralchristian.edu
SUMMARY:New Student Registration Day
DESCRIPTION:August 9\, 2021
URL:https://centralchristian.edu/event/new-student-registration-day/
LOCATION:Employment Opportunities
END:VEVENT
BEGIN:VEVENT
DTSTART;VALUE=DATE:20210809
DTEND;VALUE=DATE:20210810
DTSTAMP:20260420T223450
CREATED:20210610T183326Z
LAST-MODIFIED:20210610T183326Z
UID:10864-1628467200-1628553599@centralchristian.edu
SUMMARY:New Student Registration Day
DESCRIPTION:August 9\, 2021
URL:https://centralchristian.edu/event/new-student-registration-day-2/
LOCATION:Employment Opportunities
END:VEVENT
BEGIN:VEVENT
DTSTART;VALUE=DATE:20210810
DTEND;VALUE=DATE:20210811
DTSTAMP:20260420T223450
CREATED:20210610T191625Z
LAST-MODIFIED:20210610T191625Z
UID:11082-1628553600-1628639999@centralchristian.edu
SUMMARY:Returner Registration Day (Evening Classes Begin)
DESCRIPTION:August 10\, 2021
URL:https://centralchristian.edu/event/returner-registration-day-evening-classes-begin-2/
LOCATION:Employment Opportunities
END:VEVENT
BEGIN:VEVENT
DTSTART;VALUE=DATE:20210810
DTEND;VALUE=DATE:20210811
DTSTAMP:20260420T223450
CREATED:20210610T191625Z
LAST-MODIFIED:20210610T191625Z
UID:5054-1628553600-1628639999@centralchristian.edu
SUMMARY:Returner Registration Day (Evening Classes Begin)
DESCRIPTION:August 10\, 2021
URL:https://centralchristian.edu/event/returner-registration-day-evening-classes-begin/
LOCATION:Employment Opportunities
END:VEVENT
BEGIN:VEVENT
DTSTART;VALUE=DATE:20210811
DTEND;VALUE=DATE:20210812
DTSTAMP:20260420T223450
CREATED:20210610T191725Z
LAST-MODIFIED:20210610T191725Z
UID:11083-1628640000-1628726399@centralchristian.edu
SUMMARY:Fall Day Classes Begin
DESCRIPTION:August 11\, 2021
URL:https://centralchristian.edu/event/fall-day-classes-begin-2-2/
LOCATION:Employment Opportunities
END:VEVENT
BEGIN:VEVENT
DTSTART;VALUE=DATE:20210811
DTEND;VALUE=DATE:20210812
DTSTAMP:20260420T223450
CREATED:20210610T191725Z
LAST-MODIFIED:20210610T191725Z
UID:5055-1628640000-1628726399@centralchristian.edu
SUMMARY:Fall Day Classes Begin
DESCRIPTION:August 11\, 2021
URL:https://centralchristian.edu/event/fall-day-classes-begin-2/
LOCATION:Employment Opportunities
END:VEVENT
BEGIN:VEVENT
DTSTART;VALUE=DATE:20210815
DTEND;VALUE=DATE:20210816
DTSTAMP:20260420T223450
CREATED:20200626T210508Z
LAST-MODIFIED:20200626T210508Z
UID:3520-1628985600-1629071999@centralchristian.edu
SUMMARY:Last Day of Summer 2 Online Course/ Summer Term
DESCRIPTION:August 15\, 2021
URL:https://centralchristian.edu/event/last-day-of-summer-2-online-course-summer-term-2/
LOCATION:Employment Opportunities
CATEGORIES:Academic
END:VEVENT
BEGIN:VEVENT
DTSTART;VALUE=DATE:20210815
DTEND;VALUE=DATE:20210816
DTSTAMP:20260420T223450
CREATED:20200626T210508Z
LAST-MODIFIED:20200626T210508Z
UID:11079-1628985600-1629071999@centralchristian.edu
SUMMARY:Last Day of Summer 2 Online Course/ Summer Term
DESCRIPTION:August 15\, 2021
URL:https://centralchristian.edu/event/last-day-of-summer-2-online-course-summer-term-2-2/
LOCATION:Employment Opportunities
CATEGORIES:Academic
END:VEVENT
END:VCALENDAR