BEGIN:VCALENDAR
VERSION:2.0
PRODID:-//Central Christian College - ECPv6.15.20//NONSGML v1.0//EN
CALSCALE:GREGORIAN
METHOD:PUBLISH
X-WR-CALNAME:Central Christian College
X-ORIGINAL-URL:https://centralchristian.edu
X-WR-CALDESC:Events for Central Christian College
REFRESH-INTERVAL;VALUE=DURATION:PT1H
X-Robots-Tag:noindex
X-PUBLISHED-TTL:PT1H
BEGIN:VTIMEZONE
TZID:America/Chicago
BEGIN:DAYLIGHT
TZOFFSETFROM:-0600
TZOFFSETTO:-0500
TZNAME:CDT
DTSTART:20210314T080000
END:DAYLIGHT
BEGIN:STANDARD
TZOFFSETFROM:-0500
TZOFFSETTO:-0600
TZNAME:CST
DTSTART:20211107T070000
END:STANDARD
BEGIN:DAYLIGHT
TZOFFSETFROM:-0600
TZOFFSETTO:-0500
TZNAME:CDT
DTSTART:20220313T080000
END:DAYLIGHT
BEGIN:STANDARD
TZOFFSETFROM:-0500
TZOFFSETTO:-0600
TZNAME:CST
DTSTART:20221106T070000
END:STANDARD
BEGIN:DAYLIGHT
TZOFFSETFROM:-0600
TZOFFSETTO:-0500
TZNAME:CDT
DTSTART:20230312T080000
END:DAYLIGHT
BEGIN:STANDARD
TZOFFSETFROM:-0500
TZOFFSETTO:-0600
TZNAME:CST
DTSTART:20231105T070000
END:STANDARD
BEGIN:DAYLIGHT
TZOFFSETFROM:-0600
TZOFFSETTO:-0500
TZNAME:CDT
DTSTART:20240310T080000
END:DAYLIGHT
BEGIN:STANDARD
TZOFFSETFROM:-0500
TZOFFSETTO:-0600
TZNAME:CST
DTSTART:20241103T070000
END:STANDARD
END:VTIMEZONE
BEGIN:VEVENT
DTSTART;VALUE=DATE:20221212
DTEND;VALUE=DATE:20221216
DTSTAMP:20260420T154925
CREATED:20220127T220402Z
LAST-MODIFIED:20220127T220402Z
UID:6350-1670803200-1671148799@centralchristian.edu
SUMMARY:Assessment/Finals Week
DESCRIPTION:December 12-15 2022
URL:https://centralchristian.edu/event/assessment-finals-week-6/
LOCATION:Employment Opportunities
END:VEVENT
BEGIN:VEVENT
DTSTART;VALUE=DATE:20221212
DTEND;VALUE=DATE:20221216
DTSTAMP:20260420T154925
CREATED:20220127T220402Z
LAST-MODIFIED:20220127T220402Z
UID:11231-1670803200-1671148799@centralchristian.edu
SUMMARY:Assessment/Finals Week
DESCRIPTION:December 12-15 2022
URL:https://centralchristian.edu/event/assessment-finals-week-6-2/
LOCATION:Employment Opportunities
END:VEVENT
BEGIN:VEVENT
DTSTART;VALUE=DATE:20221219
DTEND;VALUE=DATE:20221220
DTSTAMP:20260420T154925
CREATED:20220127T221803Z
LAST-MODIFIED:20220127T221803Z
UID:6360-1671408000-1671494399@centralchristian.edu
SUMMARY:Final Grades Due by 12 p.m. (Noon)
DESCRIPTION:December 19
URL:https://centralchristian.edu/event/final-grades-due-by-12-p-m-noon-8/
LOCATION:Employment Opportunities
END:VEVENT
BEGIN:VEVENT
DTSTART;VALUE=DATE:20221219
DTEND;VALUE=DATE:20221220
DTSTAMP:20260420T154925
CREATED:20220127T221803Z
LAST-MODIFIED:20220127T221803Z
UID:11236-1671408000-1671494399@centralchristian.edu
SUMMARY:Final Grades Due by 12 p.m. (Noon)
DESCRIPTION:December 19
URL:https://centralchristian.edu/event/final-grades-due-by-12-p-m-noon-8-2/
LOCATION:Employment Opportunities
END:VEVENT
BEGIN:VEVENT
DTSTART;VALUE=DATE:20221219
DTEND;VALUE=DATE:20221221
DTSTAMP:20260420T154925
CREATED:20220127T220922Z
LAST-MODIFIED:20220127T220922Z
UID:6355-1671408000-1671580799@centralchristian.edu
SUMMARY:Faculty Assessment Days
DESCRIPTION:December 19-20 2022
URL:https://centralchristian.edu/event/faculty-assessment-days-7/
LOCATION:Employment Opportunities
END:VEVENT
BEGIN:VEVENT
DTSTART;VALUE=DATE:20221219
DTEND;VALUE=DATE:20221221
DTSTAMP:20260420T154925
CREATED:20220127T220922Z
LAST-MODIFIED:20220127T220922Z
UID:11234-1671408000-1671580799@centralchristian.edu
SUMMARY:Faculty Assessment Days
DESCRIPTION:December 19-20 2022
URL:https://centralchristian.edu/event/faculty-assessment-days-7-2/
LOCATION:Employment Opportunities
END:VEVENT
BEGIN:VEVENT
DTSTART;VALUE=DATE:20221225
DTEND;VALUE=DATE:20221226
DTSTAMP:20260420T154925
CREATED:20220412T233751Z
LAST-MODIFIED:20220412T233751Z
UID:6832-1671926400-1672012799@centralchristian.edu
SUMMARY:Fall 4 Online Course Ends
DESCRIPTION:December 25th
URL:https://centralchristian.edu/event/fall-4-online-course-ends/
LOCATION:Employment Opportunities
END:VEVENT
BEGIN:VEVENT
DTSTART;VALUE=DATE:20221225
DTEND;VALUE=DATE:20221226
DTSTAMP:20260420T154925
CREATED:20220412T233751Z
LAST-MODIFIED:20220412T233751Z
UID:11376-1671926400-1672012799@centralchristian.edu
SUMMARY:Fall 4 Online Course Ends
DESCRIPTION:December 25th
URL:https://centralchristian.edu/event/fall-4-online-course-ends-2/
LOCATION:Employment Opportunities
END:VEVENT
BEGIN:VEVENT
DTSTART;VALUE=DATE:20230106
DTEND;VALUE=DATE:20230107
DTSTAMP:20260420T154925
CREATED:20220127T222413Z
LAST-MODIFIED:20220127T222413Z
UID:6366-1672963200-1673049599@centralchristian.edu
SUMMARY:Faculty Office Day
DESCRIPTION:January 6
URL:https://centralchristian.edu/event/faculty-office-day-4/
LOCATION:Employment Opportunities
END:VEVENT
BEGIN:VEVENT
DTSTART;VALUE=DATE:20230106
DTEND;VALUE=DATE:20230107
DTSTAMP:20260420T154925
CREATED:20220127T222413Z
LAST-MODIFIED:20220127T222413Z
UID:11238-1672963200-1673049599@centralchristian.edu
SUMMARY:Faculty Office Day
DESCRIPTION:January 6
URL:https://centralchristian.edu/event/faculty-office-day-4-2/
LOCATION:Employment Opportunities
END:VEVENT
BEGIN:VEVENT
DTSTART;VALUE=DATE:20230109
DTEND;VALUE=DATE:20230110
DTSTAMP:20260420T154925
CREATED:20220127T223128Z
LAST-MODIFIED:20220127T223128Z
UID:6371-1673222400-1673308799@centralchristian.edu
SUMMARY:Registration Day For New Students; Last Day To Add A Spring 1 Online Course
DESCRIPTION:January 9
URL:https://centralchristian.edu/event/registration-day-for-new-students-last-day-to-add-a-spring-1-online-course/
LOCATION:Employment Opportunities
END:VEVENT
BEGIN:VEVENT
DTSTART;VALUE=DATE:20230109
DTEND;VALUE=DATE:20230110
DTSTAMP:20260420T154925
CREATED:20220127T223128Z
LAST-MODIFIED:20220127T223128Z
UID:11240-1673222400-1673308799@centralchristian.edu
SUMMARY:Registration Day For New Students; Last Day To Add A Spring 1 Online Course
DESCRIPTION:January 9
URL:https://centralchristian.edu/event/registration-day-for-new-students-last-day-to-add-a-spring-1-online-course-5/
LOCATION:Employment Opportunities
END:VEVENT
BEGIN:VEVENT
DTSTART;VALUE=DATE:20230109
DTEND;VALUE=DATE:20230110
DTSTAMP:20260420T154925
CREATED:20220127T223934Z
LAST-MODIFIED:20220127T223934Z
UID:6376-1673222400-1673308799@centralchristian.edu
SUMMARY:First Day Of Classes (Online And Evening)
DESCRIPTION:January 9
URL:https://centralchristian.edu/event/first-day-of-classes-online-and-evening-3/
LOCATION:Employment Opportunities
END:VEVENT
BEGIN:VEVENT
DTSTART;VALUE=DATE:20230109
DTEND;VALUE=DATE:20230110
DTSTAMP:20260420T154925
CREATED:20220127T223934Z
LAST-MODIFIED:20220127T223934Z
UID:11244-1673222400-1673308799@centralchristian.edu
SUMMARY:First Day Of Classes (Online And Evening)
DESCRIPTION:January 9
URL:https://centralchristian.edu/event/first-day-of-classes-online-and-evening-3-2/
LOCATION:Employment Opportunities
END:VEVENT
BEGIN:VEVENT
DTSTART;VALUE=DATE:20230110
DTEND;VALUE=DATE:20230111
DTSTAMP:20260420T154925
CREATED:20220127T224531Z
LAST-MODIFIED:20220127T224531Z
UID:6381-1673308800-1673395199@centralchristian.edu
SUMMARY:First Day Of Daytime Classes
DESCRIPTION:January 10
URL:https://centralchristian.edu/event/first-day-of-daytime-classes-4/
LOCATION:Employment Opportunities
END:VEVENT
BEGIN:VEVENT
DTSTART;VALUE=DATE:20230110
DTEND;VALUE=DATE:20230111
DTSTAMP:20260420T154925
CREATED:20220127T224531Z
LAST-MODIFIED:20220127T224531Z
UID:11247-1673308800-1673395199@centralchristian.edu
SUMMARY:First Day Of Daytime Classes
DESCRIPTION:January 10
URL:https://centralchristian.edu/event/first-day-of-daytime-classes-4-2/
LOCATION:Employment Opportunities
END:VEVENT
BEGIN:VEVENT
DTSTART;VALUE=DATE:20230110
DTEND;VALUE=DATE:20230111
DTSTAMP:20260420T154925
CREATED:20220127T224851Z
LAST-MODIFIED:20220127T224851Z
UID:6386-1673308800-1673395199@centralchristian.edu
SUMMARY:Annual Business Drive
DESCRIPTION:January 10
URL:https://centralchristian.edu/event/annual-business-drive/
LOCATION:Employment Opportunities
END:VEVENT
BEGIN:VEVENT
DTSTART;VALUE=DATE:20230110
DTEND;VALUE=DATE:20230111
DTSTAMP:20260420T154925
CREATED:20220127T224851Z
LAST-MODIFIED:20220127T224851Z
UID:11250-1673308800-1673395199@centralchristian.edu
SUMMARY:Annual Business Drive
DESCRIPTION:January 10
URL:https://centralchristian.edu/event/annual-business-drive-4/
LOCATION:Employment Opportunities
END:VEVENT
BEGIN:VEVENT
DTSTART;VALUE=DATE:20230115
DTEND;VALUE=DATE:20230116
DTSTAMP:20260420T154925
CREATED:20220127T225210Z
LAST-MODIFIED:20220127T225210Z
UID:6391-1673740800-1673827199@centralchristian.edu
SUMMARY:Last Day To Add A Full Semester Course For Credit
DESCRIPTION:January 15
URL:https://centralchristian.edu/event/last-day-to-add-a-full-semester-course-for-credit/
LOCATION:Employment Opportunities
END:VEVENT
BEGIN:VEVENT
DTSTART;VALUE=DATE:20230115
DTEND;VALUE=DATE:20230116
DTSTAMP:20260420T154925
CREATED:20220127T225210Z
LAST-MODIFIED:20220127T225210Z
UID:11253-1673740800-1673827199@centralchristian.edu
SUMMARY:Last Day To Add A Full Semester Course For Credit
DESCRIPTION:January 15
URL:https://centralchristian.edu/event/last-day-to-add-a-full-semester-course-for-credit-4/
LOCATION:Employment Opportunities
END:VEVENT
BEGIN:VEVENT
DTSTART;VALUE=DATE:20230116
DTEND;VALUE=DATE:20230117
DTSTAMP:20260420T154925
CREATED:20220127T225547Z
LAST-MODIFIED:20220127T225547Z
UID:6396-1673827200-1673913599@centralchristian.edu
SUMMARY:Martin Luther King Jr. Day (No Classes) 
DESCRIPTION:January 16
URL:https://centralchristian.edu/event/martin-luther-king-jr-day-no-classes-4/
LOCATION:Employment Opportunities
END:VEVENT
BEGIN:VEVENT
DTSTART;VALUE=DATE:20230116
DTEND;VALUE=DATE:20230117
DTSTAMP:20260420T154925
CREATED:20220127T225547Z
LAST-MODIFIED:20220127T225547Z
UID:11256-1673827200-1673913599@centralchristian.edu
SUMMARY:Martin Luther King Jr. Day (No Classes) 
DESCRIPTION:January 16
URL:https://centralchristian.edu/event/martin-luther-king-jr-day-no-classes-4-2/
LOCATION:Employment Opportunities
END:VEVENT
BEGIN:VEVENT
DTSTART;VALUE=DATE:20230129
DTEND;VALUE=DATE:20230130
DTSTAMP:20260420T154925
CREATED:20220131T050357Z
LAST-MODIFIED:20220131T050357Z
UID:6406-1674950400-1675036799@centralchristian.edu
SUMMARY:Last Day To Drop A Spring 1 Online Course With A W
DESCRIPTION:January 29
URL:https://centralchristian.edu/event/last-day-to-drop-a-spring-1-online-course-with-a-w-4/
LOCATION:Employment Opportunities
END:VEVENT
BEGIN:VEVENT
DTSTART;VALUE=DATE:20230129
DTEND;VALUE=DATE:20230130
DTSTAMP:20260420T154925
CREATED:20220131T050357Z
LAST-MODIFIED:20220131T050357Z
UID:11260-1674950400-1675036799@centralchristian.edu
SUMMARY:Last Day To Drop A Spring 1 Online Course With A W
DESCRIPTION:January 29
URL:https://centralchristian.edu/event/last-day-to-drop-a-spring-1-online-course-with-a-w-4-2/
LOCATION:Employment Opportunities
END:VEVENT
BEGIN:VEVENT
DTSTART;VALUE=DATE:20230201
DTEND;VALUE=DATE:20230202
DTSTAMP:20260420T154925
CREATED:20221011T220737Z
LAST-MODIFIED:20221011T220737Z
UID:7378-1675209600-1675295999@centralchristian.edu
SUMMARY:Chaney Lecture Series | Timothy A. Gabrielson
DESCRIPTION:Chaney Lecture Series | Timothy A. Gabrielson \nTimothy A. Gabrielson (Ph.D.\, Marquette University) is Assistant Professor of Biblical Studies at Sterling College. His research interests include the literature of Paul and James\, images of Adam and Eve in Second Temple Judaism\, and the use of the scriptures of Israel in early Christianity. He has published articles in Journal for the Study of the New Testament\, Catholic Biblical Quarterly\, and Christian Scholar’s Review\, among others\, and he is currently writing Tailoring Scripture with Citation Formulae: Clues about Early Christian Views of God\, Scripture\, and Exegesis (Lexington Books). Tim\, his wife\, and son enjoy living in the wheat fields of Kansas\, but he misses the mountains of Colorado\, where he was born and raised.
URL:https://centralchristian.edu/event/chaney-lecture-series-timothy-a-gabrielson/
LOCATION:Student Access Portal
CATEGORIES:Academic
ATTACH;FMTTYPE=image/jpeg:https://centralchristian.edu/wp-content/uploads/2022/10/Timothy-Gabrielson-scaled-1.jpg
END:VEVENT
BEGIN:VEVENT
DTSTART;VALUE=DATE:20230201
DTEND;VALUE=DATE:20230202
DTSTAMP:20260420T154925
CREATED:20221011T220737Z
LAST-MODIFIED:20221011T220737Z
UID:10894-1675209600-1675295999@centralchristian.edu
SUMMARY:Chaney Lecture Series | Timothy A. Gabrielson
DESCRIPTION:Chaney Lecture Series | Timothy A. Gabrielson \nTimothy A. Gabrielson (Ph.D.\, Marquette University) is Assistant Professor of Biblical Studies at Sterling College. His research interests include the literature of Paul and James\, images of Adam and Eve in Second Temple Judaism\, and the use of the scriptures of Israel in early Christianity. He has published articles in Journal for the Study of the New Testament\, Catholic Biblical Quarterly\, and Christian Scholar’s Review\, among others\, and he is currently writing Tailoring Scripture with Citation Formulae: Clues about Early Christian Views of God\, Scripture\, and Exegesis (Lexington Books). Tim\, his wife\, and son enjoy living in the wheat fields of Kansas\, but he misses the mountains of Colorado\, where he was born and raised.
URL:https://centralchristian.edu/event/chaney-lecture-series-timothy-a-gabrielson-2/
LOCATION:Student Access Portal
CATEGORIES:Academic
ATTACH;FMTTYPE=image/jpeg:https://centralchristian.edu/wp-content/uploads/2022/10/Timothy-Gabrielson-scaled-1.jpg
END:VEVENT
BEGIN:VEVENT
DTSTART;VALUE=DATE:20230207
DTEND;VALUE=DATE:20230208
DTSTAMP:20260420T154925
CREATED:20220203T080933Z
LAST-MODIFIED:20220203T080933Z
UID:6430-1675728000-1675814399@centralchristian.edu
SUMMARY:Enrollment Reporting Day
DESCRIPTION:February 7
URL:https://centralchristian.edu/event/enrollment-reporting-day-4/
LOCATION:Employment Opportunities
END:VEVENT
BEGIN:VEVENT
DTSTART;VALUE=DATE:20230207
DTEND;VALUE=DATE:20230208
DTSTAMP:20260420T154925
CREATED:20220203T080933Z
LAST-MODIFIED:20220203T080933Z
UID:11263-1675728000-1675814399@centralchristian.edu
SUMMARY:Enrollment Reporting Day
DESCRIPTION:February 7
URL:https://centralchristian.edu/event/enrollment-reporting-day-4-2/
LOCATION:Employment Opportunities
END:VEVENT
BEGIN:VEVENT
DTSTART;VALUE=DATE:20230219
DTEND;VALUE=DATE:20230220
DTSTAMP:20260420T154925
CREATED:20220203T082406Z
LAST-MODIFIED:20220203T082406Z
UID:6436-1676764800-1676851199@centralchristian.edu
SUMMARY:Spring 1 Online Course Ends
DESCRIPTION:February 19
URL:https://centralchristian.edu/event/spring-1-online-course-ends-4/
LOCATION:Employment Opportunities
END:VEVENT
BEGIN:VEVENT
DTSTART;VALUE=DATE:20230219
DTEND;VALUE=DATE:20230220
DTSTAMP:20260420T154925
CREATED:20220203T082406Z
LAST-MODIFIED:20220203T082406Z
UID:11265-1676764800-1676851199@centralchristian.edu
SUMMARY:Spring 1 Online Course Ends
DESCRIPTION:February 19
URL:https://centralchristian.edu/event/spring-1-online-course-ends-4-2/
LOCATION:Employment Opportunities
END:VEVENT
END:VCALENDAR