BEGIN:VCALENDAR
VERSION:2.0
PRODID:-//Central Christian College - ECPv6.15.20//NONSGML v1.0//EN
CALSCALE:GREGORIAN
METHOD:PUBLISH
X-WR-CALNAME:Central Christian College
X-ORIGINAL-URL:https://centralchristian.edu
X-WR-CALDESC:Events for Central Christian College
REFRESH-INTERVAL;VALUE=DURATION:PT1H
X-Robots-Tag:noindex
X-PUBLISHED-TTL:PT1H
BEGIN:VTIMEZONE
TZID:America/New_York
BEGIN:DAYLIGHT
TZOFFSETFROM:-0500
TZOFFSETTO:-0400
TZNAME:EDT
DTSTART:20200308T070000
END:DAYLIGHT
BEGIN:STANDARD
TZOFFSETFROM:-0400
TZOFFSETTO:-0500
TZNAME:EST
DTSTART:20201101T060000
END:STANDARD
BEGIN:DAYLIGHT
TZOFFSETFROM:-0500
TZOFFSETTO:-0400
TZNAME:EDT
DTSTART:20210314T070000
END:DAYLIGHT
BEGIN:STANDARD
TZOFFSETFROM:-0400
TZOFFSETTO:-0500
TZNAME:EST
DTSTART:20211107T060000
END:STANDARD
BEGIN:DAYLIGHT
TZOFFSETFROM:-0500
TZOFFSETTO:-0400
TZNAME:EDT
DTSTART:20220313T070000
END:DAYLIGHT
BEGIN:STANDARD
TZOFFSETFROM:-0400
TZOFFSETTO:-0500
TZNAME:EST
DTSTART:20221106T060000
END:STANDARD
END:VTIMEZONE
BEGIN:VEVENT
DTSTART;VALUE=DATE:20210426
DTEND;VALUE=DATE:20210430
DTSTAMP:20260420T205045
CREATED:20200626T204033Z
LAST-MODIFIED:20200626T204033Z
UID:3473-1619395200-1619740799@centralchristian.edu
SUMMARY:Assessment/Finals Week
DESCRIPTION:
URL:https://centralchristian.edu/event/assessment-finals-week-3/
CATEGORIES:Academic
ATTACH;FMTTYPE=image/png:https://centralchristian.edu/wp-content/uploads/2020/01/Profile-Pics-01.png
END:VEVENT
BEGIN:VEVENT
DTSTART;VALUE=DATE:20210426
DTEND;VALUE=DATE:20210430
DTSTAMP:20260420T205045
CREATED:20200626T204033Z
LAST-MODIFIED:20200626T204033Z
UID:11057-1619395200-1619740799@centralchristian.edu
SUMMARY:Assessment/Finals Week
DESCRIPTION:
URL:https://centralchristian.edu/event/assessment-finals-week-3-2/
CATEGORIES:Academic
ATTACH;FMTTYPE=image/png:https://centralchristian.edu/wp-content/uploads/2020/01/Profile-Pics-01.png
END:VEVENT
BEGIN:VEVENT
DTSTART;VALUE=DATE:20210430
DTEND;VALUE=DATE:20210501
DTSTAMP:20260420T205045
CREATED:20200626T204933Z
LAST-MODIFIED:20200626T204933Z
UID:11063-1619740800-1619827199@centralchristian.edu
SUMMARY:Last Day to add a Summer 1 Online Course
DESCRIPTION:
URL:https://centralchristian.edu/event/last-day-to-add-a-summer-1-online-course-2/
CATEGORIES:Academic
END:VEVENT
BEGIN:VEVENT
DTSTART;VALUE=DATE:20210430
DTEND;VALUE=DATE:20210501
DTSTAMP:20260420T205045
CREATED:20200626T204933Z
LAST-MODIFIED:20200626T204933Z
UID:3488-1619740800-1619827199@centralchristian.edu
SUMMARY:Last Day to add a Summer 1 Online Course
DESCRIPTION:
URL:https://centralchristian.edu/event/last-day-to-add-a-summer-1-online-course/
CATEGORIES:Academic
END:VEVENT
BEGIN:VEVENT
DTSTART;VALUE=DATE:20210430
DTEND;VALUE=DATE:20210502
DTSTAMP:20260420T205045
CREATED:20200626T204128Z
LAST-MODIFIED:20200626T204128Z
UID:3475-1619740800-1619913599@centralchristian.edu
SUMMARY:Baccalaureate – Commencement
DESCRIPTION:
URL:https://centralchristian.edu/event/baccalaureate-commencement-2/
CATEGORIES:Academic
ATTACH;FMTTYPE=image/png:https://centralchristian.edu/wp-content/uploads/2020/01/Profile-Pics-01.png
END:VEVENT
BEGIN:VEVENT
DTSTART;VALUE=DATE:20210430
DTEND;VALUE=DATE:20210502
DTSTAMP:20260420T205045
CREATED:20200626T204128Z
LAST-MODIFIED:20200626T204128Z
UID:11058-1619740800-1619913599@centralchristian.edu
SUMMARY:Baccalaureate – Commencement
DESCRIPTION:
URL:https://centralchristian.edu/event/baccalaureate-commencement-2-2/
CATEGORIES:Academic
ATTACH;FMTTYPE=image/png:https://centralchristian.edu/wp-content/uploads/2020/01/Profile-Pics-01.png
END:VEVENT
BEGIN:VEVENT
DTSTART;VALUE=DATE:20210430
DTEND;VALUE=DATE:20210502
DTSTAMP:20260420T205045
CREATED:20201201T231549Z
LAST-MODIFIED:20201201T231549Z
UID:4435-1619740800-1619913599@centralchristian.edu
SUMMARY:Graduation Weekend
DESCRIPTION:
URL:https://centralchristian.edu/event/graduation-weekend/
CATEGORIES:Academic
END:VEVENT
BEGIN:VEVENT
DTSTART;VALUE=DATE:20210430
DTEND;VALUE=DATE:20210502
DTSTAMP:20260420T205045
CREATED:20201201T231549Z
LAST-MODIFIED:20201201T231549Z
UID:10863-1619740800-1619913599@centralchristian.edu
SUMMARY:Graduation Weekend
DESCRIPTION:
URL:https://centralchristian.edu/event/graduation-weekend-2/
CATEGORIES:Academic
END:VEVENT
BEGIN:VEVENT
DTSTART;VALUE=DATE:20210503
DTEND;VALUE=DATE:20210504
DTSTAMP:20260420T205045
CREATED:20200626T204350Z
LAST-MODIFIED:20200626T204350Z
UID:11060-1620000000-1620086399@centralchristian.edu
SUMMARY:Final Grades Due by 12 p.m. (noon)
DESCRIPTION:
URL:https://centralchristian.edu/event/final-grades-due-by-12-p-m-noon-4-2/
CATEGORIES:Academic
ATTACH;FMTTYPE=image/png:https://centralchristian.edu/wp-content/uploads/2020/01/Profile-Pics-01.png
END:VEVENT
BEGIN:VEVENT
DTSTART;VALUE=DATE:20210503
DTEND;VALUE=DATE:20210504
DTSTAMP:20260420T205045
CREATED:20200626T204350Z
LAST-MODIFIED:20200626T204350Z
UID:3480-1620000000-1620086399@centralchristian.edu
SUMMARY:Final Grades Due by 12 p.m. (noon)
DESCRIPTION:
URL:https://centralchristian.edu/event/final-grades-due-by-12-p-m-noon-4/
CATEGORIES:Academic
ATTACH;FMTTYPE=image/png:https://centralchristian.edu/wp-content/uploads/2020/01/Profile-Pics-01.png
END:VEVENT
BEGIN:VEVENT
DTSTART;VALUE=DATE:20210503
DTEND;VALUE=DATE:20210504
DTSTAMP:20260420T205045
CREATED:20200626T205105Z
LAST-MODIFIED:20200626T205105Z
UID:3490-1620000000-1620086399@centralchristian.edu
SUMMARY:Summer Term/ May Term Begins
DESCRIPTION:
URL:https://centralchristian.edu/event/summer-term-may-term-begins-2/
CATEGORIES:Academic
ATTACH;FMTTYPE=image/png:https://centralchristian.edu/wp-content/uploads/2020/01/Profile-Pics-01.png
END:VEVENT
BEGIN:VEVENT
DTSTART;VALUE=DATE:20210503
DTEND;VALUE=DATE:20210504
DTSTAMP:20260420T205045
CREATED:20200626T205105Z
LAST-MODIFIED:20200626T205105Z
UID:11064-1620000000-1620086399@centralchristian.edu
SUMMARY:Summer Term/ May Term Begins
DESCRIPTION:
URL:https://centralchristian.edu/event/summer-term-may-term-begins-2-2/
CATEGORIES:Academic
ATTACH;FMTTYPE=image/png:https://centralchristian.edu/wp-content/uploads/2020/01/Profile-Pics-01.png
END:VEVENT
BEGIN:VEVENT
DTSTART;VALUE=DATE:20210503
DTEND;VALUE=DATE:20210505
DTSTAMP:20260420T205045
CREATED:20200626T204302Z
LAST-MODIFIED:20200626T204302Z
UID:3478-1620000000-1620172799@centralchristian.edu
SUMMARY:Faculty Assessment Days
DESCRIPTION:
URL:https://centralchristian.edu/event/faculty-assessment-days-4/
CATEGORIES:Academic
ATTACH;FMTTYPE=image/png:https://centralchristian.edu/wp-content/uploads/2020/01/Profile-Pics-01.png
END:VEVENT
BEGIN:VEVENT
DTSTART;VALUE=DATE:20210503
DTEND;VALUE=DATE:20210505
DTSTAMP:20260420T205045
CREATED:20200626T204302Z
LAST-MODIFIED:20200626T204302Z
UID:11059-1620000000-1620172799@centralchristian.edu
SUMMARY:Faculty Assessment Days
DESCRIPTION:
URL:https://centralchristian.edu/event/faculty-assessment-days-4-2/
CATEGORIES:Academic
ATTACH;FMTTYPE=image/png:https://centralchristian.edu/wp-content/uploads/2020/01/Profile-Pics-01.png
END:VEVENT
BEGIN:VEVENT
DTSTART;VALUE=DATE:20210509
DTEND;VALUE=DATE:20210510
DTSTAMP:20260420T205045
CREATED:20200626T205601Z
LAST-MODIFIED:20200626T205601Z
UID:3496-1620518400-1620604799@centralchristian.edu
SUMMARY:Last Day to Add a Summer Course for Credit
DESCRIPTION:
URL:https://centralchristian.edu/event/last-day-to-add-a-summer-course-for-credit-2/
CATEGORIES:Academic
ATTACH;FMTTYPE=image/png:https://centralchristian.edu/wp-content/uploads/2020/01/Profile-Pics-01.png
END:VEVENT
BEGIN:VEVENT
DTSTART;VALUE=DATE:20210509
DTEND;VALUE=DATE:20210510
DTSTAMP:20260420T205045
CREATED:20200626T205601Z
LAST-MODIFIED:20200626T205601Z
UID:11067-1620518400-1620604799@centralchristian.edu
SUMMARY:Last Day to Add a Summer Course for Credit
DESCRIPTION:
URL:https://centralchristian.edu/event/last-day-to-add-a-summer-course-for-credit-2-2/
CATEGORIES:Academic
ATTACH;FMTTYPE=image/png:https://centralchristian.edu/wp-content/uploads/2020/01/Profile-Pics-01.png
END:VEVENT
BEGIN:VEVENT
DTSTART;VALUE=DATE:20210510
DTEND;VALUE=DATE:20210511
DTSTAMP:20260420T205045
CREATED:20200626T205640Z
LAST-MODIFIED:20200626T205640Z
UID:11068-1620604800-1620691199@centralchristian.edu
SUMMARY:Summer 1 Online Course Begins
DESCRIPTION:
URL:https://centralchristian.edu/event/summer-1-online-course-begins-2-2/
CATEGORIES:Academic
ATTACH;FMTTYPE=image/png:https://centralchristian.edu/wp-content/uploads/2020/01/Profile-Pics-01.png
END:VEVENT
BEGIN:VEVENT
DTSTART;VALUE=DATE:20210510
DTEND;VALUE=DATE:20210511
DTSTAMP:20260420T205045
CREATED:20200626T205640Z
LAST-MODIFIED:20200626T205640Z
UID:3498-1620604800-1620691199@centralchristian.edu
SUMMARY:Summer 1 Online Course Begins
DESCRIPTION:
URL:https://centralchristian.edu/event/summer-1-online-course-begins-2/
CATEGORIES:Academic
ATTACH;FMTTYPE=image/png:https://centralchristian.edu/wp-content/uploads/2020/01/Profile-Pics-01.png
END:VEVENT
BEGIN:VEVENT
DTSTART;VALUE=DATE:20210514
DTEND;VALUE=DATE:20210515
DTSTAMP:20260420T205045
CREATED:20200626T205242Z
LAST-MODIFIED:20200626T205242Z
UID:3494-1620950400-1621036799@centralchristian.edu
SUMMARY:All Schools Day (No Classes)
DESCRIPTION:
URL:https://centralchristian.edu/event/all-schools-day-no-classes-2/
CATEGORIES:Academic
ATTACH;FMTTYPE=image/png:https://centralchristian.edu/wp-content/uploads/2020/01/Profile-Pics-01.png
END:VEVENT
BEGIN:VEVENT
DTSTART;VALUE=DATE:20210514
DTEND;VALUE=DATE:20210515
DTSTAMP:20260420T205045
CREATED:20200626T205242Z
LAST-MODIFIED:20200626T205242Z
UID:11066-1620950400-1621036799@centralchristian.edu
SUMMARY:All Schools Day (No Classes)
DESCRIPTION:
URL:https://centralchristian.edu/event/all-schools-day-no-classes-2-2/
CATEGORIES:Academic
ATTACH;FMTTYPE=image/png:https://centralchristian.edu/wp-content/uploads/2020/01/Profile-Pics-01.png
END:VEVENT
BEGIN:VEVENT
DTSTART;VALUE=DATE:20210521
DTEND;VALUE=DATE:20210522
DTSTAMP:20260420T205045
CREATED:20200626T205720Z
LAST-MODIFIED:20200626T205720Z
UID:11069-1621555200-1621641599@centralchristian.edu
SUMMARY:End of May Term
DESCRIPTION:
URL:https://centralchristian.edu/event/end-of-may-term-2-2/
CATEGORIES:Academic
ATTACH;FMTTYPE=image/png:https://centralchristian.edu/wp-content/uploads/2020/01/Profile-Pics-01.png
END:VEVENT
BEGIN:VEVENT
DTSTART;VALUE=DATE:20210521
DTEND;VALUE=DATE:20210522
DTSTAMP:20260420T205045
CREATED:20200626T205720Z
LAST-MODIFIED:20200626T205720Z
UID:3500-1621555200-1621641599@centralchristian.edu
SUMMARY:End of May Term
DESCRIPTION:
URL:https://centralchristian.edu/event/end-of-may-term-2/
CATEGORIES:Academic
ATTACH;FMTTYPE=image/png:https://centralchristian.edu/wp-content/uploads/2020/01/Profile-Pics-01.png
END:VEVENT
BEGIN:VEVENT
DTSTART;VALUE=DATE:20210530
DTEND;VALUE=DATE:20210531
DTSTAMP:20260420T205045
CREATED:20200626T205851Z
LAST-MODIFIED:20200626T205851Z
UID:3504-1622332800-1622419199@centralchristian.edu
SUMMARY:Last Day to Drop a Summer 1 Online Course With a W
DESCRIPTION:
URL:https://centralchristian.edu/event/last-day-to-drop-a-summer-1-online-course-with-a-w-2/
CATEGORIES:Academic
ATTACH;FMTTYPE=image/png:https://centralchristian.edu/wp-content/uploads/2020/01/Profile-Pics-01.png
END:VEVENT
BEGIN:VEVENT
DTSTART;VALUE=DATE:20210530
DTEND;VALUE=DATE:20210531
DTSTAMP:20260420T205045
CREATED:20200626T205851Z
LAST-MODIFIED:20200626T205851Z
UID:11071-1622332800-1622419199@centralchristian.edu
SUMMARY:Last Day to Drop a Summer 1 Online Course With a W
DESCRIPTION:
URL:https://centralchristian.edu/event/last-day-to-drop-a-summer-1-online-course-with-a-w-2-2/
CATEGORIES:Academic
ATTACH;FMTTYPE=image/png:https://centralchristian.edu/wp-content/uploads/2020/01/Profile-Pics-01.png
END:VEVENT
BEGIN:VEVENT
DTSTART;VALUE=DATE:20210531
DTEND;VALUE=DATE:20210601
DTSTAMP:20260420T205045
CREATED:20200626T205809Z
LAST-MODIFIED:20200626T205809Z
UID:3502-1622419200-1622505599@centralchristian.edu
SUMMARY:Memorial Day (No Classes)
DESCRIPTION:
URL:https://centralchristian.edu/event/memorial-day-no-classes-2/
CATEGORIES:Academic
ATTACH;FMTTYPE=image/png:https://centralchristian.edu/wp-content/uploads/2020/01/Profile-Pics-01.png
END:VEVENT
BEGIN:VEVENT
DTSTART;VALUE=DATE:20210531
DTEND;VALUE=DATE:20210601
DTSTAMP:20260420T205045
CREATED:20200626T205809Z
LAST-MODIFIED:20200626T205809Z
UID:11070-1622419200-1622505599@centralchristian.edu
SUMMARY:Memorial Day (No Classes)
DESCRIPTION:
URL:https://centralchristian.edu/event/memorial-day-no-classes-2-2/
CATEGORIES:Academic
ATTACH;FMTTYPE=image/png:https://centralchristian.edu/wp-content/uploads/2020/01/Profile-Pics-01.png
END:VEVENT
BEGIN:VEVENT
DTSTART;VALUE=DATE:20210620
DTEND;VALUE=DATE:20210621
DTSTAMP:20260420T205045
CREATED:20200626T210100Z
LAST-MODIFIED:20200626T210100Z
UID:3508-1624147200-1624233599@centralchristian.edu
SUMMARY:Summer 1 Online Course Ends
DESCRIPTION:
URL:https://centralchristian.edu/event/summer-1-online-course-ends-2/
LOCATION:Employment Opportunities
CATEGORIES:Academic
END:VEVENT
BEGIN:VEVENT
DTSTART;VALUE=DATE:20210620
DTEND;VALUE=DATE:20210621
DTSTAMP:20260420T205045
CREATED:20200626T210100Z
LAST-MODIFIED:20200626T210100Z
UID:11073-1624147200-1624233599@centralchristian.edu
SUMMARY:Summer 1 Online Course Ends
DESCRIPTION:
URL:https://centralchristian.edu/event/summer-1-online-course-ends-2-2/
LOCATION:Employment Opportunities
CATEGORIES:Academic
END:VEVENT
BEGIN:VEVENT
DTSTART;VALUE=DATE:20210625
DTEND;VALUE=DATE:20210626
DTSTAMP:20260420T205045
CREATED:20200626T210026Z
LAST-MODIFIED:20200626T210026Z
UID:3506-1624579200-1624665599@centralchristian.edu
SUMMARY:Summer Mid Term
DESCRIPTION:
URL:https://centralchristian.edu/event/summer-mid-term/
LOCATION:Employment Opportunities
CATEGORIES:Academic
END:VEVENT
BEGIN:VEVENT
DTSTART;VALUE=DATE:20210625
DTEND;VALUE=DATE:20210626
DTSTAMP:20260420T205045
CREATED:20200626T210026Z
LAST-MODIFIED:20200626T210026Z
UID:11072-1624579200-1624665599@centralchristian.edu
SUMMARY:Summer Mid Term
DESCRIPTION:
URL:https://centralchristian.edu/event/summer-mid-term-2/
LOCATION:Employment Opportunities
CATEGORIES:Academic
END:VEVENT
END:VCALENDAR