BEGIN:VCALENDAR
VERSION:2.0
PRODID:-//Central Christian College - ECPv6.15.20//NONSGML v1.0//EN
CALSCALE:GREGORIAN
METHOD:PUBLISH
X-WR-CALNAME:Central Christian College
X-ORIGINAL-URL:https://centralchristian.edu
X-WR-CALDESC:Events for Central Christian College
REFRESH-INTERVAL;VALUE=DURATION:PT1H
X-Robots-Tag:noindex
X-PUBLISHED-TTL:PT1H
BEGIN:VTIMEZONE
TZID:America/New_York
BEGIN:DAYLIGHT
TZOFFSETFROM:-0500
TZOFFSETTO:-0400
TZNAME:EDT
DTSTART:20210314T070000
END:DAYLIGHT
BEGIN:STANDARD
TZOFFSETFROM:-0400
TZOFFSETTO:-0500
TZNAME:EST
DTSTART:20211107T060000
END:STANDARD
BEGIN:DAYLIGHT
TZOFFSETFROM:-0500
TZOFFSETTO:-0400
TZNAME:EDT
DTSTART:20220313T070000
END:DAYLIGHT
BEGIN:STANDARD
TZOFFSETFROM:-0400
TZOFFSETTO:-0500
TZNAME:EST
DTSTART:20221106T060000
END:STANDARD
BEGIN:DAYLIGHT
TZOFFSETFROM:-0500
TZOFFSETTO:-0400
TZNAME:EDT
DTSTART:20230312T070000
END:DAYLIGHT
BEGIN:STANDARD
TZOFFSETFROM:-0400
TZOFFSETTO:-0500
TZNAME:EST
DTSTART:20231105T060000
END:STANDARD
END:VTIMEZONE
BEGIN:VEVENT
DTSTART;VALUE=DATE:20220711
DTEND;VALUE=DATE:20220712
DTSTAMP:20260420T180305
CREATED:20210610T204219Z
LAST-MODIFIED:20210610T204219Z
UID:11132-1657497600-1657583999@centralchristian.edu
SUMMARY:Summer 2 Online Course Begins
DESCRIPTION:July 11\, 2022
URL:https://centralchristian.edu/event/summer-2-online-course-begins-3-2/
LOCATION:Employment Opportunities
END:VEVENT
BEGIN:VEVENT
DTSTART;VALUE=DATE:20220711
DTEND;VALUE=DATE:20220712
DTSTAMP:20260420T180305
CREATED:20210610T204219Z
LAST-MODIFIED:20210610T204219Z
UID:5106-1657497600-1657583999@centralchristian.edu
SUMMARY:Summer 2 Online Course Begins
DESCRIPTION:July 11\, 2022
URL:https://centralchristian.edu/event/summer-2-online-course-begins-3/
LOCATION:Employment Opportunities
END:VEVENT
BEGIN:VEVENT
DTSTART;VALUE=DATE:20220704
DTEND;VALUE=DATE:20220705
DTSTAMP:20260420T180305
CREATED:20210610T204139Z
LAST-MODIFIED:20210610T204139Z
UID:11131-1656892800-1656979199@centralchristian.edu
SUMMARY:Independence Day Observed (No Classes)
DESCRIPTION:July 4\, 2022
URL:https://centralchristian.edu/event/independence-day-observed-no-classes-3-2/
LOCATION:Employment Opportunities
END:VEVENT
BEGIN:VEVENT
DTSTART;VALUE=DATE:20220704
DTEND;VALUE=DATE:20220705
DTSTAMP:20260420T180305
CREATED:20210610T204139Z
LAST-MODIFIED:20210610T204139Z
UID:5105-1656892800-1656979199@centralchristian.edu
SUMMARY:Independence Day Observed (No Classes)
DESCRIPTION:July 4\, 2022
URL:https://centralchristian.edu/event/independence-day-observed-no-classes-3/
LOCATION:Employment Opportunities
END:VEVENT
BEGIN:VEVENT
DTSTART;VALUE=DATE:20220701
DTEND;VALUE=DATE:20220702
DTSTAMP:20260420T180305
CREATED:20210610T204000Z
LAST-MODIFIED:20210610T204000Z
UID:11129-1656633600-1656719999@centralchristian.edu
SUMMARY:Mid-Term
DESCRIPTION:July 1\, 2022
URL:https://centralchristian.edu/event/mid-term-2-2/
LOCATION:Employment Opportunities
END:VEVENT
BEGIN:VEVENT
DTSTART;VALUE=DATE:20220701
DTEND;VALUE=DATE:20220702
DTSTAMP:20260420T180305
CREATED:20210610T204000Z
LAST-MODIFIED:20210610T204000Z
UID:5103-1656633600-1656719999@centralchristian.edu
SUMMARY:Mid-Term
DESCRIPTION:July 1\, 2022
URL:https://centralchristian.edu/event/mid-term-2/
LOCATION:Employment Opportunities
END:VEVENT
BEGIN:VEVENT
DTSTART;VALUE=DATE:20220626
DTEND;VALUE=DATE:20220627
DTSTAMP:20260420T180305
CREATED:20210610T204049Z
LAST-MODIFIED:20210610T204049Z
UID:11130-1656201600-1656287999@centralchristian.edu
SUMMARY:Summer 1 Online Course Ends
DESCRIPTION:June 26\, 2022
URL:https://centralchristian.edu/event/summer-1-online-course-ends-3-2/
LOCATION:Employment Opportunities
END:VEVENT
BEGIN:VEVENT
DTSTART;VALUE=DATE:20220626
DTEND;VALUE=DATE:20220627
DTSTAMP:20260420T180305
CREATED:20210610T204049Z
LAST-MODIFIED:20210610T204049Z
UID:5104-1656201600-1656287999@centralchristian.edu
SUMMARY:Summer 1 Online Course Ends
DESCRIPTION:June 26\, 2022
URL:https://centralchristian.edu/event/summer-1-online-course-ends-3/
LOCATION:Employment Opportunities
END:VEVENT
BEGIN:VEVENT
DTSTART;VALUE=DATE:20220605
DTEND;VALUE=DATE:20220606
DTSTAMP:20260420T180305
CREATED:20210610T203923Z
LAST-MODIFIED:20210610T203923Z
UID:11128-1654387200-1654473599@centralchristian.edu
SUMMARY:Last Day to Drop a Summer 1 Online Course With a W
DESCRIPTION:June 5\, 2022
URL:https://centralchristian.edu/event/last-day-to-drop-a-summer-1-online-course-with-a-w-3-2/
LOCATION:Employment Opportunities
END:VEVENT
BEGIN:VEVENT
DTSTART;VALUE=DATE:20220605
DTEND;VALUE=DATE:20220606
DTSTAMP:20260420T180305
CREATED:20210610T203923Z
LAST-MODIFIED:20210610T203923Z
UID:5102-1654387200-1654473599@centralchristian.edu
SUMMARY:Last Day to Drop a Summer 1 Online Course With a W
DESCRIPTION:June 5\, 2022
URL:https://centralchristian.edu/event/last-day-to-drop-a-summer-1-online-course-with-a-w-3/
LOCATION:Employment Opportunities
END:VEVENT
BEGIN:VEVENT
DTSTART;VALUE=DATE:20220530
DTEND;VALUE=DATE:20220531
DTSTAMP:20260420T180305
CREATED:20210610T203806Z
LAST-MODIFIED:20210610T203806Z
UID:5101-1653868800-1653955199@centralchristian.edu
SUMMARY:Memorial Day (No Classes)
DESCRIPTION:May 30\, 2022
URL:https://centralchristian.edu/event/memorial-day-no-classes-3/
LOCATION:Employment Opportunities
END:VEVENT
BEGIN:VEVENT
DTSTART;VALUE=DATE:20220530
DTEND;VALUE=DATE:20220531
DTSTAMP:20260420T180305
CREATED:20210610T203806Z
LAST-MODIFIED:20210610T203806Z
UID:11127-1653868800-1653955199@centralchristian.edu
SUMMARY:Memorial Day (No Classes)
DESCRIPTION:May 30\, 2022
URL:https://centralchristian.edu/event/memorial-day-no-classes-3-2/
LOCATION:Employment Opportunities
END:VEVENT
BEGIN:VEVENT
DTSTART;VALUE=DATE:20220527
DTEND;VALUE=DATE:20220528
DTSTAMP:20260420T180305
CREATED:20210610T203727Z
LAST-MODIFIED:20210610T203727Z
UID:11126-1653609600-1653695999@centralchristian.edu
SUMMARY:End of May Term
DESCRIPTION:May 27\, 2022
URL:https://centralchristian.edu/event/end-of-may-term-3-2/
LOCATION:Employment Opportunities
END:VEVENT
BEGIN:VEVENT
DTSTART;VALUE=DATE:20220527
DTEND;VALUE=DATE:20220528
DTSTAMP:20260420T180305
CREATED:20210610T203727Z
LAST-MODIFIED:20210610T203727Z
UID:5100-1653609600-1653695999@centralchristian.edu
SUMMARY:End of May Term
DESCRIPTION:May 27\, 2022
URL:https://centralchristian.edu/event/end-of-may-term-3/
LOCATION:Employment Opportunities
END:VEVENT
BEGIN:VEVENT
DTSTART;VALUE=DATE:20220516
DTEND;VALUE=DATE:20220517
DTSTAMP:20260420T180305
CREATED:20210610T203650Z
LAST-MODIFIED:20210610T203650Z
UID:11125-1652659200-1652745599@centralchristian.edu
SUMMARY:Summer 1 Online Course Begins
DESCRIPTION:May 16\, 2022
URL:https://centralchristian.edu/event/summer-1-online-course-begins-3-2/
LOCATION:Employment Opportunities
END:VEVENT
BEGIN:VEVENT
DTSTART;VALUE=DATE:20220516
DTEND;VALUE=DATE:20220517
DTSTAMP:20260420T180305
CREATED:20210610T203650Z
LAST-MODIFIED:20210610T203650Z
UID:5099-1652659200-1652745599@centralchristian.edu
SUMMARY:Summer 1 Online Course Begins
DESCRIPTION:May 16\, 2022
URL:https://centralchristian.edu/event/summer-1-online-course-begins-3/
LOCATION:Employment Opportunities
END:VEVENT
BEGIN:VEVENT
DTSTART;VALUE=DATE:20220513
DTEND;VALUE=DATE:20220514
DTSTAMP:20260420T180305
CREATED:20210610T203416Z
LAST-MODIFIED:20210610T203416Z
UID:11123-1652400000-1652486399@centralchristian.edu
SUMMARY:All Schools Day (No Classes)
DESCRIPTION:May 13\, 2022
URL:https://centralchristian.edu/event/all-schools-day-no-classes-3-2/
LOCATION:Employment Opportunities
END:VEVENT
BEGIN:VEVENT
DTSTART;VALUE=DATE:20220513
DTEND;VALUE=DATE:20220514
DTSTAMP:20260420T180305
CREATED:20210610T203416Z
LAST-MODIFIED:20210610T203416Z
UID:5097-1652400000-1652486399@centralchristian.edu
SUMMARY:All Schools Day (No Classes)
DESCRIPTION:May 13\, 2022
URL:https://centralchristian.edu/event/all-schools-day-no-classes-3/
LOCATION:Employment Opportunities
END:VEVENT
BEGIN:VEVENT
DTSTART;VALUE=DATE:20220511
DTEND;VALUE=DATE:20220512
DTSTAMP:20260420T180305
CREATED:20210610T203324Z
LAST-MODIFIED:20210610T203324Z
UID:5096-1652227200-1652313599@centralchristian.edu
SUMMARY:Last Day to Drop a May Term Class
DESCRIPTION:May 11\, 2022
URL:https://centralchristian.edu/event/last-day-to-drop-a-may-term-class-3/
LOCATION:Employment Opportunities
END:VEVENT
BEGIN:VEVENT
DTSTART;VALUE=DATE:20220511
DTEND;VALUE=DATE:20220512
DTSTAMP:20260420T180305
CREATED:20210610T203324Z
LAST-MODIFIED:20210610T203324Z
UID:11122-1652227200-1652313599@centralchristian.edu
SUMMARY:Last Day to Drop a May Term Class
DESCRIPTION:May 11\, 2022
URL:https://centralchristian.edu/event/last-day-to-drop-a-may-term-class-3-2/
LOCATION:Employment Opportunities
END:VEVENT
BEGIN:VEVENT
DTSTART;VALUE=DATE:20220509
DTEND;VALUE=DATE:20220511
DTSTAMP:20260420T180305
CREATED:20210610T202708Z
LAST-MODIFIED:20210610T202708Z
UID:11119-1652054400-1652227199@centralchristian.edu
SUMMARY:Faculty Assessment Days
DESCRIPTION:May 9-10\, 2022
URL:https://centralchristian.edu/event/faculty-assessment-days-6-2/
LOCATION:Employment Opportunities
END:VEVENT
BEGIN:VEVENT
DTSTART;VALUE=DATE:20220509
DTEND;VALUE=DATE:20220511
DTSTAMP:20260420T180305
CREATED:20210610T202708Z
LAST-MODIFIED:20210610T202708Z
UID:5093-1652054400-1652227199@centralchristian.edu
SUMMARY:Faculty Assessment Days
DESCRIPTION:May 9-10\, 2022
URL:https://centralchristian.edu/event/faculty-assessment-days-6/
LOCATION:Employment Opportunities
END:VEVENT
BEGIN:VEVENT
DTSTART;VALUE=DATE:20220509
DTEND;VALUE=DATE:20220510
DTSTAMP:20260420T180305
CREATED:20210610T202857Z
LAST-MODIFIED:20210610T202857Z
UID:11121-1652054400-1652140799@centralchristian.edu
SUMMARY:Summer Term / May Term Begins
DESCRIPTION:May 9\, 2022
URL:https://centralchristian.edu/event/summer-term-may-term-begins-3-2/
LOCATION:Employment Opportunities
END:VEVENT
BEGIN:VEVENT
DTSTART;VALUE=DATE:20220509
DTEND;VALUE=DATE:20220510
DTSTAMP:20260420T180305
CREATED:20210610T202857Z
LAST-MODIFIED:20210610T202857Z
UID:5095-1652054400-1652140799@centralchristian.edu
SUMMARY:Summer Term / May Term Begins
DESCRIPTION:May 9\, 2022
URL:https://centralchristian.edu/event/summer-term-may-term-begins-3/
LOCATION:Employment Opportunities
END:VEVENT
BEGIN:VEVENT
DTSTART;VALUE=DATE:20220509
DTEND;VALUE=DATE:20220510
DTSTAMP:20260420T180305
CREATED:20210610T202758Z
LAST-MODIFIED:20210610T202758Z
UID:11120-1652054400-1652140799@centralchristian.edu
SUMMARY:Final Grades Due by 12 p.m. (Noon)
DESCRIPTION:May 9\, 2022
URL:https://centralchristian.edu/event/final-grades-due-by-12-p-m-noon-7-2/
LOCATION:Employment Opportunities
END:VEVENT
BEGIN:VEVENT
DTSTART;VALUE=DATE:20220509
DTEND;VALUE=DATE:20220510
DTSTAMP:20260420T180305
CREATED:20210610T202758Z
LAST-MODIFIED:20210610T202758Z
UID:5094-1652054400-1652140799@centralchristian.edu
SUMMARY:Final Grades Due by 12 p.m. (Noon)
DESCRIPTION:May 9\, 2022
URL:https://centralchristian.edu/event/final-grades-due-by-12-p-m-noon-7/
LOCATION:Employment Opportunities
END:VEVENT
BEGIN:VEVENT
DTSTART;VALUE=DATE:20220506
DTEND;VALUE=DATE:20220508
DTSTAMP:20260420T180305
CREATED:20210610T202624Z
LAST-MODIFIED:20210610T202624Z
UID:11118-1651795200-1651967999@centralchristian.edu
SUMMARY:Baccalaureate - Commencement
DESCRIPTION:May 6-7\, 2022
URL:https://centralchristian.edu/event/baccalaureate-commencement-3-2/
LOCATION:Employment Opportunities
END:VEVENT
BEGIN:VEVENT
DTSTART;VALUE=DATE:20220506
DTEND;VALUE=DATE:20220508
DTSTAMP:20260420T180305
CREATED:20210610T202624Z
LAST-MODIFIED:20210610T202624Z
UID:5092-1651795200-1651967999@centralchristian.edu
SUMMARY:Baccalaureate - Commencement
DESCRIPTION:May 6-7\, 2022
URL:https://centralchristian.edu/event/baccalaureate-commencement-3/
LOCATION:Employment Opportunities
END:VEVENT
BEGIN:VEVENT
DTSTART;VALUE=DATE:20220506
DTEND;VALUE=DATE:20220507
DTSTAMP:20260420T180305
CREATED:20210610T203613Z
LAST-MODIFIED:20210610T203613Z
UID:11124-1651795200-1651881599@centralchristian.edu
SUMMARY:Last Day to Add a Summer Course for Credit
DESCRIPTION:May 6\, 2022
URL:https://centralchristian.edu/event/last-day-to-add-a-summer-course-for-credit-3-2/
LOCATION:Employment Opportunities
END:VEVENT
BEGIN:VEVENT
DTSTART;VALUE=DATE:20220506
DTEND;VALUE=DATE:20220507
DTSTAMP:20260420T180305
CREATED:20210610T203613Z
LAST-MODIFIED:20210610T203613Z
UID:5098-1651795200-1651881599@centralchristian.edu
SUMMARY:Last Day to Add a Summer Course for Credit
DESCRIPTION:May 6\, 2022
URL:https://centralchristian.edu/event/last-day-to-add-a-summer-course-for-credit-3/
LOCATION:Employment Opportunities
END:VEVENT
END:VCALENDAR